{"text_format":"1","workbook":"xlsx","n_sheets":17,"sheets":["szkoły","wyniki","60m","p.pal","wzwyż","w dal","600m","Suma indyw.","I DZIEN","Suma szkół","kolejka","wydruk","woj_ranking","baza","Protokoły","Dane do protokołów","Arkusz1"],"not_rendered":{"charts":0,"images":0,"macros":1,"external_links":0,"defined_names":18,"comments":0,"pivot_tables":0},"unopened":[],"bounds":{"document_bytes":16777216,"sheet_cells":100000,"rows_first":2000,"rows_last":500,"rows_between":2000,"halvings":0,"cell_chars":16384,"cell_head_chars":4096},"cells_cut":0,"cells_raw":0,"read":"whole","date_system":"1900"}

{"sheet":"szkoły","index":0,"n_rows":74,"n_cols":12,"rows_kept":74,"cut":false,"hidden":false,"merged":[[0,1,0,10]]}
[null,"TRÓJBÓJ LEKKOATLETYCZNY DZIEWCZĘTA"]
["Start","SP 234 Kursk","Rok","Start",null,"Rok","Start",null,"Rok","Start",null,"Rok"]
[15,"zawodnik 1",2007]
[23,"zawodnik 2",2007]
[44,"zawodnik 3",2008]
[36,"zawodnik 4",2007]
[76,"zawodnik 5",2007]
[]
[]
["Start",null,"Rok","Start",null,"Rok","Start",null,"Rok","Start",null,"Rok"]
[]
[]
[]
[]
[]
[]
[]
["Start",null,"Rok","Start",null,"Rok","Start",null,"Rok","Start",null,"Rok"]
[]
[]
[]
[]
[]
[]
[]
["Start",null,null,"Start",null,"Rok","Start",null,"Rok","Start",null,"Rok"]
[]
[]
[]
[]
[]
[]
[]
["Start",null,"Rok","Start",null,"Rok","Start",null,"Rok","Start",null,"Rok"]
[]
[]
[]
[]
[]
[]
[]
["Start",null,"Rok","Start",null,"Rok","Start",null,"Rok","Start",null,"Rok"]
[]
[]
[]
[]
[]
[]
[]
["Start",null,"Rok","Start",null,"Rok","Start",null,"Rok","Start",null,"Rok"]
[]
[]
[]
[]
[]
[]
[]
["Start",null,"Rok","Start",null,"Rok","Start",null,"Rok","Start",null,"Rok"]
[]
[]
[]
[]
[]
[]
[]
["Start",null,"Rok","Start",null,"Rok","Start",null,"Rok","Start",null,"Rok"]
[]
[]
[]
[]
[]
[]
[]
["Start",null,"Rok","Start",null,"Rok","Start",null,"Rok","Start",null,"Rok"]

{"sheet":"wyniki","index":1,"n_rows":286,"n_cols":16,"rows_kept":286,"cut":false,"hidden":false,"merged":[[0,0,5,1]]}
["DZIEWCZĘTA",null,{"$f":"A7","v":"SP 234 Kursk"},{"$f":"A14","v":0},{"$f":"A21","v":0},{"$f":"A28","v":0},{"$f":"A35","v":0},{"$f":"A42","v":0},{"$f":"A49","v":0},{"$f":"A56","v":0},{"$f":"A63","v":0},{"$f":"A70","v":0},{"$f":"A77","v":0},{"$f":"A84","v":0}]
[null,null,{"$f":"A91","v":0},{"$f":"A98","v":0},{"$f":"A105","v":0},{"$f":"A112","v":0},{"$f":"A119","v":0},{"$f":"A126","v":0},{"$f":"A133","v":0},{"$f":"A140","v":0},{"$f":"A147","v":0},{"$f":"A154","v":0},{"$f":"A161","v":0},{"$f":"A168","v":0}]
[null,null,{"$f":"A175","v":0},{"$f":"A182","v":0},{"$f":"A189","v":0},{"$f":"A196","v":0},{"$f":"A203","v":0},{"$f":"A210","v":0},{"$f":"A217","v":0},{"$f":"A224","v":0},{"$f":"A231","v":0},{"$f":"A238","v":0},{"$f":"A245","v":0},{"$f":"A252","v":0}]
[null,null,{"$f":"A259","v":0},{"$f":"A266","v":0},{"$f":"A273","v":0},{"$f":"A280","v":0}]
[]
[]
[{"$f":"szkoły!B2","v":"SP 234 Kursk"},"NAZWISKO/IMIĘ","60m","pkt","ppal","pkt","wzwyż","pkt","w dal","pkt","600m","pkt","I DZIEŃ","RAZEM"]
[null,{"$f":"szkoły!B3","v":"zawodnik 1"},11.2,{"$f":"IF(C8>=\"\",0,IF(C8>12.75,0,IF(C8<7.38,(200+(7.38-C8)*100),VLOOKUP(-C8,baza!$E$3:$F$202,2,1))))","v":19},23.5,{"$f":"IF(E8<8,0,IF(E8>77,(200+(E8-77)*2),VLOOKUP(E8,baza!$H$3:$J$202,3,0)))","v":31},null,{"$f":"IF(G8<80,0,IF(G8>179,200+(G8-179),VLOOKUP(G8,baza!$I$1:$J$65536,2,0)))","v":0},234,{"$f":"IF(I8<210,0,IF(I8>593,(200+(I8-593)*2),VLOOKUP(I8,baza!$B$3:$F$202,5,1)))","v":2},null,{"$f":"IF(K8=\"\",0,IF(K8>(-1*baza!$D$3),0,IF(K8<132.11,INT(200+(132.11-K8)*5),VLOOKUP(-K8,baza!$D$1:$F$203,3,1))))","v":0},{"$f":"(D8+F8+H8+J8)","v":52},{"$f":"M8+L8","v":52}]
[null,{"$f":"szkoły!B4","v":"zawodnik 2"},null,{"$f":"IF(C9>=\"\",0,IF(C9>12.75,0,IF(C9<7.38,(200+(7.38-C9)*100),VLOOKUP(-C9,baza!$E$3:$F$202,2,1))))","v":0},null,{"$f":"IF(E9<8,0,IF(E9>77,(200+(E9-77)*2),VLOOKUP(E9,baza!$H$3:$J$202,3,0)))","v":0},null,{"$f":"IF(G9<80,0,IF(G9>179,200+(G9-179),VLOOKUP(G9,baza!$I$1:$J$65536,2,0)))","v":0},null,{"$f":"IF(I9<210,0,IF(I9>593,(200+(I9-593)*2),VLOOKUP(I9,baza!$B$3:$F$202,5,1)))","v":0},null,{"$f":"IF(K9=\"\",0,IF(K9>(-1*baza!$D$3),0,IF(K9<132.11,INT(200+(132.11-K9)*5),VLOOKUP(-K9,baza!$D$1:$F$203,3,1))))","v":0},0,0]
[{"$f":"O13 & \" pkt.\"","v":"52 pkt."},{"$f":"szkoły!B5","v":"zawodnik 3"},null,{"$f":"IF(C10>=\"\",0,IF(C10>12.75,0,IF(C10<7.38,(200+(7.38-C10)*100),VLOOKUP(-C10,baza!$E$3:$F$202,2,1))))","v":0},null,{"$f":"IF(E10<8,0,IF(E10>77,(200+(E10-77)*2),VLOOKUP(E10,baza!$H$3:$J$202,3,0)))","v":0},null,{"$f":"IF(G10<80,0,IF(G10>179,200+(G10-179),VLOOKUP(G10,baza!$I$1:$J$65536,2,0)))","v":0},null,{"$f":"IF(I10<210,0,IF(I10>593,(200+(I10-593)*2),VLOOKUP(I10,baza!$B$3:$F$202,5,1)))","v":0},null,{"$f":"IF(K10=\"\",0,IF(K10>(-1*baza!$D$3),0,IF(K10<132.11,INT(200+(132.11-K10)*5),VLOOKUP(-K10,baza!$D$1:$F$203,3,1))))","v":0},0,0]
[null,{"$f":"szkoły!B6","v":"zawodnik 4"},null,{"$f":"IF(C11>=\"\",0,IF(C11>12.75,0,IF(C11<7.38,(200+(7.38-C11)*100),VLOOKUP(-C11,baza!$E$3:$F$202,2,1))))","v":0},null,{"$f":"IF(E11<8,0,IF(E11>77,(200+(E11-77)*2),VLOOKUP(E11,baza!$H$3:$J$202,3,0)))","v":0},null,{"$f":"IF(G11<80,0,IF(G11>179,200+(G11-179),VLOOKUP(G11,baza!$I$1:$J$65536,2,0)))","v":0},null,{"$f":"IF(I11<210,0,IF(I11>593,(200+(I11-593)*2),VLOOKUP(I11,baza!$B$3:$F$202,5,1)))","v":0},null,{"$f":"IF(K11=\"\",0,IF(K11>(-1*baza!$D$3),0,IF(K11<132.11,INT(200+(132.11-K11)*5),VLOOKUP(-K11,baza!$D$1:$F$203,3,1))))","v":0},0,0]
[null,{"$f":"szkoły!B7","v":"zawodnik 5"},null,{"$f":"IF(C12>=\"\",0,IF(C12>12.75,0,IF(C12<7.38,(200+(7.38-C12)*100),VLOOKUP(-C12,baza!$E$3:$F$202,2,1))))","v":0},null,{"$f":"IF(E12<8,0,IF(E12>77,(200+(E12-77)*2),VLOOKUP(E12,baza!$H$3:$J$202,3,0)))","v":0},null,{"$f":"IF(G12<80,0,IF(G12>179,200+(G12-179),VLOOKUP(G12,baza!$I$1:$J$65536,2,0)))","v":0},null,{"$f":"IF(I12<210,0,IF(I12>593,(200+(I12-593)*2),VLOOKUP(I12,baza!$B$3:$F$202,5,1)))","v":0},null,{"$f":"IF(K12=\"\",0,IF(K12>(-1*baza!$D$3),0,IF(K12<132.11,INT(200+(132.11-K12)*5),VLOOKUP(-K12,baza!$D$1:$F$203,3,1))))","v":0},0,0,{"$f":"SUM(M8:M12)","v":52},"I DZIEŃ"]
[null,{"$f":"szkoły!B8","v":0},null,{"$f":"IF(C13>=\"\",0,IF(C13>12.75,0,IF(C13<7.38,(200+(7.38-C13)*100),VLOOKUP(-C13,baza!$E$3:$F$202,2,1))))","v":0},null,{"$f":"IF(E13<8,0,IF(E13>77,(200+(E13-77)*2),VLOOKUP(E13,baza!$H$3:$J$202,3,0)))","v":0},null,{"$f":"IF(G13<80,0,IF(G13>179,200+(G13-179),VLOOKUP(G13,baza!$I$1:$J$65536,2,0)))","v":0},null,{"$f":"IF(I13<210,0,IF(I13>593,(200+(I13-593)*2),VLOOKUP(I13,baza!$B$3:$F$202,5,1)))","v":0},null,{"$f":"IF(K13=\"\",0,IF(K13>(-1*baza!$D$3),0,IF(K13<132.11,INT(200+(132.11-K13)*5),VLOOKUP(-K13,baza!$D$1:$F$203,3,1))))","v":0},0,0,{"$f":"IF(COUNT(N8:N12)<5,SUM(N8:N12),SUM(N8:N12)-MIN(N8:N12))","v":52},"II DZIEŃ"]
[{"$f":"szkoły!E2","v":0},"NAZWISKO/IMIĘ","60m","pkt","ppal","pkt","wzwyż","pkt","w dal","pkt","600m","pkt","I DZIEŃ","RAZEM"]
[null,{"$f":"szkoły!E3","v":0},null,{"$f":"IF(C15>=\"\",0,IF(C15>12.75,0,IF(C15<7.38,(200+(7.38-C15)*100),VLOOKUP(-C15,baza!$E$3:$F$202,2,1))))","v":0},null,{"$f":"IF(E15<8,0,IF(E15>77,(200+(E15-77)*2),VLOOKUP(E15,baza!$H$3:$J$202,3,0)))","v":0},null,{"$f":"IF(G15<80,0,IF(G15>179,200+(G15-179),VLOOKUP(G15,baza!$I$1:$J$65536,2,0)))","v":0},null,{"$f":"IF(I15<210,0,IF(I15>593,(200+(I15-593)*2),VLOOKUP(I15,baza!$B$3:$F$202,5,1)))","v":0},null,{"$f":"IF(K15=\"\",0,IF(K15>(-1*baza!$D$3),0,IF(K15<132.11,INT(200+(132.11-K15)*5),VLOOKUP(-K15,baza!$D$1:$F$203,3,1))))","v":0},{"$f":"(D15+F15+H15+J15)","v":0},{"$f":"M15+L15","v":0}]
[null,{"$f":"szkoły!E4","v":0},null,{"$f":"IF(C16>=\"\",0,IF(C16>12.75,0,IF(C16<7.38,(200+(7.38-C16)*100),VLOOKUP(-C16,baza!$E$3:$F$202,2,1))))","v":0},null,{"$f":"IF(E16<8,0,IF(E16>77,(200+(E16-77)*2),VLOOKUP(E16,baza!$H$3:$J$202,3,0)))","v":0},null,{"$f":"IF(G16<80,0,IF(G16>179,200+(G16-179),VLOOKUP(G16,baza!$I$1:$J$65536,2,0)))","v":0},null,{"$f":"IF(I16<210,0,IF(I16>593,(200+(I16-593)*2),VLOOKUP(I16,baza!$B$3:$F$202,5,1)))","v":0},null,{"$f":"IF(K16=\"\",0,IF(K16>(-1*baza!$D$3),0,IF(K16<132.11,INT(200+(132.11-K16)*5),VLOOKUP(-K16,baza!$D$1:$F$203,3,1))))","v":0},0,0]
[{"$f":"O20 & \" pkt.\"","v":"0 pkt."},{"$f":"szkoły!E5","v":0},null,{"$f":"IF(C17>=\"\",0,IF(C17>12.75,0,IF(C17<7.38,(200+(7.38-C17)*100),VLOOKUP(-C17,baza!$E$3:$F$202,2,1))))","v":0},null,{"$f":"IF(E17<8,0,IF(E17>77,(200+(E17-77)*2),VLOOKUP(E17,baza!$H$3:$J$202,3,0)))","v":0},null,{"$f":"IF(G17<80,0,IF(G17>179,200+(G17-179),VLOOKUP(G17,baza!$I$1:$J$65536,2,0)))","v":0},null,{"$f":"IF(I17<210,0,IF(I17>593,(200+(I17-593)*2),VLOOKUP(I17,baza!$B$3:$F$202,5,1)))","v":0},null,{"$f":"IF(K17=\"\",0,IF(K17>(-1*baza!$D$3),0,IF(K17<132.11,INT(200+(132.11-K17)*5),VLOOKUP(-K17,baza!$D$1:$F$203,3,1))))","v":0},0,0]
[null,{"$f":"szkoły!E6","v":0},null,{"$f":"IF(C18>=\"\",0,IF(C18>12.75,0,IF(C18<7.38,(200+(7.38-C18)*100),VLOOKUP(-C18,baza!$E$3:$F$202,2,1))))","v":0},null,{"$f":"IF(E18<8,0,IF(E18>77,(200+(E18-77)*2),VLOOKUP(E18,baza!$H$3:$J$202,3,0)))","v":0},null,{"$f":"IF(G18<80,0,IF(G18>179,200+(G18-179),VLOOKUP(G18,baza!$I$1:$J$65536,2,0)))","v":0},null,{"$f":"IF(I18<210,0,IF(I18>593,(200+(I18-593)*2),VLOOKUP(I18,baza!$B$3:$F$202,5,1)))","v":0},null,{"$f":"IF(K18=\"\",0,IF(K18>(-1*baza!$D$3),0,IF(K18<132.11,INT(200+(132.11-K18)*5),VLOOKUP(-K18,baza!$D$1:$F$203,3,1))))","v":0},0,0]
[null,{"$f":"szkoły!E7","v":0},null,{"$f":"IF(C19>=\"\",0,IF(C19>12.75,0,IF(C19<7.38,(200+(7.38-C19)*100),VLOOKUP(-C19,baza!$E$3:$F$202,2,1))))","v":0},null,{"$f":"IF(E19<8,0,IF(E19>77,(200+(E19-77)*2),VLOOKUP(E19,baza!$H$3:$J$202,3,0)))","v":0},null,{"$f":"IF(G19<80,0,IF(G19>179,200+(G19-179),VLOOKUP(G19,baza!$I$1:$J$65536,2,0)))","v":0},null,{"$f":"IF(I19<210,0,IF(I19>593,(200+(I19-593)*2),VLOOKUP(I19,baza!$B$3:$F$202,5,1)))","v":0},null,{"$f":"IF(K19=\"\",0,IF(K19>(-1*baza!$D$3),0,IF(K19<132.11,INT(200+(132.11-K19)*5),VLOOKUP(-K19,baza!$D$1:$F$203,3,1))))","v":0},0,0,{"$f":"SUM(M15:M19)","v":0},"I DZIEŃ"]
[null,{"$f":"szkoły!E8","v":0},null,{"$f":"IF(C20>=\"\",0,IF(C20>12.75,0,IF(C20<7.38,(200+(7.38-C20)*100),VLOOKUP(-C20,baza!$E$3:$F$202,2,1))))","v":0},null,{"$f":"IF(E20<8,0,IF(E20>77,(200+(E20-77)*2),VLOOKUP(E20,baza!$H$3:$J$202,3,0)))","v":0},null,{"$f":"IF(G20<80,0,IF(G20>179,200+(G20-179),VLOOKUP(G20,baza!$I$1:$J$65536,2,0)))","v":0},null,{"$f":"IF(I20<210,0,IF(I20>593,(200+(I20-593)*2),VLOOKUP(I20,baza!$B$3:$F$202,5,1)))","v":0},null,{"$f":"IF(K20=\"\",0,IF(K20>(-1*baza!$D$3),0,IF(K20<132.11,INT(200+(132.11-K20)*5),VLOOKUP(-K20,baza!$D$1:$F$203,3,1))))","v":0},0,0,{"$f":"IF(COUNT(N15:N19)<5,SUM(N15:N19),SUM(N15:N19)-MIN(N15:N19))","v":0},"II DZIEŃ"]
[{"$f":"szkoły!H2","v":0},"NAZWISKO/IMIĘ","60m","pkt","ppal","pkt","wzwyż","pkt","w dal","pkt","600m","pkt","I DZIEŃ","RAZEM"]
[null,{"$f":"szkoły!H3","v":0},null,{"$f":"IF(C22>=\"\",0,IF(C22>12.75,0,IF(C22<7.38,(200+(7.38-C22)*100),VLOOKUP(-C22,baza!$E$3:$F$202,2,1))))","v":0},null,{"$f":"IF(E22<8,0,IF(E22>77,(200+(E22-77)*2),VLOOKUP(E22,baza!$H$3:$J$202,3,0)))","v":0},null,{"$f":"IF(G22<80,0,IF(G22>179,200+(G22-179),VLOOKUP(G22,baza!$I$1:$J$65536,2,0)))","v":0},null,{"$f":"IF(I22<210,0,IF(I22>593,(200+(I22-593)*2),VLOOKUP(I22,baza!$B$3:$F$202,5,1)))","v":0},null,{"$f":"IF(K22=\"\",0,IF(K22>(-1*baza!$D$3),0,IF(K22<132.11,INT(200+(132.11-K22)*5),VLOOKUP(-K22,baza!$D$1:$F$203,3,1))))","v":0},{"$f":"(D22+F22+H22+J22)","v":0},{"$f":"M22+L22","v":0}]
[null,{"$f":"szkoły!H4","v":0},null,{"$f":"IF(C23>=\"\",0,IF(C23>12.75,0,IF(C23<7.38,(200+(7.38-C23)*100),VLOOKUP(-C23,baza!$E$3:$F$202,2,1))))","v":0},null,{"$f":"IF(E23<8,0,IF(E23>77,(200+(E23-77)*2),VLOOKUP(E23,baza!$H$3:$J$202,3,0)))","v":0},null,{"$f":"IF(G23<80,0,IF(G23>179,200+(G23-179),VLOOKUP(G23,baza!$I$1:$J$65536,2,0)))","v":0},null,{"$f":"IF(I23<210,0,IF(I23>593,(200+(I23-593)*2),VLOOKUP(I23,baza!$B$3:$F$202,5,1)))","v":0},null,{"$f":"IF(K23=\"\",0,IF(K23>(-1*baza!$D$3),0,IF(K23<132.11,INT(200+(132.11-K23)*5),VLOOKUP(-K23,baza!$D$1:$F$203,3,1))))","v":0},0,0]
[{"$f":"O27 & \" pkt.\"","v":"0 pkt."},{"$f":"szkoły!H5","v":0},null,{"$f":"IF(C24>=\"\",0,IF(C24>12.75,0,IF(C24<7.38,(200+(7.38-C24)*100),VLOOKUP(-C24,baza!$E$3:$F$202,2,1))))","v":0},null,{"$f":"IF(E24<8,0,IF(E24>77,(200+(E24-77)*2),VLOOKUP(E24,baza!$H$3:$J$202,3,0)))","v":0},null,{"$f":"IF(G24<80,0,IF(G24>179,200+(G24-179),VLOOKUP(G24,baza!$I$1:$J$65536,2,0)))","v":0},null,{"$f":"IF(I24<210,0,IF(I24>593,(200+(I24-593)*2),VLOOKUP(I24,baza!$B$3:$F$202,5,1)))","v":0},null,{"$f":"IF(K24=\"\",0,IF(K24>(-1*baza!$D$3),0,IF(K24<132.11,INT(200+(132.11-K24)*5),VLOOKUP(-K24,baza!$D$1:$F$203,3,1))))","v":0},0,0]
[null,{"$f":"szkoły!H6","v":0},null,{"$f":"IF(C25>=\"\",0,IF(C25>12.75,0,IF(C25<7.38,(200+(7.38-C25)*100),VLOOKUP(-C25,baza!$E$3:$F$202,2,1))))","v":0},null,{"$f":"IF(E25<8,0,IF(E25>77,(200+(E25-77)*2),VLOOKUP(E25,baza!$H$3:$J$202,3,0)))","v":0},null,{"$f":"IF(G25<80,0,IF(G25>179,200+(G25-179),VLOOKUP(G25,baza!$I$1:$J$65536,2,0)))","v":0},null,{"$f":"IF(I25<210,0,IF(I25>593,(200+(I25-593)*2),VLOOKUP(I25,baza!$B$3:$F$202,5,1)))","v":0},null,{"$f":"IF(K25=\"\",0,IF(K25>(-1*baza!$D$3),0,IF(K25<132.11,INT(200+(132.11-K25)*5),VLOOKUP(-K25,baza!$D$1:$F$203,3,1))))","v":0},0,0]
[null,{"$f":"szkoły!H7","v":0},null,{"$f":"IF(C26>=\"\",0,IF(C26>12.75,0,IF(C26<7.38,(200+(7.38-C26)*100),VLOOKUP(-C26,baza!$E$3:$F$202,2,1))))","v":0},null,{"$f":"IF(E26<8,0,IF(E26>77,(200+(E26-77)*2),VLOOKUP(E26,baza!$H$3:$J$202,3,0)))","v":0},null,{"$f":"IF(G26<80,0,IF(G26>179,200+(G26-179),VLOOKUP(G26,baza!$I$1:$J$65536,2,0)))","v":0},null,{"$f":"IF(I26<210,0,IF(I26>593,(200+(I26-593)*2),VLOOKUP(I26,baza!$B$3:$F$202,5,1)))","v":0},null,{"$f":"IF(K26=\"\",0,IF(K26>(-1*baza!$D$3),0,IF(K26<132.11,INT(200+(132.11-K26)*5),VLOOKUP(-K26,baza!$D$1:$F$203,3,1))))","v":0},0,0,{"$f":"SUM(M22:M26)","v":0},"I DZIEŃ"]
[null,{"$f":"szkoły!H8","v":0},null,{"$f":"IF(C27>=\"\",0,IF(C27>12.75,0,IF(C27<7.38,(200+(7.38-C27)*100),VLOOKUP(-C27,baza!$E$3:$F$202,2,1))))","v":0},null,{"$f":"IF(E27<8,0,IF(E27>77,(200+(E27-77)*2),VLOOKUP(E27,baza!$H$3:$J$202,3,0)))","v":0},null,{"$f":"IF(G27<80,0,IF(G27>179,200+(G27-179),VLOOKUP(G27,baza!$I$1:$J$65536,2,0)))","v":0},null,{"$f":"IF(I27<210,0,IF(I27>593,(200+(I27-593)*2),VLOOKUP(I27,baza!$B$3:$F$202,5,1)))","v":0},null,{"$f":"IF(K27=\"\",0,IF(K27>(-1*baza!$D$3),0,IF(K27<132.11,INT(200+(132.11-K27)*5),VLOOKUP(-K27,baza!$D$1:$F$203,3,1))))","v":0},0,0,{"$f":"IF(COUNT(N22:N26)<5,SUM(N22:N26),SUM(N22:N26)-MIN(N22:N26))","v":0},"II DZIEŃ"]
[{"$f":"szkoły!K2","v":0},"NAZWISKO/IMIĘ","60m","pkt","ppal","pkt","wzwyż","pkt","w dal","pkt","600m","pkt","I DZIEŃ","RAZEM"]
[null,{"$f":"szkoły!K3","v":0},null,{"$f":"IF(C29>=\"\",0,IF(C29>12.75,0,IF(C29<7.38,(200+(7.38-C29)*100),VLOOKUP(-C29,baza!$E$3:$F$202,2,1))))","v":0},null,{"$f":"IF(E29<8,0,IF(E29>77,(200+(E29-77)*2),VLOOKUP(E29,baza!$H$3:$J$202,3,0)))","v":0},null,{"$f":"IF(G29<80,0,IF(G29>179,200+(G29-179),VLOOKUP(G29,baza!$I$1:$J$65536,2,0)))","v":0},null,{"$f":"IF(I29<210,0,IF(I29>593,(200+(I29-593)*2),VLOOKUP(I29,baza!$B$3:$F$202,5,1)))","v":0},null,{"$f":"IF(K29=\"\",0,IF(K29>(-1*baza!$D$3),0,IF(K29<132.11,INT(200+(132.11-K29)*5),VLOOKUP(-K29,baza!$D$1:$F$203,3,1))))","v":0},{"$f":"(D29+F29+H29+J29)","v":0},{"$f":"M29+L29","v":0}]
[null,{"$f":"szkoły!K4","v":0},null,{"$f":"IF(C30>=\"\",0,IF(C30>12.75,0,IF(C30<7.38,(200+(7.38-C30)*100),VLOOKUP(-C30,baza!$E$3:$F$202,2,1))))","v":0},null,{"$f":"IF(E30<8,0,IF(E30>77,(200+(E30-77)*2),VLOOKUP(E30,baza!$H$3:$J$202,3,0)))","v":0},null,{"$f":"IF(G30<80,0,IF(G30>179,200+(G30-179),VLOOKUP(G30,baza!$I$1:$J$65536,2,0)))","v":0},null,{"$f":"IF(I30<210,0,IF(I30>593,(200+(I30-593)*2),VLOOKUP(I30,baza!$B$3:$F$202,5,1)))","v":0},null,{"$f":"IF(K30=\"\",0,IF(K30>(-1*baza!$D$3),0,IF(K30<132.11,INT(200+(132.11-K30)*5),VLOOKUP(-K30,baza!$D$1:$F$203,3,1))))","v":0},0,0]
[{"$f":"O34 & \" pkt.\"","v":"0 pkt."},{"$f":"szkoły!K5","v":0},null,{"$f":"IF(C31>=\"\",0,IF(C31>12.75,0,IF(C31<7.38,(200+(7.38-C31)*100),VLOOKUP(-C31,baza!$E$3:$F$202,2,1))))","v":0},null,{"$f":"IF(E31<8,0,IF(E31>77,(200+(E31-77)*2),VLOOKUP(E31,baza!$H$3:$J$202,3,0)))","v":0},null,{"$f":"IF(G31<80,0,IF(G31>179,200+(G31-179),VLOOKUP(G31,baza!$I$1:$J$65536,2,0)))","v":0},null,{"$f":"IF(I31<210,0,IF(I31>593,(200+(I31-593)*2),VLOOKUP(I31,baza!$B$3:$F$202,5,1)))","v":0},null,{"$f":"IF(K31=\"\",0,IF(K31>(-1*baza!$D$3),0,IF(K31<132.11,INT(200+(132.11-K31)*5),VLOOKUP(-K31,baza!$D$1:$F$203,3,1))))","v":0},0,0]
[null,{"$f":"szkoły!K6","v":0},null,{"$f":"IF(C32>=\"\",0,IF(C32>12.75,0,IF(C32<7.38,(200+(7.38-C32)*100),VLOOKUP(-C32,baza!$E$3:$F$202,2,1))))","v":0},null,{"$f":"IF(E32<8,0,IF(E32>77,(200+(E32-77)*2),VLOOKUP(E32,baza!$H$3:$J$202,3,0)))","v":0},null,{"$f":"IF(G32<80,0,IF(G32>179,200+(G32-179),VLOOKUP(G32,baza!$I$1:$J$65536,2,0)))","v":0},null,{"$f":"IF(I32<210,0,IF(I32>593,(200+(I32-593)*2),VLOOKUP(I32,baza!$B$3:$F$202,5,1)))","v":0},null,{"$f":"IF(K32=\"\",0,IF(K32>(-1*baza!$D$3),0,IF(K32<132.11,INT(200+(132.11-K32)*5),VLOOKUP(-K32,baza!$D$1:$F$203,3,1))))","v":0},0,0]
[null,{"$f":"szkoły!K7","v":0},null,{"$f":"IF(C33>=\"\",0,IF(C33>12.75,0,IF(C33<7.38,(200+(7.38-C33)*100),VLOOKUP(-C33,baza!$E$3:$F$202,2,1))))","v":0},null,{"$f":"IF(E33<8,0,IF(E33>77,(200+(E33-77)*2),VLOOKUP(E33,baza!$H$3:$J$202,3,0)))","v":0},null,{"$f":"IF(G33<80,0,IF(G33>179,200+(G33-179),VLOOKUP(G33,baza!$I$1:$J$65536,2,0)))","v":0},null,{"$f":"IF(I33<210,0,IF(I33>593,(200+(I33-593)*2),VLOOKUP(I33,baza!$B$3:$F$202,5,1)))","v":0},null,{"$f":"IF(K33=\"\",0,IF(K33>(-1*baza!$D$3),0,IF(K33<132.11,INT(200+(132.11-K33)*5),VLOOKUP(-K33,baza!$D$1:$F$203,3,1))))","v":0},0,0,{"$f":"SUM(M29:M33)","v":0},"I DZIEŃ"]
[null,{"$f":"szkoły!K8","v":0},null,{"$f":"IF(C34>=\"\",0,IF(C34>12.75,0,IF(C34<7.38,(200+(7.38-C34)*100),VLOOKUP(-C34,baza!$E$3:$F$202,2,1))))","v":0},null,{"$f":"IF(E34<8,0,IF(E34>77,(200+(E34-77)*2),VLOOKUP(E34,baza!$H$3:$J$202,3,0)))","v":0},null,{"$f":"IF(G34<80,0,IF(G34>179,200+(G34-179),VLOOKUP(G34,baza!$I$1:$J$65536,2,0)))","v":0},null,{"$f":"IF(I34<210,0,IF(I34>593,(200+(I34-593)*2),VLOOKUP(I34,baza!$B$3:$F$202,5,1)))","v":0},null,{"$f":"IF(K34=\"\",0,IF(K34>(-1*baza!$D$3),0,IF(K34<132.11,INT(200+(132.11-K34)*5),VLOOKUP(-K34,baza!$D$1:$F$203,3,1))))","v":0},0,0,{"$f":"IF(COUNT(N29:N33)<5,SUM(N29:N33),SUM(N29:N33)-MIN(N29:N33))","v":0},"II DZIEŃ"]
[{"$f":"szkoły!B10","v":0},"NAZWISKO/IMIĘ","60m","pkt","ppal","pkt","wzwyż","pkt","w dal","pkt","600m","pkt","I DZIEŃ","RAZEM"]
[null,{"$f":"szkoły!B11","v":0},null,{"$f":"IF(C36>=\"\",0,IF(C36>12.75,0,IF(C36<7.38,(200+(7.38-C36)*100),VLOOKUP(-C36,baza!$E$3:$F$202,2,1))))","v":0},null,{"$f":"IF(E36<8,0,IF(E36>77,(200+(E36-77)*2),VLOOKUP(E36,baza!$H$3:$J$202,3,0)))","v":0},null,{"$f":"IF(G36<80,0,IF(G36>179,200+(G36-179),VLOOKUP(G36,baza!$I$1:$J$65536,2,0)))","v":0},null,{"$f":"IF(I36<210,0,IF(I36>593,(200+(I36-593)*2),VLOOKUP(I36,baza!$B$3:$F$202,5,1)))","v":0},null,{"$f":"IF(K36=\"\",0,IF(K36>(-1*baza!$D$3),0,IF(K36<132.11,INT(200+(132.11-K36)*5),VLOOKUP(-K36,baza!$D$1:$F$203,3,1))))","v":0},{"$f":"(D36+F36+H36+J36)","v":0},{"$f":"M36+L36","v":0}]
[null,{"$f":"szkoły!B12","v":0},null,{"$f":"IF(C37>=\"\",0,IF(C37>12.75,0,IF(C37<7.38,(200+(7.38-C37)*100),VLOOKUP(-C37,baza!$E$3:$F$202,2,1))))","v":0},null,{"$f":"IF(E37<8,0,IF(E37>77,(200+(E37-77)*2),VLOOKUP(E37,baza!$H$3:$J$202,3,0)))","v":0},null,{"$f":"IF(G37<80,0,IF(G37>179,200+(G37-179),VLOOKUP(G37,baza!$I$1:$J$65536,2,0)))","v":0},null,{"$f":"IF(I37<210,0,IF(I37>593,(200+(I37-593)*2),VLOOKUP(I37,baza!$B$3:$F$202,5,1)))","v":0},null,{"$f":"IF(K37=\"\",0,IF(K37>(-1*baza!$D$3),0,IF(K37<132.11,INT(200+(132.11-K37)*5),VLOOKUP(-K37,baza!$D$1:$F$203,3,1))))","v":0},0,0]
[{"$f":"O41 & \" pkt.\"","v":"0 pkt."},{"$f":"szkoły!B13","v":0},null,{"$f":"IF(C38>=\"\",0,IF(C38>12.75,0,IF(C38<7.38,(200+(7.38-C38)*100),VLOOKUP(-C38,baza!$E$3:$F$202,2,1))))","v":0},null,{"$f":"IF(E38<8,0,IF(E38>77,(200+(E38-77)*2),VLOOKUP(E38,baza!$H$3:$J$202,3,0)))","v":0},null,{"$f":"IF(G38<80,0,IF(G38>179,200+(G38-179),VLOOKUP(G38,baza!$I$1:$J$65536,2,0)))","v":0},null,{"$f":"IF(I38<210,0,IF(I38>593,(200+(I38-593)*2),VLOOKUP(I38,baza!$B$3:$F$202,5,1)))","v":0},null,{"$f":"IF(K38=\"\",0,IF(K38>(-1*baza!$D$3),0,IF(K38<132.11,INT(200+(132.11-K38)*5),VLOOKUP(-K38,baza!$D$1:$F$203,3,1))))","v":0},0,0]
[null,{"$f":"szkoły!B14","v":0},null,{"$f":"IF(C39>=\"\",0,IF(C39>12.75,0,IF(C39<7.38,(200+(7.38-C39)*100),VLOOKUP(-C39,baza!$E$3:$F$202,2,1))))","v":0},null,{"$f":"IF(E39<8,0,IF(E39>77,(200+(E39-77)*2),VLOOKUP(E39,baza!$H$3:$J$202,3,0)))","v":0},null,{"$f":"IF(G39<80,0,IF(G39>179,200+(G39-179),VLOOKUP(G39,baza!$I$1:$J$65536,2,0)))","v":0},null,{"$f":"IF(I39<210,0,IF(I39>593,(200+(I39-593)*2),VLOOKUP(I39,baza!$B$3:$F$202,5,1)))","v":0},null,{"$f":"IF(K39=\"\",0,IF(K39>(-1*baza!$D$3),0,IF(K39<132.11,INT(200+(132.11-K39)*5),VLOOKUP(-K39,baza!$D$1:$F$203,3,1))))","v":0},0,0]
[null,{"$f":"szkoły!B15","v":0},null,{"$f":"IF(C40>=\"\",0,IF(C40>12.75,0,IF(C40<7.38,(200+(7.38-C40)*100),VLOOKUP(-C40,baza!$E$3:$F$202,2,1))))","v":0},null,{"$f":"IF(E40<8,0,IF(E40>77,(200+(E40-77)*2),VLOOKUP(E40,baza!$H$3:$J$202,3,0)))","v":0},null,{"$f":"IF(G40<80,0,IF(G40>179,200+(G40-179),VLOOKUP(G40,baza!$I$1:$J$65536,2,0)))","v":0},null,{"$f":"IF(I40<210,0,IF(I40>593,(200+(I40-593)*2),VLOOKUP(I40,baza!$B$3:$F$202,5,1)))","v":0},null,{"$f":"IF(K40=\"\",0,IF(K40>(-1*baza!$D$3),0,IF(K40<132.11,INT(200+(132.11-K40)*5),VLOOKUP(-K40,baza!$D$1:$F$203,3,1))))","v":0},0,0,{"$f":"SUM(M36:M40)","v":0},"I DZIEŃ"]
[null,{"$f":"szkoły!B16","v":0},null,{"$f":"IF(C41>=\"\",0,IF(C41>12.75,0,IF(C41<7.38,(200+(7.38-C41)*100),VLOOKUP(-C41,baza!$E$3:$F$202,2,1))))","v":0},null,{"$f":"IF(E41<8,0,IF(E41>77,(200+(E41-77)*2),VLOOKUP(E41,baza!$H$3:$J$202,3,0)))","v":0},null,{"$f":"IF(G41<80,0,IF(G41>179,200+(G41-179),VLOOKUP(G41,baza!$I$1:$J$65536,2,0)))","v":0},null,{"$f":"IF(I41<210,0,IF(I41>593,(200+(I41-593)*2),VLOOKUP(I41,baza!$B$3:$F$202,5,1)))","v":0},null,{"$f":"IF(K41=\"\",0,IF(K41>(-1*baza!$D$3),0,IF(K41<132.11,INT(200+(132.11-K41)*5),VLOOKUP(-K41,baza!$D$1:$F$203,3,1))))","v":0},0,0,{"$f":"IF(COUNT(N36:N40)<5,SUM(N36:N40),SUM(N36:N40)-MIN(N36:N40))","v":0},"II DZIEŃ"]
[{"$f":"szkoły!E10","v":0},"NAZWISKO/IMIĘ","60m","pkt","ppal","pkt","wzwyż","pkt","w dal","pkt","600m","pkt","I DZIEŃ","RAZEM"]
[null,{"$f":"szkoły!E11","v":0},null,{"$f":"IF(C43>=\"\",0,IF(C43>12.75,0,IF(C43<7.38,(200+(7.38-C43)*100),VLOOKUP(-C43,baza!$E$3:$F$202,2,1))))","v":0},null,{"$f":"IF(E43<8,0,IF(E43>77,(200+(E43-77)*2),VLOOKUP(E43,baza!$H$3:$J$202,3,0)))","v":0},null,{"$f":"IF(G43<80,0,IF(G43>179,200+(G43-179),VLOOKUP(G43,baza!$I$1:$J$65536,2,0)))","v":0},null,{"$f":"IF(I43<210,0,IF(I43>593,(200+(I43-593)*2),VLOOKUP(I43,baza!$B$3:$F$202,5,1)))","v":0},null,{"$f":"IF(K43=\"\",0,IF(K43>(-1*baza!$D$3),0,IF(K43<132.11,INT(200+(132.11-K43)*5),VLOOKUP(-K43,baza!$D$1:$F$203,3,1))))","v":0},{"$f":"(D43+F43+H43+J43)","v":0},{"$f":"M43+L43","v":0}]
[null,{"$f":"szkoły!E12","v":0},null,{"$f":"IF(C44>=\"\",0,IF(C44>12.75,0,IF(C44<7.38,(200+(7.38-C44)*100),VLOOKUP(-C44,baza!$E$3:$F$202,2,1))))","v":0},null,{"$f":"IF(E44<8,0,IF(E44>77,(200+(E44-77)*2),VLOOKUP(E44,baza!$H$3:$J$202,3,0)))","v":0},null,{"$f":"IF(G44<80,0,IF(G44>179,200+(G44-179),VLOOKUP(G44,baza!$I$1:$J$65536,2,0)))","v":0},null,{"$f":"IF(I44<210,0,IF(I44>593,(200+(I44-593)*2),VLOOKUP(I44,baza!$B$3:$F$202,5,1)))","v":0},null,{"$f":"IF(K44=\"\",0,IF(K44>(-1*baza!$D$3),0,IF(K44<132.11,INT(200+(132.11-K44)*5),VLOOKUP(-K44,baza!$D$1:$F$203,3,1))))","v":0},0,0]
[{"$f":"O48 & \" pkt.\"","v":"0 pkt."},{"$f":"szkoły!E13","v":0},null,{"$f":"IF(C45>=\"\",0,IF(C45>12.75,0,IF(C45<7.38,(200+(7.38-C45)*100),VLOOKUP(-C45,baza!$E$3:$F$202,2,1))))","v":0},null,{"$f":"IF(E45<8,0,IF(E45>77,(200+(E45-77)*2),VLOOKUP(E45,baza!$H$3:$J$202,3,0)))","v":0},null,{"$f":"IF(G45<80,0,IF(G45>179,200+(G45-179),VLOOKUP(G45,baza!$I$1:$J$65536,2,0)))","v":0},null,{"$f":"IF(I45<210,0,IF(I45>593,(200+(I45-593)*2),VLOOKUP(I45,baza!$B$3:$F$202,5,1)))","v":0},null,{"$f":"IF(K45=\"\",0,IF(K45>(-1*baza!$D$3),0,IF(K45<132.11,INT(200+(132.11-K45)*5),VLOOKUP(-K45,baza!$D$1:$F$203,3,1))))","v":0},0,0]
[null,{"$f":"szkoły!E14","v":0},null,{"$f":"IF(C46>=\"\",0,IF(C46>12.75,0,IF(C46<7.38,(200+(7.38-C46)*100),VLOOKUP(-C46,baza!$E$3:$F$202,2,1))))","v":0},null,{"$f":"IF(E46<8,0,IF(E46>77,(200+(E46-77)*2),VLOOKUP(E46,baza!$H$3:$J$202,3,0)))","v":0},null,{"$f":"IF(G46<80,0,IF(G46>179,200+(G46-179),VLOOKUP(G46,baza!$I$1:$J$65536,2,0)))","v":0},null,{"$f":"IF(I46<210,0,IF(I46>593,(200+(I46-593)*2),VLOOKUP(I46,baza!$B$3:$F$202,5,1)))","v":0},null,{"$f":"IF(K46=\"\",0,IF(K46>(-1*baza!$D$3),0,IF(K46<132.11,INT(200+(132.11-K46)*5),VLOOKUP(-K46,baza!$D$1:$F$203,3,1))))","v":0},0,0]
[null,{"$f":"szkoły!E15","v":0},null,{"$f":"IF(C47>=\"\",0,IF(C47>12.75,0,IF(C47<7.38,(200+(7.38-C47)*100),VLOOKUP(-C47,baza!$E$3:$F$202,2,1))))","v":0},null,{"$f":"IF(E47<8,0,IF(E47>77,(200+(E47-77)*2),VLOOKUP(E47,baza!$H$3:$J$202,3,0)))","v":0},null,{"$f":"IF(G47<80,0,IF(G47>179,200+(G47-179),VLOOKUP(G47,baza!$I$1:$J$65536,2,0)))","v":0},null,{"$f":"IF(I47<210,0,IF(I47>593,(200+(I47-593)*2),VLOOKUP(I47,baza!$B$3:$F$202,5,1)))","v":0},null,{"$f":"IF(K47=\"\",0,IF(K47>(-1*baza!$D$3),0,IF(K47<132.11,INT(200+(132.11-K47)*5),VLOOKUP(-K47,baza!$D$1:$F$203,3,1))))","v":0},0,0,{"$f":"SUM(M43:M47)","v":0},"I DZIEŃ"]
[null,{"$f":"szkoły!E16","v":0},null,{"$f":"IF(C48>=\"\",0,IF(C48>12.75,0,IF(C48<7.38,(200+(7.38-C48)*100),VLOOKUP(-C48,baza!$E$3:$F$202,2,1))))","v":0},null,{"$f":"IF(E48<8,0,IF(E48>77,(200+(E48-77)*2),VLOOKUP(E48,baza!$H$3:$J$202,3,0)))","v":0},null,{"$f":"IF(G48<80,0,IF(G48>179,200+(G48-179),VLOOKUP(G48,baza!$I$1:$J$65536,2,0)))","v":0},null,{"$f":"IF(I48<210,0,IF(I48>593,(200+(I48-593)*2),VLOOKUP(I48,baza!$B$3:$F$202,5,1)))","v":0},null,{"$f":"IF(K48=\"\",0,IF(K48>(-1*baza!$D$3),0,IF(K48<132.11,INT(200+(132.11-K48)*5),VLOOKUP(-K48,baza!$D$1:$F$203,3,1))))","v":0},0,0,{"$f":"IF(COUNT(N43:N47)<5,SUM(N43:N47),SUM(N43:N47)-MIN(N43:N47))","v":0},"II DZIEŃ"]
[{"$f":"szkoły!H10","v":0},"NAZWISKO/IMIĘ","60m","pkt","ppal","pkt","wzwyż","pkt","w dal","pkt","600m","pkt","I DZIEŃ","RAZEM"]
[null,{"$f":"szkoły!H11","v":0},null,{"$f":"IF(C50>=\"\",0,IF(C50>12.75,0,IF(C50<7.38,(200+(7.38-C50)*100),VLOOKUP(-C50,baza!$E$3:$F$202,2,1))))","v":0},null,{"$f":"IF(E50<8,0,IF(E50>77,(200+(E50-77)*2),VLOOKUP(E50,baza!$H$3:$J$202,3,0)))","v":0},null,{"$f":"IF(G50<80,0,IF(G50>179,200+(G50-179),VLOOKUP(G50,baza!$I$1:$J$65536,2,0)))","v":0},null,{"$f":"IF(I50<210,0,IF(I50>593,(200+(I50-593)*2),VLOOKUP(I50,baza!$B$3:$F$202,5,1)))","v":0},null,{"$f":"IF(K50=\"\",0,IF(K50>(-1*baza!$D$3),0,IF(K50<132.11,INT(200+(132.11-K50)*5),VLOOKUP(-K50,baza!$D$1:$F$203,3,1))))","v":0},{"$f":"(D50+F50+H50+J50)","v":0},{"$f":"M50+L50","v":0}]
[null,{"$f":"szkoły!H12","v":0},null,{"$f":"IF(C51>=\"\",0,IF(C51>12.75,0,IF(C51<7.38,(200+(7.38-C51)*100),VLOOKUP(-C51,baza!$E$3:$F$202,2,1))))","v":0},null,{"$f":"IF(E51<8,0,IF(E51>77,(200+(E51-77)*2),VLOOKUP(E51,baza!$H$3:$J$202,3,0)))","v":0},null,{"$f":"IF(G51<80,0,IF(G51>179,200+(G51-179),VLOOKUP(G51,baza!$I$1:$J$65536,2,0)))","v":0},null,{"$f":"IF(I51<210,0,IF(I51>593,(200+(I51-593)*2),VLOOKUP(I51,baza!$B$3:$F$202,5,1)))","v":0},null,{"$f":"IF(K51=\"\",0,IF(K51>(-1*baza!$D$3),0,IF(K51<132.11,INT(200+(132.11-K51)*5),VLOOKUP(-K51,baza!$D$1:$F$203,3,1))))","v":0},0,0]
[{"$f":"O55 & \" pkt.\"","v":"0 pkt."},{"$f":"szkoły!H13","v":0},null,{"$f":"IF(C52>=\"\",0,IF(C52>12.75,0,IF(C52<7.38,(200+(7.38-C52)*100),VLOOKUP(-C52,baza!$E$3:$F$202,2,1))))","v":0},null,{"$f":"IF(E52<8,0,IF(E52>77,(200+(E52-77)*2),VLOOKUP(E52,baza!$H$3:$J$202,3,0)))","v":0},null,{"$f":"IF(G52<80,0,IF(G52>179,200+(G52-179),VLOOKUP(G52,baza!$I$1:$J$65536,2,0)))","v":0},null,{"$f":"IF(I52<210,0,IF(I52>593,(200+(I52-593)*2),VLOOKUP(I52,baza!$B$3:$F$202,5,1)))","v":0},null,{"$f":"IF(K52=\"\",0,IF(K52>(-1*baza!$D$3),0,IF(K52<132.11,INT(200+(132.11-K52)*5),VLOOKUP(-K52,baza!$D$1:$F$203,3,1))))","v":0},0,0]
[null,{"$f":"szkoły!H14","v":0},null,{"$f":"IF(C53>=\"\",0,IF(C53>12.75,0,IF(C53<7.38,(200+(7.38-C53)*100),VLOOKUP(-C53,baza!$E$3:$F$202,2,1))))","v":0},null,{"$f":"IF(E53<8,0,IF(E53>77,(200+(E53-77)*2),VLOOKUP(E53,baza!$H$3:$J$202,3,0)))","v":0},null,{"$f":"IF(G53<80,0,IF(G53>179,200+(G53-179),VLOOKUP(G53,baza!$I$1:$J$65536,2,0)))","v":0},null,{"$f":"IF(I53<210,0,IF(I53>593,(200+(I53-593)*2),VLOOKUP(I53,baza!$B$3:$F$202,5,1)))","v":0},null,{"$f":"IF(K53=\"\",0,IF(K53>(-1*baza!$D$3),0,IF(K53<132.11,INT(200+(132.11-K53)*5),VLOOKUP(-K53,baza!$D$1:$F$203,3,1))))","v":0},0,0]
[null,{"$f":"szkoły!H15","v":0},null,{"$f":"IF(C54>=\"\",0,IF(C54>12.75,0,IF(C54<7.38,(200+(7.38-C54)*100),VLOOKUP(-C54,baza!$E$3:$F$202,2,1))))","v":0},null,{"$f":"IF(E54<8,0,IF(E54>77,(200+(E54-77)*2),VLOOKUP(E54,baza!$H$3:$J$202,3,0)))","v":0},null,{"$f":"IF(G54<80,0,IF(G54>179,200+(G54-179),VLOOKUP(G54,baza!$I$1:$J$65536,2,0)))","v":0},null,{"$f":"IF(I54<210,0,IF(I54>593,(200+(I54-593)*2),VLOOKUP(I54,baza!$B$3:$F$202,5,1)))","v":0},null,{"$f":"IF(K54=\"\",0,IF(K54>(-1*baza!$D$3),0,IF(K54<132.11,INT(200+(132.11-K54)*5),VLOOKUP(-K54,baza!$D$1:$F$203,3,1))))","v":0},0,0,{"$f":"SUM(M50:M54)","v":0},"I DZIEŃ"]
[null,{"$f":"szkoły!H16","v":0},null,{"$f":"IF(C55>=\"\",0,IF(C55>12.75,0,IF(C55<7.38,(200+(7.38-C55)*100),VLOOKUP(-C55,baza!$E$3:$F$202,2,1))))","v":0},null,{"$f":"IF(E55<8,0,IF(E55>77,(200+(E55-77)*2),VLOOKUP(E55,baza!$H$3:$J$202,3,0)))","v":0},null,{"$f":"IF(G55<80,0,IF(G55>179,200+(G55-179),VLOOKUP(G55,baza!$I$1:$J$65536,2,0)))","v":0},null,{"$f":"IF(I55<210,0,IF(I55>593,(200+(I55-593)*2),VLOOKUP(I55,baza!$B$3:$F$202,5,1)))","v":0},null,{"$f":"IF(K55=\"\",0,IF(K55>(-1*baza!$D$3),0,IF(K55<132.11,INT(200+(132.11-K55)*5),VLOOKUP(-K55,baza!$D$1:$F$203,3,1))))","v":0},0,0,{"$f":"IF(COUNT(N50:N54)<5,SUM(N50:N54),SUM(N50:N54)-MIN(N50:N54))","v":0},"II DZIEŃ"]
[{"$f":"szkoły!K10","v":0},"NAZWISKO/IMIĘ","60m","pkt","ppal","pkt","wzwyż","pkt","w dal","pkt","600m","pkt","I DZIEŃ","RAZEM"]
[null,{"$f":"szkoły!K11","v":0},null,{"$f":"IF(C57>=\"\",0,IF(C57>12.75,0,IF(C57<7.38,(200+(7.38-C57)*100),VLOOKUP(-C57,baza!$E$3:$F$202,2,1))))","v":0},null,{"$f":"IF(E57<8,0,IF(E57>77,(200+(E57-77)*2),VLOOKUP(E57,baza!$H$3:$J$202,3,0)))","v":0},null,{"$f":"IF(G57<80,0,IF(G57>179,200+(G57-179),VLOOKUP(G57,baza!$I$1:$J$65536,2,0)))","v":0},null,{"$f":"IF(I57<210,0,IF(I57>593,(200+(I57-593)*2),VLOOKUP(I57,baza!$B$3:$F$202,5,1)))","v":0},null,{"$f":"IF(K57=\"\",0,IF(K57>(-1*baza!$D$3),0,IF(K57<132.11,INT(200+(132.11-K57)*5),VLOOKUP(-K57,baza!$D$1:$F$203,3,1))))","v":0},{"$f":"(D57+F57+H57+J57)","v":0},{"$f":"M57+L57","v":0}]
[null,{"$f":"szkoły!K12","v":0},null,{"$f":"IF(C58>=\"\",0,IF(C58>12.75,0,IF(C58<7.38,(200+(7.38-C58)*100),VLOOKUP(-C58,baza!$E$3:$F$202,2,1))))","v":0},null,{"$f":"IF(E58<8,0,IF(E58>77,(200+(E58-77)*2),VLOOKUP(E58,baza!$H$3:$J$202,3,0)))","v":0},null,{"$f":"IF(G58<80,0,IF(G58>179,200+(G58-179),VLOOKUP(G58,baza!$I$1:$J$65536,2,0)))","v":0},null,{"$f":"IF(I58<210,0,IF(I58>593,(200+(I58-593)*2),VLOOKUP(I58,baza!$B$3:$F$202,5,1)))","v":0},null,{"$f":"IF(K58=\"\",0,IF(K58>(-1*baza!$D$3),0,IF(K58<132.11,INT(200+(132.11-K58)*5),VLOOKUP(-K58,baza!$D$1:$F$203,3,1))))","v":0},0,0]
[{"$f":"O62 & \" pkt.\"","v":"0 pkt."},{"$f":"szkoły!K13","v":0},null,{"$f":"IF(C59>=\"\",0,IF(C59>12.75,0,IF(C59<7.38,(200+(7.38-C59)*100),VLOOKUP(-C59,baza!$E$3:$F$202,2,1))))","v":0},null,{"$f":"IF(E59<8,0,IF(E59>77,(200+(E59-77)*2),VLOOKUP(E59,baza!$H$3:$J$202,3,0)))","v":0},null,{"$f":"IF(G59<80,0,IF(G59>179,200+(G59-179),VLOOKUP(G59,baza!$I$1:$J$65536,2,0)))","v":0},null,{"$f":"IF(I59<210,0,IF(I59>593,(200+(I59-593)*2),VLOOKUP(I59,baza!$B$3:$F$202,5,1)))","v":0},null,{"$f":"IF(K59=\"\",0,IF(K59>(-1*baza!$D$3),0,IF(K59<132.11,INT(200+(132.11-K59)*5),VLOOKUP(-K59,baza!$D$1:$F$203,3,1))))","v":0},0,0]
[null,{"$f":"szkoły!K14","v":0},null,{"$f":"IF(C60>=\"\",0,IF(C60>12.75,0,IF(C60<7.38,(200+(7.38-C60)*100),VLOOKUP(-C60,baza!$E$3:$F$202,2,1))))","v":0},null,{"$f":"IF(E60<8,0,IF(E60>77,(200+(E60-77)*2),VLOOKUP(E60,baza!$H$3:$J$202,3,0)))","v":0},null,{"$f":"IF(G60<80,0,IF(G60>179,200+(G60-179),VLOOKUP(G60,baza!$I$1:$J$65536,2,0)))","v":0},null,{"$f":"IF(I60<210,0,IF(I60>593,(200+(I60-593)*2),VLOOKUP(I60,baza!$B$3:$F$202,5,1)))","v":0},null,{"$f":"IF(K60=\"\",0,IF(K60>(-1*baza!$D$3),0,IF(K60<132.11,INT(200+(132.11-K60)*5),VLOOKUP(-K60,baza!$D$1:$F$203,3,1))))","v":0},0,0]
[null,{"$f":"szkoły!K15","v":0},null,{"$f":"IF(C61>=\"\",0,IF(C61>12.75,0,IF(C61<7.38,(200+(7.38-C61)*100),VLOOKUP(-C61,baza!$E$3:$F$202,2,1))))","v":0},null,{"$f":"IF(E61<8,0,IF(E61>77,(200+(E61-77)*2),VLOOKUP(E61,baza!$H$3:$J$202,3,0)))","v":0},null,{"$f":"IF(G61<80,0,IF(G61>179,200+(G61-179),VLOOKUP(G61,baza!$I$1:$J$65536,2,0)))","v":0},null,{"$f":"IF(I61<210,0,IF(I61>593,(200+(I61-593)*2),VLOOKUP(I61,baza!$B$3:$F$202,5,1)))","v":0},null,{"$f":"IF(K61=\"\",0,IF(K61>(-1*baza!$D$3),0,IF(K61<132.11,INT(200+(132.11-K61)*5),VLOOKUP(-K61,baza!$D$1:$F$203,3,1))))","v":0},0,0,{"$f":"SUM(M57:M61)","v":0},"I DZIEŃ"]
[null,{"$f":"szkoły!K16","v":0},null,{"$f":"IF(C62>=\"\",0,IF(C62>12.75,0,IF(C62<7.38,(200+(7.38-C62)*100),VLOOKUP(-C62,baza!$E$3:$F$202,2,1))))","v":0},null,{"$f":"IF(E62<8,0,IF(E62>77,(200+(E62-77)*2),VLOOKUP(E62,baza!$H$3:$J$202,3,0)))","v":0},null,{"$f":"IF(G62<80,0,IF(G62>179,200+(G62-179),VLOOKUP(G62,baza!$I$1:$J$65536,2,0)))","v":0},null,{"$f":"IF(I62<210,0,IF(I62>593,(200+(I62-593)*2),VLOOKUP(I62,baza!$B$3:$F$202,5,1)))","v":0},null,{"$f":"IF(K62=\"\",0,IF(K62>(-1*baza!$D$3),0,IF(K62<132.11,INT(200+(132.11-K62)*5),VLOOKUP(-K62,baza!$D$1:$F$203,3,1))))","v":0},0,0,{"$f":"IF(COUNT(N57:N61)<5,SUM(N57:N61),SUM(N57:N61)-MIN(N57:N61))","v":0},"II DZIEŃ"]
[{"$f":"szkoły!B18","v":0},"NAZWISKO/IMIĘ","60m","pkt","ppal","pkt","wzwyż","pkt","w dal","pkt","600m","pkt","I DZIEŃ","RAZEM"]
[null,{"$f":"szkoły!B19","v":0},12,{"$f":"IF(C64>=\"\",0,IF(C64>12.75,0,IF(C64<7.38,(200+(7.38-C64)*100),VLOOKUP(-C64,baza!$E$3:$F$202,2,1))))","v":8},null,{"$f":"IF(E64<8,0,IF(E64>77,(200+(E64-77)*2),VLOOKUP(E64,baza!$H$3:$J$202,3,0)))","v":0},null,{"$f":"IF(G64<80,0,IF(G64>179,200+(G64-179),VLOOKUP(G64,baza!$I$1:$J$65536,2,0)))","v":0},null,{"$f":"IF(I64<210,0,IF(I64>593,(200+(I64-593)*2),VLOOKUP(I64,baza!$B$3:$F$202,5,1)))","v":0},null,{"$f":"IF(K64=\"\",0,IF(K64>(-1*baza!$D$3),0,IF(K64<132.11,INT(200+(132.11-K64)*5),VLOOKUP(-K64,baza!$D$1:$F$203,3,1))))","v":0},{"$f":"(D64+F64+H64+J64)","v":8},{"$f":"M64+L64","v":8}]
[null,{"$f":"szkoły!B20","v":0},null,{"$f":"IF(C65>=\"\",0,IF(C65>12.75,0,IF(C65<7.38,(200+(7.38-C65)*100),VLOOKUP(-C65,baza!$E$3:$F$202,2,1))))","v":0},null,{"$f":"IF(E65<8,0,IF(E65>77,(200+(E65-77)*2),VLOOKUP(E65,baza!$H$3:$J$202,3,0)))","v":0},null,{"$f":"IF(G65<80,0,IF(G65>179,200+(G65-179),VLOOKUP(G65,baza!$I$1:$J$65536,2,0)))","v":0},null,{"$f":"IF(I65<210,0,IF(I65>593,(200+(I65-593)*2),VLOOKUP(I65,baza!$B$3:$F$202,5,1)))","v":0},null,{"$f":"IF(K65=\"\",0,IF(K65>(-1*baza!$D$3),0,IF(K65<132.11,INT(200+(132.11-K65)*5),VLOOKUP(-K65,baza!$D$1:$F$203,3,1))))","v":0},0,0]
[{"$f":"O69  & \" pkt.\"","v":"8 pkt."},{"$f":"szkoły!B21","v":0},null,{"$f":"IF(C66>=\"\",0,IF(C66>12.75,0,IF(C66<7.38,(200+(7.38-C66)*100),VLOOKUP(-C66,baza!$E$3:$F$202,2,1))))","v":0},null,{"$f":"IF(E66<8,0,IF(E66>77,(200+(E66-77)*2),VLOOKUP(E66,baza!$H$3:$J$202,3,0)))","v":0},null,{"$f":"IF(G66<80,0,IF(G66>179,200+(G66-179),VLOOKUP(G66,baza!$I$1:$J$65536,2,0)))","v":0},null,{"$f":"IF(I66<210,0,IF(I66>593,(200+(I66-593)*2),VLOOKUP(I66,baza!$B$3:$F$202,5,1)))","v":0},null,{"$f":"IF(K66=\"\",0,IF(K66>(-1*baza!$D$3),0,IF(K66<132.11,INT(200+(132.11-K66)*5),VLOOKUP(-K66,baza!$D$1:$F$203,3,1))))","v":0},0,0]
[null,{"$f":"szkoły!B22","v":0},null,{"$f":"IF(C67>=\"\",0,IF(C67>12.75,0,IF(C67<7.38,(200+(7.38-C67)*100),VLOOKUP(-C67,baza!$E$3:$F$202,2,1))))","v":0},null,{"$f":"IF(E67<8,0,IF(E67>77,(200+(E67-77)*2),VLOOKUP(E67,baza!$H$3:$J$202,3,0)))","v":0},null,{"$f":"IF(G67<80,0,IF(G67>179,200+(G67-179),VLOOKUP(G67,baza!$I$1:$J$65536,2,0)))","v":0},null,{"$f":"IF(I67<210,0,IF(I67>593,(200+(I67-593)*2),VLOOKUP(I67,baza!$B$3:$F$202,5,1)))","v":0},null,{"$f":"IF(K67=\"\",0,IF(K67>(-1*baza!$D$3),0,IF(K67<132.11,INT(200+(132.11-K67)*5),VLOOKUP(-K67,baza!$D$1:$F$203,3,1))))","v":0},0,0]
[null,{"$f":"szkoły!B23","v":0},null,{"$f":"IF(C68>=\"\",0,IF(C68>12.75,0,IF(C68<7.38,(200+(7.38-C68)*100),VLOOKUP(-C68,baza!$E$3:$F$202,2,1))))","v":0},null,{"$f":"IF(E68<8,0,IF(E68>77,(200+(E68-77)*2),VLOOKUP(E68,baza!$H$3:$J$202,3,0)))","v":0},null,{"$f":"IF(G68<80,0,IF(G68>179,200+(G68-179),VLOOKUP(G68,baza!$I$1:$J$65536,2,0)))","v":0},null,{"$f":"IF(I68<210,0,IF(I68>593,(200+(I68-593)*2),VLOOKUP(I68,baza!$B$3:$F$202,5,1)))","v":0},null,{"$f":"IF(K68=\"\",0,IF(K68>(-1*baza!$D$3),0,IF(K68<132.11,INT(200+(132.11-K68)*5),VLOOKUP(-K68,baza!$D$1:$F$203,3,1))))","v":0},0,0,{"$f":"SUM(M64:M68)","v":8},"I DZIEŃ"]
[null,{"$f":"szkoły!B24","v":0},null,{"$f":"IF(C69>=\"\",0,IF(C69>12.75,0,IF(C69<7.38,(200+(7.38-C69)*100),VLOOKUP(-C69,baza!$E$3:$F$202,2,1))))","v":0},null,{"$f":"IF(E69<8,0,IF(E69>77,(200+(E69-77)*2),VLOOKUP(E69,baza!$H$3:$J$202,3,0)))","v":0},null,{"$f":"IF(G69<80,0,IF(G69>179,200+(G69-179),VLOOKUP(G69,baza!$I$1:$J$65536,2,0)))","v":0},null,{"$f":"IF(I69<210,0,IF(I69>593,(200+(I69-593)*2),VLOOKUP(I69,baza!$B$3:$F$202,5,1)))","v":0},null,{"$f":"IF(K69=\"\",0,IF(K69>(-1*baza!$D$3),0,IF(K69<132.11,INT(200+(132.11-K69)*5),VLOOKUP(-K69,baza!$D$1:$F$203,3,1))))","v":0},0,0,{"$f":"IF(COUNT(N64:N68)<5,SUM(N64:N68),SUM(N64:N68)-MIN(N64:N68))","v":8},"II DZIEŃ"]
[{"$f":"szkoły!E18","v":0},"NAZWISKO/IMIĘ","60m","pkt","ppal","pkt","wzwyż","pkt","w dal","pkt","600m","pkt","I DZIEŃ","RAZEM"]
[null,{"$f":"szkoły!E19","v":0},null,{"$f":"IF(C71>=\"\",0,IF(C71>12.75,0,IF(C71<7.38,(200+(7.38-C71)*100),VLOOKUP(-C71,baza!$E$3:$F$202,2,1))))","v":0},null,{"$f":"IF(E71<8,0,IF(E71>77,(200+(E71-77)*2),VLOOKUP(E71,baza!$H$3:$J$202,3,0)))","v":0},null,{"$f":"IF(G71<80,0,IF(G71>179,200+(G71-179),VLOOKUP(G71,baza!$I$1:$J$65536,2,0)))","v":0},null,{"$f":"IF(I71<210,0,IF(I71>593,(200+(I71-593)*2),VLOOKUP(I71,baza!$B$3:$F$202,5,1)))","v":0},null,{"$f":"IF(K71=\"\",0,IF(K71>(-1*baza!$D$3),0,IF(K71<132.11,INT(200+(132.11-K71)*5),VLOOKUP(-K71,baza!$D$1:$F$203,3,1))))","v":0},{"$f":"(D71+F71+H71+J71)","v":0},{"$f":"M71+L71","v":0}]
[null,{"$f":"szkoły!E20","v":0},null,{"$f":"IF(C72>=\"\",0,IF(C72>12.75,0,IF(C72<7.38,(200+(7.38-C72)*100),VLOOKUP(-C72,baza!$E$3:$F$202,2,1))))","v":0},null,{"$f":"IF(E72<8,0,IF(E72>77,(200+(E72-77)*2),VLOOKUP(E72,baza!$H$3:$J$202,3,0)))","v":0},null,{"$f":"IF(G72<80,0,IF(G72>179,200+(G72-179),VLOOKUP(G72,baza!$I$1:$J$65536,2,0)))","v":0},null,{"$f":"IF(I72<210,0,IF(I72>593,(200+(I72-593)*2),VLOOKUP(I72,baza!$B$3:$F$202,5,1)))","v":0},null,{"$f":"IF(K72=\"\",0,IF(K72>(-1*baza!$D$3),0,IF(K72<132.11,INT(200+(132.11-K72)*5),VLOOKUP(-K72,baza!$D$1:$F$203,3,1))))","v":0},0,0]
[{"$f":"O76  & \" pkt.\"","v":"0 pkt."},{"$f":"szkoły!E21","v":0},null,{"$f":"IF(C73>=\"\",0,IF(C73>12.75,0,IF(C73<7.38,(200+(7.38-C73)*100),VLOOKUP(-C73,baza!$E$3:$F$202,2,1))))","v":0},null,{"$f":"IF(E73<8,0,IF(E73>77,(200+(E73-77)*2),VLOOKUP(E73,baza!$H$3:$J$202,3,0)))","v":0},null,{"$f":"IF(G73<80,0,IF(G73>179,200+(G73-179),VLOOKUP(G73,baza!$I$1:$J$65536,2,0)))","v":0},null,{"$f":"IF(I73<210,0,IF(I73>593,(200+(I73-593)*2),VLOOKUP(I73,baza!$B$3:$F$202,5,1)))","v":0},null,{"$f":"IF(K73=\"\",0,IF(K73>(-1*baza!$D$3),0,IF(K73<132.11,INT(200+(132.11-K73)*5),VLOOKUP(-K73,baza!$D$1:$F$203,3,1))))","v":0},0,0]
[null,{"$f":"szkoły!E22","v":0},null,{"$f":"IF(C74>=\"\",0,IF(C74>12.75,0,IF(C74<7.38,(200+(7.38-C74)*100),VLOOKUP(-C74,baza!$E$3:$F$202,2,1))))","v":0},null,{"$f":"IF(E74<8,0,IF(E74>77,(200+(E74-77)*2),VLOOKUP(E74,baza!$H$3:$J$202,3,0)))","v":0},null,{"$f":"IF(G74<80,0,IF(G74>179,200+(G74-179),VLOOKUP(G74,baza!$I$1:$J$65536,2,0)))","v":0},null,{"$f":"IF(I74<210,0,IF(I74>593,(200+(I74-593)*2),VLOOKUP(I74,baza!$B$3:$F$202,5,1)))","v":0},null,{"$f":"IF(K74=\"\",0,IF(K74>(-1*baza!$D$3),0,IF(K74<132.11,INT(200+(132.11-K74)*5),VLOOKUP(-K74,baza!$D$1:$F$203,3,1))))","v":0},0,0]
[null,{"$f":"szkoły!E23","v":0},null,{"$f":"IF(C75>=\"\",0,IF(C75>12.75,0,IF(C75<7.38,(200+(7.38-C75)*100),VLOOKUP(-C75,baza!$E$3:$F$202,2,1))))","v":0},null,{"$f":"IF(E75<8,0,IF(E75>77,(200+(E75-77)*2),VLOOKUP(E75,baza!$H$3:$J$202,3,0)))","v":0},null,{"$f":"IF(G75<80,0,IF(G75>179,200+(G75-179),VLOOKUP(G75,baza!$I$1:$J$65536,2,0)))","v":0},null,{"$f":"IF(I75<210,0,IF(I75>593,(200+(I75-593)*2),VLOOKUP(I75,baza!$B$3:$F$202,5,1)))","v":0},null,{"$f":"IF(K75=\"\",0,IF(K75>(-1*baza!$D$3),0,IF(K75<132.11,INT(200+(132.11-K75)*5),VLOOKUP(-K75,baza!$D$1:$F$203,3,1))))","v":0},0,0,{"$f":"SUM(M71:M75)","v":0},"I DZIEŃ"]
[null,{"$f":"szkoły!E24","v":0},null,{"$f":"IF(C76>=\"\",0,IF(C76>12.75,0,IF(C76<7.38,(200+(7.38-C76)*100),VLOOKUP(-C76,baza!$E$3:$F$202,2,1))))","v":0},null,{"$f":"IF(E76<8,0,IF(E76>77,(200+(E76-77)*2),VLOOKUP(E76,baza!$H$3:$J$202,3,0)))","v":0},null,{"$f":"IF(G76<80,0,IF(G76>179,200+(G76-179),VLOOKUP(G76,baza!$I$1:$J$65536,2,0)))","v":0},null,{"$f":"IF(I76<210,0,IF(I76>593,(200+(I76-593)*2),VLOOKUP(I76,baza!$B$3:$F$202,5,1)))","v":0},null,{"$f":"IF(K76=\"\",0,IF(K76>(-1*baza!$D$3),0,IF(K76<132.11,INT(200+(132.11-K76)*5),VLOOKUP(-K76,baza!$D$1:$F$203,3,1))))","v":0},0,0,{"$f":"IF(COUNT(N71:N75)<5,SUM(N71:N75),SUM(N71:N75)-MIN(N71:N75))","v":0},"II DZIEŃ"]
[{"$f":"szkoły!H18","v":0},"NAZWISKO/IMIĘ","60m","pkt","ppal","pkt","wzwyż","pkt","w dal","pkt","600m","pkt","I DZIEŃ","RAZEM"]
[null,{"$f":"szkoły!H19","v":0},null,{"$f":"IF(C78>=\"\",0,IF(C78>12.75,0,IF(C78<7.38,(200+(7.38-C78)*100),VLOOKUP(-C78,baza!$E$3:$F$202,2,1))))","v":0},null,{"$f":"IF(E78<8,0,IF(E78>77,(200+(E78-77)*2),VLOOKUP(E78,baza!$H$3:$J$202,3,0)))","v":0},null,{"$f":"IF(G78<80,0,IF(G78>179,200+(G78-179),VLOOKUP(G78,baza!$I$1:$J$65536,2,0)))","v":0},null,{"$f":"IF(I78<210,0,IF(I78>593,(200+(I78-593)*2),VLOOKUP(I78,baza!$B$3:$F$202,5,1)))","v":0},null,{"$f":"IF(K78=\"\",0,IF(K78>(-1*baza!$D$3),0,IF(K78<132.11,INT(200+(132.11-K78)*5),VLOOKUP(-K78,baza!$D$1:$F$203,3,1))))","v":0},{"$f":"(D78+F78+H78+J78)","v":0},{"$f":"M78+L78","v":0}]
[null,{"$f":"szkoły!H20","v":0},null,{"$f":"IF(C79>=\"\",0,IF(C79>12.75,0,IF(C79<7.38,(200+(7.38-C79)*100),VLOOKUP(-C79,baza!$E$3:$F$202,2,1))))","v":0},null,{"$f":"IF(E79<8,0,IF(E79>77,(200+(E79-77)*2),VLOOKUP(E79,baza!$H$3:$J$202,3,0)))","v":0},null,{"$f":"IF(G79<80,0,IF(G79>179,200+(G79-179),VLOOKUP(G79,baza!$I$1:$J$65536,2,0)))","v":0},null,{"$f":"IF(I79<210,0,IF(I79>593,(200+(I79-593)*2),VLOOKUP(I79,baza!$B$3:$F$202,5,1)))","v":0},null,{"$f":"IF(K79=\"\",0,IF(K79>(-1*baza!$D$3),0,IF(K79<132.11,INT(200+(132.11-K79)*5),VLOOKUP(-K79,baza!$D$1:$F$203,3,1))))","v":0},0,0]
[{"$f":"O83  & \" pkt.\"","v":"0 pkt."},{"$f":"szkoły!H21","v":0},null,{"$f":"IF(C80>=\"\",0,IF(C80>12.75,0,IF(C80<7.38,(200+(7.38-C80)*100),VLOOKUP(-C80,baza!$E$3:$F$202,2,1))))","v":0},null,{"$f":"IF(E80<8,0,IF(E80>77,(200+(E80-77)*2),VLOOKUP(E80,baza!$H$3:$J$202,3,0)))","v":0},null,{"$f":"IF(G80<80,0,IF(G80>179,200+(G80-179),VLOOKUP(G80,baza!$I$1:$J$65536,2,0)))","v":0},null,{"$f":"IF(I80<210,0,IF(I80>593,(200+(I80-593)*2),VLOOKUP(I80,baza!$B$3:$F$202,5,1)))","v":0},null,{"$f":"IF(K80=\"\",0,IF(K80>(-1*baza!$D$3),0,IF(K80<132.11,INT(200+(132.11-K80)*5),VLOOKUP(-K80,baza!$D$1:$F$203,3,1))))","v":0},0,0]
[null,{"$f":"szkoły!H22","v":0},null,{"$f":"IF(C81>=\"\",0,IF(C81>12.75,0,IF(C81<7.38,(200+(7.38-C81)*100),VLOOKUP(-C81,baza!$E$3:$F$202,2,1))))","v":0},null,{"$f":"IF(E81<8,0,IF(E81>77,(200+(E81-77)*2),VLOOKUP(E81,baza!$H$3:$J$202,3,0)))","v":0},null,{"$f":"IF(G81<80,0,IF(G81>179,200+(G81-179),VLOOKUP(G81,baza!$I$1:$J$65536,2,0)))","v":0},null,{"$f":"IF(I81<210,0,IF(I81>593,(200+(I81-593)*2),VLOOKUP(I81,baza!$B$3:$F$202,5,1)))","v":0},null,{"$f":"IF(K81=\"\",0,IF(K81>(-1*baza!$D$3),0,IF(K81<132.11,INT(200+(132.11-K81)*5),VLOOKUP(-K81,baza!$D$1:$F$203,3,1))))","v":0},0,0]
[null,{"$f":"szkoły!H23","v":0},null,{"$f":"IF(C82>=\"\",0,IF(C82>12.75,0,IF(C82<7.38,(200+(7.38-C82)*100),VLOOKUP(-C82,baza!$E$3:$F$202,2,1))))","v":0},null,{"$f":"IF(E82<8,0,IF(E82>77,(200+(E82-77)*2),VLOOKUP(E82,baza!$H$3:$J$202,3,0)))","v":0},null,{"$f":"IF(G82<80,0,IF(G82>179,200+(G82-179),VLOOKUP(G82,baza!$I$1:$J$65536,2,0)))","v":0},null,{"$f":"IF(I82<210,0,IF(I82>593,(200+(I82-593)*2),VLOOKUP(I82,baza!$B$3:$F$202,5,1)))","v":0},null,{"$f":"IF(K82=\"\",0,IF(K82>(-1*baza!$D$3),0,IF(K82<132.11,INT(200+(132.11-K82)*5),VLOOKUP(-K82,baza!$D$1:$F$203,3,1))))","v":0},0,0,{"$f":"SUM(M78:M82)","v":0},"I DZIEŃ"]
[null,{"$f":"szkoły!H24","v":0},null,{"$f":"IF(C83>=\"\",0,IF(C83>12.75,0,IF(C83<7.38,(200+(7.38-C83)*100),VLOOKUP(-C83,baza!$E$3:$F$202,2,1))))","v":0},null,{"$f":"IF(E83<8,0,IF(E83>77,(200+(E83-77)*2),VLOOKUP(E83,baza!$H$3:$J$202,3,0)))","v":0},null,{"$f":"IF(G83<80,0,IF(G83>179,200+(G83-179),VLOOKUP(G83,baza!$I$1:$J$65536,2,0)))","v":0},null,{"$f":"IF(I83<210,0,IF(I83>593,(200+(I83-593)*2),VLOOKUP(I83,baza!$B$3:$F$202,5,1)))","v":0},null,{"$f":"IF(K83=\"\",0,IF(K83>(-1*baza!$D$3),0,IF(K83<132.11,INT(200+(132.11-K83)*5),VLOOKUP(-K83,baza!$D$1:$F$203,3,1))))","v":0},0,0,{"$f":"IF(COUNT(N78:N82)<5,SUM(N78:N82),SUM(N78:N82)-MIN(N78:N82))","v":0},"II DZIEŃ"]
[{"$f":"szkoły!K18","v":0},"NAZWISKO/IMIĘ","60m","pkt","ppal","pkt","wzwyż","pkt","w dal","pkt","600m","pkt","I DZIEŃ","RAZEM"]
[null,{"$f":"szkoły!K19","v":0},null,{"$f":"IF(C85>=\"\",0,IF(C85>12.75,0,IF(C85<7.38,(200+(7.38-C85)*100),VLOOKUP(-C85,baza!$E$3:$F$202,2,1))))","v":0},null,{"$f":"IF(E85<8,0,IF(E85>77,(200+(E85-77)*2),VLOOKUP(E85,baza!$H$3:$J$202,3,0)))","v":0},null,{"$f":"IF(G85<80,0,IF(G85>179,200+(G85-179),VLOOKUP(G85,baza!$I$1:$J$65536,2,0)))","v":0},null,{"$f":"IF(I85<210,0,IF(I85>593,(200+(I85-593)*2),VLOOKUP(I85,baza!$B$3:$F$202,5,1)))","v":0},null,{"$f":"IF(K85=\"\",0,IF(K85>(-1*baza!$D$3),0,IF(K85<132.11,INT(200+(132.11-K85)*5),VLOOKUP(-K85,baza!$D$1:$F$203,3,1))))","v":0},{"$f":"(D85+F85+H85+J85)","v":0},{"$f":"M85+L85","v":0}]
[null,{"$f":"szkoły!K20","v":0},null,{"$f":"IF(C86>=\"\",0,IF(C86>12.75,0,IF(C86<7.38,(200+(7.38-C86)*100),VLOOKUP(-C86,baza!$E$3:$F$202,2,1))))","v":0},null,{"$f":"IF(E86<8,0,IF(E86>77,(200+(E86-77)*2),VLOOKUP(E86,baza!$H$3:$J$202,3,0)))","v":0},null,{"$f":"IF(G86<80,0,IF(G86>179,200+(G86-179),VLOOKUP(G86,baza!$I$1:$J$65536,2,0)))","v":0},null,{"$f":"IF(I86<210,0,IF(I86>593,(200+(I86-593)*2),VLOOKUP(I86,baza!$B$3:$F$202,5,1)))","v":0},null,{"$f":"IF(K86=\"\",0,IF(K86>(-1*baza!$D$3),0,IF(K86<132.11,INT(200+(132.11-K86)*5),VLOOKUP(-K86,baza!$D$1:$F$203,3,1))))","v":0},0,0]
[{"$f":"O90  & \" pkt.\"","v":"0 pkt."},{"$f":"szkoły!K21","v":0},null,{"$f":"IF(C87>=\"\",0,IF(C87>12.75,0,IF(C87<7.38,(200+(7.38-C87)*100),VLOOKUP(-C87,baza!$E$3:$F$202,2,1))))","v":0},null,{"$f":"IF(E87<8,0,IF(E87>77,(200+(E87-77)*2),VLOOKUP(E87,baza!$H$3:$J$202,3,0)))","v":0},null,{"$f":"IF(G87<80,0,IF(G87>179,200+(G87-179),VLOOKUP(G87,baza!$I$1:$J$65536,2,0)))","v":0},null,{"$f":"IF(I87<210,0,IF(I87>593,(200+(I87-593)*2),VLOOKUP(I87,baza!$B$3:$F$202,5,1)))","v":0},null,{"$f":"IF(K87=\"\",0,IF(K87>(-1*baza!$D$3),0,IF(K87<132.11,INT(200+(132.11-K87)*5),VLOOKUP(-K87,baza!$D$1:$F$203,3,1))))","v":0},0,0]
[null,{"$f":"szkoły!K22","v":0},null,{"$f":"IF(C88>=\"\",0,IF(C88>12.75,0,IF(C88<7.38,(200+(7.38-C88)*100),VLOOKUP(-C88,baza!$E$3:$F$202,2,1))))","v":0},null,{"$f":"IF(E88<8,0,IF(E88>77,(200+(E88-77)*2),VLOOKUP(E88,baza!$H$3:$J$202,3,0)))","v":0},null,{"$f":"IF(G88<80,0,IF(G88>179,200+(G88-179),VLOOKUP(G88,baza!$I$1:$J$65536,2,0)))","v":0},null,{"$f":"IF(I88<210,0,IF(I88>593,(200+(I88-593)*2),VLOOKUP(I88,baza!$B$3:$F$202,5,1)))","v":0},null,{"$f":"IF(K88=\"\",0,IF(K88>(-1*baza!$D$3),0,IF(K88<132.11,INT(200+(132.11-K88)*5),VLOOKUP(-K88,baza!$D$1:$F$203,3,1))))","v":0},0,0]
[null,{"$f":"szkoły!K23","v":0},null,{"$f":"IF(C89>=\"\",0,IF(C89>12.75,0,IF(C89<7.38,(200+(7.38-C89)*100),VLOOKUP(-C89,baza!$E$3:$F$202,2,1))))","v":0},null,{"$f":"IF(E89<8,0,IF(E89>77,(200+(E89-77)*2),VLOOKUP(E89,baza!$H$3:$J$202,3,0)))","v":0},null,{"$f":"IF(G89<80,0,IF(G89>179,200+(G89-179),VLOOKUP(G89,baza!$I$1:$J$65536,2,0)))","v":0},null,{"$f":"IF(I89<210,0,IF(I89>593,(200+(I89-593)*2),VLOOKUP(I89,baza!$B$3:$F$202,5,1)))","v":0},null,{"$f":"IF(K89=\"\",0,IF(K89>(-1*baza!$D$3),0,IF(K89<132.11,INT(200+(132.11-K89)*5),VLOOKUP(-K89,baza!$D$1:$F$203,3,1))))","v":0},0,0,{"$f":"SUM(M85:M89)","v":0},"I DZIEŃ"]
[null,{"$f":"szkoły!K24","v":0},null,{"$f":"IF(C90>=\"\",0,IF(C90>12.75,0,IF(C90<7.38,(200+(7.38-C90)*100),VLOOKUP(-C90,baza!$E$3:$F$202,2,1))))","v":0},null,{"$f":"IF(E90<8,0,IF(E90>77,(200+(E90-77)*2),VLOOKUP(E90,baza!$H$3:$J$202,3,0)))","v":0},null,{"$f":"IF(G90<80,0,IF(G90>179,200+(G90-179),VLOOKUP(G90,baza!$I$1:$J$65536,2,0)))","v":0},null,{"$f":"IF(I90<210,0,IF(I90>593,(200+(I90-593)*2),VLOOKUP(I90,baza!$B$3:$F$202,5,1)))","v":0},null,{"$f":"IF(K90=\"\",0,IF(K90>(-1*baza!$D$3),0,IF(K90<132.11,INT(200+(132.11-K90)*5),VLOOKUP(-K90,baza!$D$1:$F$203,3,1))))","v":0},0,0,{"$f":"IF(COUNT(N85:N89)<5,SUM(N85:N89),SUM(N85:N89)-MIN(N85:N89))","v":0},"II DZIEŃ"]
[{"$f":"szkoły!B26","v":0},"NAZWISKO/IMIĘ","60m","pkt","ppal","pkt","wzwyż","pkt","w dal","pkt","600m","pkt","I DZIEŃ","RAZEM"]
[null,{"$f":"szkoły!B27","v":0},null,{"$f":"IF(C92>=\"\",0,IF(C92>12.75,0,IF(C92<7.38,(200+(7.38-C92)*100),VLOOKUP(-C92,baza!$E$3:$F$202,2,1))))","v":0},null,{"$f":"IF(E92<8,0,IF(E92>77,(200+(E92-77)*2),VLOOKUP(E92,baza!$H$3:$J$202,3,0)))","v":0},null,{"$f":"IF(G92<80,0,IF(G92>179,200+(G92-179),VLOOKUP(G92,baza!$I$1:$J$65536,2,0)))","v":0},null,{"$f":"IF(I92<210,0,IF(I92>593,(200+(I92-593)*2),VLOOKUP(I92,baza!$B$3:$F$202,5,1)))","v":0},null,{"$f":"IF(K92=\"\",0,IF(K92>(-1*baza!$D$3),0,IF(K92<132.11,INT(200+(132.11-K92)*5),VLOOKUP(-K92,baza!$D$1:$F$203,3,1))))","v":0},{"$f":"(D92+F92+H92+J92)","v":0},{"$f":"M92+L92","v":0}]
[null,{"$f":"szkoły!B28","v":0},null,{"$f":"IF(C93>=\"\",0,IF(C93>12.75,0,IF(C93<7.38,(200+(7.38-C93)*100),VLOOKUP(-C93,baza!$E$3:$F$202,2,1))))","v":0},null,{"$f":"IF(E93<8,0,IF(E93>77,(200+(E93-77)*2),VLOOKUP(E93,baza!$H$3:$J$202,3,0)))","v":0},null,{"$f":"IF(G93<80,0,IF(G93>179,200+(G93-179),VLOOKUP(G93,baza!$I$1:$J$65536,2,0)))","v":0},null,{"$f":"IF(I93<210,0,IF(I93>593,(200+(I93-593)*2),VLOOKUP(I93,baza!$B$3:$F$202,5,1)))","v":0},null,{"$f":"IF(K93=\"\",0,IF(K93>(-1*baza!$D$3),0,IF(K93<132.11,INT(200+(132.11-K93)*5),VLOOKUP(-K93,baza!$D$1:$F$203,3,1))))","v":0},0,0]
[{"$f":"O97  & \" pkt.\"","v":"0 pkt."},{"$f":"szkoły!B29","v":0},null,{"$f":"IF(C94>=\"\",0,IF(C94>12.75,0,IF(C94<7.38,(200+(7.38-C94)*100),VLOOKUP(-C94,baza!$E$3:$F$202,2,1))))","v":0},null,{"$f":"IF(E94<8,0,IF(E94>77,(200+(E94-77)*2),VLOOKUP(E94,baza!$H$3:$J$202,3,0)))","v":0},null,{"$f":"IF(G94<80,0,IF(G94>179,200+(G94-179),VLOOKUP(G94,baza!$I$1:$J$65536,2,0)))","v":0},null,{"$f":"IF(I94<210,0,IF(I94>593,(200+(I94-593)*2),VLOOKUP(I94,baza!$B$3:$F$202,5,1)))","v":0},null,{"$f":"IF(K94=\"\",0,IF(K94>(-1*baza!$D$3),0,IF(K94<132.11,INT(200+(132.11-K94)*5),VLOOKUP(-K94,baza!$D$1:$F$203,3,1))))","v":0},0,0]
[null,{"$f":"szkoły!B30","v":0},null,{"$f":"IF(C95>=\"\",0,IF(C95>12.75,0,IF(C95<7.38,(200+(7.38-C95)*100),VLOOKUP(-C95,baza!$E$3:$F$202,2,1))))","v":0},null,{"$f":"IF(E95<8,0,IF(E95>77,(200+(E95-77)*2),VLOOKUP(E95,baza!$H$3:$J$202,3,0)))","v":0},null,{"$f":"IF(G95<80,0,IF(G95>179,200+(G95-179),VLOOKUP(G95,baza!$I$1:$J$65536,2,0)))","v":0},null,{"$f":"IF(I95<210,0,IF(I95>593,(200+(I95-593)*2),VLOOKUP(I95,baza!$B$3:$F$202,5,1)))","v":0},null,{"$f":"IF(K95=\"\",0,IF(K95>(-1*baza!$D$3),0,IF(K95<132.11,INT(200+(132.11-K95)*5),VLOOKUP(-K95,baza!$D$1:$F$203,3,1))))","v":0},0,0]
[null,{"$f":"szkoły!B31","v":0},null,{"$f":"IF(C96>=\"\",0,IF(C96>12.75,0,IF(C96<7.38,(200+(7.38-C96)*100),VLOOKUP(-C96,baza!$E$3:$F$202,2,1))))","v":0},null,{"$f":"IF(E96<8,0,IF(E96>77,(200+(E96-77)*2),VLOOKUP(E96,baza!$H$3:$J$202,3,0)))","v":0},null,{"$f":"IF(G96<80,0,IF(G96>179,200+(G96-179),VLOOKUP(G96,baza!$I$1:$J$65536,2,0)))","v":0},null,{"$f":"IF(I96<210,0,IF(I96>593,(200+(I96-593)*2),VLOOKUP(I96,baza!$B$3:$F$202,5,1)))","v":0},null,{"$f":"IF(K96=\"\",0,IF(K96>(-1*baza!$D$3),0,IF(K96<132.11,INT(200+(132.11-K96)*5),VLOOKUP(-K96,baza!$D$1:$F$203,3,1))))","v":0},0,0,{"$f":"SUM(M92:M96)","v":0},"I DZIEŃ"]
[null,{"$f":"szkoły!B32","v":0},null,{"$f":"IF(C97>=\"\",0,IF(C97>12.75,0,IF(C97<7.38,(200+(7.38-C97)*100),VLOOKUP(-C97,baza!$E$3:$F$202,2,1))))","v":0},null,{"$f":"IF(E97<8,0,IF(E97>77,(200+(E97-77)*2),VLOOKUP(E97,baza!$H$3:$J$202,3,0)))","v":0},null,{"$f":"IF(G97<80,0,IF(G97>179,200+(G97-179),VLOOKUP(G97,baza!$I$1:$J$65536,2,0)))","v":0},null,{"$f":"IF(I97<210,0,IF(I97>593,(200+(I97-593)*2),VLOOKUP(I97,baza!$B$3:$F$202,5,1)))","v":0},null,{"$f":"IF(K97=\"\",0,IF(K97>(-1*baza!$D$3),0,IF(K97<132.11,INT(200+(132.11-K97)*5),VLOOKUP(-K97,baza!$D$1:$F$203,3,1))))","v":0},0,0,{"$f":"IF(COUNT(N92:N96)<5,SUM(N92:N96),SUM(N92:N96)-MIN(N92:N96))","v":0},"II DZIEŃ"]
[{"$f":"szkoły!E26","v":0},"NAZWISKO/IMIĘ","60m","pkt","ppal","pkt","wzwyż","pkt","w dal","pkt","600m","pkt","I DZIEŃ","RAZEM"]
[null,{"$f":"szkoły!E27","v":0},null,{"$f":"IF(C99>=\"\",0,IF(C99>12.75,0,IF(C99<7.38,(200+(7.38-C99)*100),VLOOKUP(-C99,baza!$E$3:$F$202,2,1))))","v":0},null,{"$f":"IF(E99<8,0,IF(E99>77,(200+(E99-77)*2),VLOOKUP(E99,baza!$H$3:$J$202,3,0)))","v":0},null,{"$f":"IF(G99<80,0,IF(G99>179,200+(G99-179),VLOOKUP(G99,baza!$I$1:$J$65536,2,0)))","v":0},null,{"$f":"IF(I99<210,0,IF(I99>593,(200+(I99-593)*2),VLOOKUP(I99,baza!$B$3:$F$202,5,1)))","v":0},null,{"$f":"IF(K99=\"\",0,IF(K99>(-1*baza!$D$3),0,IF(K99<132.11,INT(200+(132.11-K99)*5),VLOOKUP(-K99,baza!$D$1:$F$203,3,1))))","v":0},{"$f":"(D99+F99+H99+J99)","v":0},{"$f":"M99+L99","v":0}]
[null,{"$f":"szkoły!E28","v":0},null,{"$f":"IF(C100>=\"\",0,IF(C100>12.75,0,IF(C100<7.38,(200+(7.38-C100)*100),VLOOKUP(-C100,baza!$E$3:$F$202,2,1))))","v":0},null,{"$f":"IF(E100<8,0,IF(E100>77,(200+(E100-77)*2),VLOOKUP(E100,baza!$H$3:$J$202,3,0)))","v":0},null,{"$f":"IF(G100<80,0,IF(G100>179,200+(G100-179),VLOOKUP(G100,baza!$I$1:$J$65536,2,0)))","v":0},null,{"$f":"IF(I100<210,0,IF(I100>593,(200+(I100-593)*2),VLOOKUP(I100,baza!$B$3:$F$202,5,1)))","v":0},null,{"$f":"IF(K100=\"\",0,IF(K100>(-1*baza!$D$3),0,IF(K100<132.11,INT(200+(132.11-K100)*5),VLOOKUP(-K100,baza!$D$1:$F$203,3,1))))","v":0},0,0]
[{"$f":"O104  & \" pkt.\"","v":"0 pkt."},{"$f":"szkoły!E29","v":0},null,{"$f":"IF(C101>=\"\",0,IF(C101>12.75,0,IF(C101<7.38,(200+(7.38-C101)*100),VLOOKUP(-C101,baza!$E$3:$F$202,2,1))))","v":0},null,{"$f":"IF(E101<8,0,IF(E101>77,(200+(E101-77)*2),VLOOKUP(E101,baza!$H$3:$J$202,3,0)))","v":0},null,{"$f":"IF(G101<80,0,IF(G101>179,200+(G101-179),VLOOKUP(G101,baza!$I$1:$J$65536,2,0)))","v":0},null,{"$f":"IF(I101<210,0,IF(I101>593,(200+(I101-593)*2),VLOOKUP(I101,baza!$B$3:$F$202,5,1)))","v":0},null,{"$f":"IF(K101=\"\",0,IF(K101>(-1*baza!$D$3),0,IF(K101<132.11,INT(200+(132.11-K101)*5),VLOOKUP(-K101,baza!$D$1:$F$203,3,1))))","v":0},0,0]
[null,{"$f":"szkoły!E30","v":0},null,{"$f":"IF(C102>=\"\",0,IF(C102>12.75,0,IF(C102<7.38,(200+(7.38-C102)*100),VLOOKUP(-C102,baza!$E$3:$F$202,2,1))))","v":0},null,{"$f":"IF(E102<8,0,IF(E102>77,(200+(E102-77)*2),VLOOKUP(E102,baza!$H$3:$J$202,3,0)))","v":0},null,{"$f":"IF(G102<80,0,IF(G102>179,200+(G102-179),VLOOKUP(G102,baza!$I$1:$J$65536,2,0)))","v":0},null,{"$f":"IF(I102<210,0,IF(I102>593,(200+(I102-593)*2),VLOOKUP(I102,baza!$B$3:$F$202,5,1)))","v":0},null,{"$f":"IF(K102=\"\",0,IF(K102>(-1*baza!$D$3),0,IF(K102<132.11,INT(200+(132.11-K102)*5),VLOOKUP(-K102,baza!$D$1:$F$203,3,1))))","v":0},0,0]
[null,{"$f":"szkoły!E31","v":0},null,{"$f":"IF(C103>=\"\",0,IF(C103>12.75,0,IF(C103<7.38,(200+(7.38-C103)*100),VLOOKUP(-C103,baza!$E$3:$F$202,2,1))))","v":0},null,{"$f":"IF(E103<8,0,IF(E103>77,(200+(E103-77)*2),VLOOKUP(E103,baza!$H$3:$J$202,3,0)))","v":0},null,{"$f":"IF(G103<80,0,IF(G103>179,200+(G103-179),VLOOKUP(G103,baza!$I$1:$J$65536,2,0)))","v":0},null,{"$f":"IF(I103<210,0,IF(I103>593,(200+(I103-593)*2),VLOOKUP(I103,baza!$B$3:$F$202,5,1)))","v":0},null,{"$f":"IF(K103=\"\",0,IF(K103>(-1*baza!$D$3),0,IF(K103<132.11,INT(200+(132.11-K103)*5),VLOOKUP(-K103,baza!$D$1:$F$203,3,1))))","v":0},0,0,{"$f":"SUM(M99:M103)","v":0},"I DZIEŃ"]
[null,{"$f":"szkoły!E32","v":0},null,{"$f":"IF(C104>=\"\",0,IF(C104>12.75,0,IF(C104<7.38,(200+(7.38-C104)*100),VLOOKUP(-C104,baza!$E$3:$F$202,2,1))))","v":0},null,{"$f":"IF(E104<8,0,IF(E104>77,(200+(E104-77)*2),VLOOKUP(E104,baza!$H$3:$J$202,3,0)))","v":0},null,{"$f":"IF(G104<80,0,IF(G104>179,200+(G104-179),VLOOKUP(G104,baza!$I$1:$J$65536,2,0)))","v":0},null,{"$f":"IF(I104<210,0,IF(I104>593,(200+(I104-593)*2),VLOOKUP(I104,baza!$B$3:$F$202,5,1)))","v":0},null,{"$f":"IF(K104=\"\",0,IF(K104>(-1*baza!$D$3),0,IF(K104<132.11,INT(200+(132.11-K104)*5),VLOOKUP(-K104,baza!$D$1:$F$203,3,1))))","v":0},0,0,{"$f":"IF(COUNT(N99:N103)<5,SUM(N99:N103),SUM(N99:N103)-MIN(N99:N103))","v":0},"II DZIEŃ"]
[{"$f":"szkoły!H26","v":0},"NAZWISKO/IMIĘ","60m","pkt","ppal","pkt","wzwyż","pkt","w dal","pkt","600m","pkt","I DZIEŃ","RAZEM"]
[null,{"$f":"szkoły!H27","v":0},null,{"$f":"IF(C106>=\"\",0,IF(C106>12.75,0,IF(C106<7.38,(200+(7.38-C106)*100),VLOOKUP(-C106,baza!$E$3:$F$202,2,1))))","v":0},null,{"$f":"IF(E106<8,0,IF(E106>77,(200+(E106-77)*2),VLOOKUP(E106,baza!$H$3:$J$202,3,0)))","v":0},null,{"$f":"IF(G106<80,0,IF(G106>179,200+(G106-179),VLOOKUP(G106,baza!$I$1:$J$65536,2,0)))","v":0},null,{"$f":"IF(I106<210,0,IF(I106>593,(200+(I106-593)*2),VLOOKUP(I106,baza!$B$3:$F$202,5,1)))","v":0},null,{"$f":"IF(K106=\"\",0,IF(K106>(-1*baza!$D$3),0,IF(K106<132.11,INT(200+(132.11-K106)*5),VLOOKUP(-K106,baza!$D$1:$F$203,3,1))))","v":0},{"$f":"(D106+F106+H106+J106)","v":0},{"$f":"M106+L106","v":0}]
[null,{"$f":"szkoły!H28","v":0},null,{"$f":"IF(C107>=\"\",0,IF(C107>12.75,0,IF(C107<7.38,(200+(7.38-C107)*100),VLOOKUP(-C107,baza!$E$3:$F$202,2,1))))","v":0},null,{"$f":"IF(E107<8,0,IF(E107>77,(200+(E107-77)*2),VLOOKUP(E107,baza!$H$3:$J$202,3,0)))","v":0},null,{"$f":"IF(G107<80,0,IF(G107>179,200+(G107-179),VLOOKUP(G107,baza!$I$1:$J$65536,2,0)))","v":0},null,{"$f":"IF(I107<210,0,IF(I107>593,(200+(I107-593)*2),VLOOKUP(I107,baza!$B$3:$F$202,5,1)))","v":0},null,{"$f":"IF(K107=\"\",0,IF(K107>(-1*baza!$D$3),0,IF(K107<132.11,INT(200+(132.11-K107)*5),VLOOKUP(-K107,baza!$D$1:$F$203,3,1))))","v":0},0,0]
[{"$f":"O111  & \" pkt.\"","v":"0 pkt."},{"$f":"szkoły!H29","v":0},null,{"$f":"IF(C108>=\"\",0,IF(C108>12.75,0,IF(C108<7.38,(200+(7.38-C108)*100),VLOOKUP(-C108,baza!$E$3:$F$202,2,1))))","v":0},null,{"$f":"IF(E108<8,0,IF(E108>77,(200+(E108-77)*2),VLOOKUP(E108,baza!$H$3:$J$202,3,0)))","v":0},null,{"$f":"IF(G108<80,0,IF(G108>179,200+(G108-179),VLOOKUP(G108,baza!$I$1:$J$65536,2,0)))","v":0},null,{"$f":"IF(I108<210,0,IF(I108>593,(200+(I108-593)*2),VLOOKUP(I108,baza!$B$3:$F$202,5,1)))","v":0},null,{"$f":"IF(K108=\"\",0,IF(K108>(-1*baza!$D$3),0,IF(K108<132.11,INT(200+(132.11-K108)*5),VLOOKUP(-K108,baza!$D$1:$F$203,3,1))))","v":0},0,0]
[null,{"$f":"szkoły!H30","v":0},null,{"$f":"IF(C109>=\"\",0,IF(C109>12.75,0,IF(C109<7.38,(200+(7.38-C109)*100),VLOOKUP(-C109,baza!$E$3:$F$202,2,1))))","v":0},null,{"$f":"IF(E109<8,0,IF(E109>77,(200+(E109-77)*2),VLOOKUP(E109,baza!$H$3:$J$202,3,0)))","v":0},null,{"$f":"IF(G109<80,0,IF(G109>179,200+(G109-179),VLOOKUP(G109,baza!$I$1:$J$65536,2,0)))","v":0},null,{"$f":"IF(I109<210,0,IF(I109>593,(200+(I109-593)*2),VLOOKUP(I109,baza!$B$3:$F$202,5,1)))","v":0},null,{"$f":"IF(K109=\"\",0,IF(K109>(-1*baza!$D$3),0,IF(K109<132.11,INT(200+(132.11-K109)*5),VLOOKUP(-K109,baza!$D$1:$F$203,3,1))))","v":0},0,0]
[null,{"$f":"szkoły!H31","v":0},null,{"$f":"IF(C110>=\"\",0,IF(C110>12.75,0,IF(C110<7.38,(200+(7.38-C110)*100),VLOOKUP(-C110,baza!$E$3:$F$202,2,1))))","v":0},null,{"$f":"IF(E110<8,0,IF(E110>77,(200+(E110-77)*2),VLOOKUP(E110,baza!$H$3:$J$202,3,0)))","v":0},null,{"$f":"IF(G110<80,0,IF(G110>179,200+(G110-179),VLOOKUP(G110,baza!$I$1:$J$65536,2,0)))","v":0},null,{"$f":"IF(I110<210,0,IF(I110>593,(200+(I110-593)*2),VLOOKUP(I110,baza!$B$3:$F$202,5,1)))","v":0},null,{"$f":"IF(K110=\"\",0,IF(K110>(-1*baza!$D$3),0,IF(K110<132.11,INT(200+(132.11-K110)*5),VLOOKUP(-K110,baza!$D$1:$F$203,3,1))))","v":0},0,0,{"$f":"SUM(M106:M110)","v":0},"I DZIEŃ"]
[null,{"$f":"szkoły!H32","v":0},null,{"$f":"IF(C111>=\"\",0,IF(C111>12.75,0,IF(C111<7.38,(200+(7.38-C111)*100),VLOOKUP(-C111,baza!$E$3:$F$202,2,1))))","v":0},null,{"$f":"IF(E111<8,0,IF(E111>77,(200+(E111-77)*2),VLOOKUP(E111,baza!$H$3:$J$202,3,0)))","v":0},null,{"$f":"IF(G111<80,0,IF(G111>179,200+(G111-179),VLOOKUP(G111,baza!$I$1:$J$65536,2,0)))","v":0},null,{"$f":"IF(I111<210,0,IF(I111>593,(200+(I111-593)*2),VLOOKUP(I111,baza!$B$3:$F$202,5,1)))","v":0},null,{"$f":"IF(K111=\"\",0,IF(K111>(-1*baza!$D$3),0,IF(K111<132.11,INT(200+(132.11-K111)*5),VLOOKUP(-K111,baza!$D$1:$F$203,3,1))))","v":0},0,0,{"$f":"IF(COUNT(N106:N110)<5,SUM(N106:N110),SUM(N106:N110)-MIN(N106:N110))","v":0},"II DZIEŃ"]
[{"$f":"szkoły!K26","v":0},"NAZWISKO/IMIĘ",null,"pkt","ppal","pkt","wzwyż","pkt","w dal","pkt","600m","pkt","I DZIEŃ","RAZEM"]
[null,{"$f":"szkoły!K27","v":0},null,{"$f":"IF(C113>=\"\",0,IF(C113>12.75,0,IF(C113<7.38,(200+(7.38-C113)*100),VLOOKUP(-C113,baza!$E$3:$F$202,2,1))))","v":0},null,{"$f":"IF(E113<8,0,IF(E113>77,(200+(E113-77)*2),VLOOKUP(E113,baza!$H$3:$J$202,3,0)))","v":0},null,{"$f":"IF(G113<80,0,IF(G113>179,200+(G113-179),VLOOKUP(G113,baza!$I$1:$J$65536,2,0)))","v":0},null,{"$f":"IF(I113<210,0,IF(I113>593,(200+(I113-593)*2),VLOOKUP(I113,baza!$B$3:$F$202,5,1)))","v":0},null,{"$f":"IF(K113=\"\",0,IF(K113>(-1*baza!$D$3),0,IF(K113<132.11,INT(200+(132.11-K113)*5),VLOOKUP(-K113,baza!$D$1:$F$203,3,1))))","v":0},{"$f":"(D113+F113+H113+J113)","v":0},{"$f":"M113+L113","v":0}]
[null,{"$f":"szkoły!K28","v":0},null,{"$f":"IF(C114>=\"\",0,IF(C114>12.75,0,IF(C114<7.38,(200+(7.38-C114)*100),VLOOKUP(-C114,baza!$E$3:$F$202,2,1))))","v":0},null,{"$f":"IF(E114<8,0,IF(E114>77,(200+(E114-77)*2),VLOOKUP(E114,baza!$H$3:$J$202,3,0)))","v":0},null,{"$f":"IF(G114<80,0,IF(G114>179,200+(G114-179),VLOOKUP(G114,baza!$I$1:$J$65536,2,0)))","v":0},null,{"$f":"IF(I114<210,0,IF(I114>593,(200+(I114-593)*2),VLOOKUP(I114,baza!$B$3:$F$202,5,1)))","v":0},null,{"$f":"IF(K114=\"\",0,IF(K114>(-1*baza!$D$3),0,IF(K114<132.11,INT(200+(132.11-K114)*5),VLOOKUP(-K114,baza!$D$1:$F$203,3,1))))","v":0},0,0]
[{"$f":"O118 & \" pkt.\"","v":"0 pkt."},{"$f":"szkoły!K29","v":0},null,{"$f":"IF(C115>=\"\",0,IF(C115>12.75,0,IF(C115<7.38,(200+(7.38-C115)*100),VLOOKUP(-C115,baza!$E$3:$F$202,2,1))))","v":0},null,{"$f":"IF(E115<8,0,IF(E115>77,(200+(E115-77)*2),VLOOKUP(E115,baza!$H$3:$J$202,3,0)))","v":0},null,{"$f":"IF(G115<80,0,IF(G115>179,200+(G115-179),VLOOKUP(G115,baza!$I$1:$J$65536,2,0)))","v":0},null,{"$f":"IF(I115<210,0,IF(I115>593,(200+(I115-593)*2),VLOOKUP(I115,baza!$B$3:$F$202,5,1)))","v":0},null,{"$f":"IF(K115=\"\",0,IF(K115>(-1*baza!$D$3),0,IF(K115<132.11,INT(200+(132.11-K115)*5),VLOOKUP(-K115,baza!$D$1:$F$203,3,1))))","v":0},0,0]
[null,{"$f":"szkoły!K30","v":0},null,{"$f":"IF(C116>=\"\",0,IF(C116>12.75,0,IF(C116<7.38,(200+(7.38-C116)*100),VLOOKUP(-C116,baza!$E$3:$F$202,2,1))))","v":0},null,{"$f":"IF(E116<8,0,IF(E116>77,(200+(E116-77)*2),VLOOKUP(E116,baza!$H$3:$J$202,3,0)))","v":0},null,{"$f":"IF(G116<80,0,IF(G116>179,200+(G116-179),VLOOKUP(G116,baza!$I$1:$J$65536,2,0)))","v":0},null,{"$f":"IF(I116<210,0,IF(I116>593,(200+(I116-593)*2),VLOOKUP(I116,baza!$B$3:$F$202,5,1)))","v":0},null,{"$f":"IF(K116=\"\",0,IF(K116>(-1*baza!$D$3),0,IF(K116<132.11,INT(200+(132.11-K116)*5),VLOOKUP(-K116,baza!$D$1:$F$203,3,1))))","v":0},0,0]
[null,{"$f":"szkoły!K31","v":0},null,{"$f":"IF(C117>=\"\",0,IF(C117>12.75,0,IF(C117<7.38,(200+(7.38-C117)*100),VLOOKUP(-C117,baza!$E$3:$F$202,2,1))))","v":0},null,{"$f":"IF(E117<8,0,IF(E117>77,(200+(E117-77)*2),VLOOKUP(E117,baza!$H$3:$J$202,3,0)))","v":0},null,{"$f":"IF(G117<80,0,IF(G117>179,200+(G117-179),VLOOKUP(G117,baza!$I$1:$J$65536,2,0)))","v":0},null,{"$f":"IF(I117<210,0,IF(I117>593,(200+(I117-593)*2),VLOOKUP(I117,baza!$B$3:$F$202,5,1)))","v":0},null,{"$f":"IF(K117=\"\",0,IF(K117>(-1*baza!$D$3),0,IF(K117<132.11,INT(200+(132.11-K117)*5),VLOOKUP(-K117,baza!$D$1:$F$203,3,1))))","v":0},0,0,{"$f":"SUM(M113:M117)","v":0},"I DZIEŃ"]
[null,{"$f":"szkoły!K32","v":0},null,{"$f":"IF(C118>=\"\",0,IF(C118>12.75,0,IF(C118<7.38,(200+(7.38-C118)*100),VLOOKUP(-C118,baza!$E$3:$F$202,2,1))))","v":0},null,{"$f":"IF(E118<8,0,IF(E118>77,(200+(E118-77)*2),VLOOKUP(E118,baza!$H$3:$J$202,3,0)))","v":0},null,{"$f":"IF(G118<80,0,IF(G118>179,200+(G118-179),VLOOKUP(G118,baza!$I$1:$J$65536,2,0)))","v":0},null,{"$f":"IF(I118<210,0,IF(I118>593,(200+(I118-593)*2),VLOOKUP(I118,baza!$B$3:$F$202,5,1)))","v":0},null,{"$f":"IF(K118=\"\",0,IF(K118>(-1*baza!$D$3),0,IF(K118<132.11,INT(200+(132.11-K118)*5),VLOOKUP(-K118,baza!$D$1:$F$203,3,1))))","v":0},0,0,{"$f":"IF(COUNT(N113:N117)<5,SUM(N113:N117),SUM(N113:N117)-MIN(N113:N117))","v":0},"II DZIEŃ"]
[{"$f":"szkoły!B34","v":0},"NAZWISKO/IMIĘ","60m","pkt","ppal","pkt","wzwyż","pkt","w dal","pkt","600m","pkt","I DZIEŃ","RAZEM"]
[null,{"$f":"szkoły!B35","v":0},null,{"$f":"IF(C120>=\"\",0,IF(C120>12.75,0,IF(C120<7.38,(200+(7.38-C120)*100),VLOOKUP(-C120,baza!$E$3:$F$202,2,1))))","v":0},null,{"$f":"IF(E120<8,0,IF(E120>77,(200+(E120-77)*2),VLOOKUP(E120,baza!$H$3:$J$202,3,0)))","v":0},null,{"$f":"IF(G120<80,0,IF(G120>179,200+(G120-179),VLOOKUP(G120,baza!$I$1:$J$65536,2,0)))","v":0},null,{"$f":"IF(I120<210,0,IF(I120>593,(200+(I120-593)*2),VLOOKUP(I120,baza!$B$3:$F$202,5,1)))","v":0},null,{"$f":"IF(K120=\"\",0,IF(K120>(-1*baza!$D$3),0,IF(K120<132.11,INT(200+(132.11-K120)*5),VLOOKUP(-K120,baza!$D$1:$F$203,3,1))))","v":0},{"$f":"(D120+F120+H120+J120)","v":0},{"$f":"M120+L120","v":0}]
[null,{"$f":"szkoły!B36","v":0},null,{"$f":"IF(C121>=\"\",0,IF(C121>12.75,0,IF(C121<7.38,(200+(7.38-C121)*100),VLOOKUP(-C121,baza!$E$3:$F$202,2,1))))","v":0},null,{"$f":"IF(E121<8,0,IF(E121>77,(200+(E121-77)*2),VLOOKUP(E121,baza!$H$3:$J$202,3,0)))","v":0},null,{"$f":"IF(G121<80,0,IF(G121>179,200+(G121-179),VLOOKUP(G121,baza!$I$1:$J$65536,2,0)))","v":0},null,{"$f":"IF(I121<210,0,IF(I121>593,(200+(I121-593)*2),VLOOKUP(I121,baza!$B$3:$F$202,5,1)))","v":0},null,{"$f":"IF(K121=\"\",0,IF(K121>(-1*baza!$D$3),0,IF(K121<132.11,INT(200+(132.11-K121)*5),VLOOKUP(-K121,baza!$D$1:$F$203,3,1))))","v":0},0,0]
[{"$f":"O125 & \" pkt.\"","v":"0 pkt."},{"$f":"szkoły!B37","v":0},null,{"$f":"IF(C122>=\"\",0,IF(C122>12.75,0,IF(C122<7.38,(200+(7.38-C122)*100),VLOOKUP(-C122,baza!$E$3:$F$202,2,1))))","v":0},null,{"$f":"IF(E122<8,0,IF(E122>77,(200+(E122-77)*2),VLOOKUP(E122,baza!$H$3:$J$202,3,0)))","v":0},null,{"$f":"IF(G122<80,0,IF(G122>179,200+(G122-179),VLOOKUP(G122,baza!$I$1:$J$65536,2,0)))","v":0},null,{"$f":"IF(I122<210,0,IF(I122>593,(200+(I122-593)*2),VLOOKUP(I122,baza!$B$3:$F$202,5,1)))","v":0},null,{"$f":"IF(K122=\"\",0,IF(K122>(-1*baza!$D$3),0,IF(K122<132.11,INT(200+(132.11-K122)*5),VLOOKUP(-K122,baza!$D$1:$F$203,3,1))))","v":0},0,0]
[null,{"$f":"szkoły!B38","v":0},null,{"$f":"IF(C123>=\"\",0,IF(C123>12.75,0,IF(C123<7.38,(200+(7.38-C123)*100),VLOOKUP(-C123,baza!$E$3:$F$202,2,1))))","v":0},null,{"$f":"IF(E123<8,0,IF(E123>77,(200+(E123-77)*2),VLOOKUP(E123,baza!$H$3:$J$202,3,0)))","v":0},null,{"$f":"IF(G123<80,0,IF(G123>179,200+(G123-179),VLOOKUP(G123,baza!$I$1:$J$65536,2,0)))","v":0},null,{"$f":"IF(I123<210,0,IF(I123>593,(200+(I123-593)*2),VLOOKUP(I123,baza!$B$3:$F$202,5,1)))","v":0},null,{"$f":"IF(K123=\"\",0,IF(K123>(-1*baza!$D$3),0,IF(K123<132.11,INT(200+(132.11-K123)*5),VLOOKUP(-K123,baza!$D$1:$F$203,3,1))))","v":0},0,0]
[null,{"$f":"szkoły!B39","v":0},null,{"$f":"IF(C124>=\"\",0,IF(C124>12.75,0,IF(C124<7.38,(200+(7.38-C124)*100),VLOOKUP(-C124,baza!$E$3:$F$202,2,1))))","v":0},null,{"$f":"IF(E124<8,0,IF(E124>77,(200+(E124-77)*2),VLOOKUP(E124,baza!$H$3:$J$202,3,0)))","v":0},null,{"$f":"IF(G124<80,0,IF(G124>179,200+(G124-179),VLOOKUP(G124,baza!$I$1:$J$65536,2,0)))","v":0},null,{"$f":"IF(I124<210,0,IF(I124>593,(200+(I124-593)*2),VLOOKUP(I124,baza!$B$3:$F$202,5,1)))","v":0},null,{"$f":"IF(K124=\"\",0,IF(K124>(-1*baza!$D$3),0,IF(K124<132.11,INT(200+(132.11-K124)*5),VLOOKUP(-K124,baza!$D$1:$F$203,3,1))))","v":0},0,0,{"$f":"SUM(M120:M124)","v":0},"I DZIEŃ"]
[null,{"$f":"szkoły!B40","v":0},null,{"$f":"IF(C125>=\"\",0,IF(C125>12.75,0,IF(C125<7.38,(200+(7.38-C125)*100),VLOOKUP(-C125,baza!$E$3:$F$202,2,1))))","v":0},null,{"$f":"IF(E125<8,0,IF(E125>77,(200+(E125-77)*2),VLOOKUP(E125,baza!$H$3:$J$202,3,0)))","v":0},null,{"$f":"IF(G125<80,0,IF(G125>179,200+(G125-179),VLOOKUP(G125,baza!$I$1:$J$65536,2,0)))","v":0},null,{"$f":"IF(I125<210,0,IF(I125>593,(200+(I125-593)*2),VLOOKUP(I125,baza!$B$3:$F$202,5,1)))","v":0},null,{"$f":"IF(K125=\"\",0,IF(K125>(-1*baza!$D$3),0,IF(K125<132.11,INT(200+(132.11-K125)*5),VLOOKUP(-K125,baza!$D$1:$F$203,3,1))))","v":0},0,0,{"$f":"IF(COUNT(N120:N124)<5,SUM(N120:N124),SUM(N120:N124)-MIN(N120:N124))","v":0},"II DZIEŃ"]
[{"$f":"szkoły!E34","v":0},"NAZWISKO/IMIĘ","60m","pkt","ppal","pkt","wzwyż","pkt","w dal","pkt","600m","pkt","I DZIEŃ","RAZEM"]
[null,{"$f":"szkoły!E35","v":0},null,{"$f":"IF(C127>=\"\",0,IF(C127>12.75,0,IF(C127<7.38,(200+(7.38-C127)*100),VLOOKUP(-C127,baza!$E$3:$F$202,2,1))))","v":0},null,{"$f":"IF(E127<8,0,IF(E127>77,(200+(E127-77)*2),VLOOKUP(E127,baza!$H$3:$J$202,3,0)))","v":0},null,{"$f":"IF(G127<80,0,IF(G127>179,200+(G127-179),VLOOKUP(G127,baza!$I$1:$J$65536,2,0)))","v":0},null,{"$f":"IF(I127<210,0,IF(I127>593,(200+(I127-593)*2),VLOOKUP(I127,baza!$B$3:$F$202,5,1)))","v":0},null,{"$f":"IF(K127=\"\",0,IF(K127>(-1*baza!$D$3),0,IF(K127<132.11,INT(200+(132.11-K127)*5),VLOOKUP(-K127,baza!$D$1:$F$203,3,1))))","v":0},{"$f":"(D127+F127+H127+J127)","v":0},{"$f":"M127+L127","v":0}]
[null,{"$f":"szkoły!E36","v":0},null,{"$f":"IF(C128>=\"\",0,IF(C128>12.75,0,IF(C128<7.38,(200+(7.38-C128)*100),VLOOKUP(-C128,baza!$E$3:$F$202,2,1))))","v":0},null,{"$f":"IF(E128<8,0,IF(E128>77,(200+(E128-77)*2),VLOOKUP(E128,baza!$H$3:$J$202,3,0)))","v":0},null,{"$f":"IF(G128<80,0,IF(G128>179,200+(G128-179),VLOOKUP(G128,baza!$I$1:$J$65536,2,0)))","v":0},null,{"$f":"IF(I128<210,0,IF(I128>593,(200+(I128-593)*2),VLOOKUP(I128,baza!$B$3:$F$202,5,1)))","v":0},null,{"$f":"IF(K128=\"\",0,IF(K128>(-1*baza!$D$3),0,IF(K128<132.11,INT(200+(132.11-K128)*5),VLOOKUP(-K128,baza!$D$1:$F$203,3,1))))","v":0},0,0]
[{"$f":"O132 & \" pkt.\"","v":"0 pkt."},{"$f":"szkoły!E37","v":0},null,{"$f":"IF(C129>=\"\",0,IF(C129>12.75,0,IF(C129<7.38,(200+(7.38-C129)*100),VLOOKUP(-C129,baza!$E$3:$F$202,2,1))))","v":0},null,{"$f":"IF(E129<8,0,IF(E129>77,(200+(E129-77)*2),VLOOKUP(E129,baza!$H$3:$J$202,3,0)))","v":0},null,{"$f":"IF(G129<80,0,IF(G129>179,200+(G129-179),VLOOKUP(G129,baza!$I$1:$J$65536,2,0)))","v":0},null,{"$f":"IF(I129<210,0,IF(I129>593,(200+(I129-593)*2),VLOOKUP(I129,baza!$B$3:$F$202,5,1)))","v":0},null,{"$f":"IF(K129=\"\",0,IF(K129>(-1*baza!$D$3),0,IF(K129<132.11,INT(200+(132.11-K129)*5),VLOOKUP(-K129,baza!$D$1:$F$203,3,1))))","v":0},0,0]
[null,{"$f":"szkoły!E38","v":0},null,{"$f":"IF(C130>=\"\",0,IF(C130>12.75,0,IF(C130<7.38,(200+(7.38-C130)*100),VLOOKUP(-C130,baza!$E$3:$F$202,2,1))))","v":0},null,{"$f":"IF(E130<8,0,IF(E130>77,(200+(E130-77)*2),VLOOKUP(E130,baza!$H$3:$J$202,3,0)))","v":0},null,{"$f":"IF(G130<80,0,IF(G130>179,200+(G130-179),VLOOKUP(G130,baza!$I$1:$J$65536,2,0)))","v":0},null,{"$f":"IF(I130<210,0,IF(I130>593,(200+(I130-593)*2),VLOOKUP(I130,baza!$B$3:$F$202,5,1)))","v":0},null,{"$f":"IF(K130=\"\",0,IF(K130>(-1*baza!$D$3),0,IF(K130<132.11,INT(200+(132.11-K130)*5),VLOOKUP(-K130,baza!$D$1:$F$203,3,1))))","v":0},0,0]
[null,{"$f":"szkoły!E39","v":0},null,{"$f":"IF(C131>=\"\",0,IF(C131>12.75,0,IF(C131<7.38,(200+(7.38-C131)*100),VLOOKUP(-C131,baza!$E$3:$F$202,2,1))))","v":0},null,{"$f":"IF(E131<8,0,IF(E131>77,(200+(E131-77)*2),VLOOKUP(E131,baza!$H$3:$J$202,3,0)))","v":0},null,{"$f":"IF(G131<80,0,IF(G131>179,200+(G131-179),VLOOKUP(G131,baza!$I$1:$J$65536,2,0)))","v":0},null,{"$f":"IF(I131<210,0,IF(I131>593,(200+(I131-593)*2),VLOOKUP(I131,baza!$B$3:$F$202,5,1)))","v":0},null,{"$f":"IF(K131=\"\",0,IF(K131>(-1*baza!$D$3),0,IF(K131<132.11,INT(200+(132.11-K131)*5),VLOOKUP(-K131,baza!$D$1:$F$203,3,1))))","v":0},0,0,{"$f":"SUM(M127:M131)","v":0},"I DZIEŃ"]
[null,{"$f":"szkoły!E40","v":0},null,{"$f":"IF(C132>=\"\",0,IF(C132>12.75,0,IF(C132<7.38,(200+(7.38-C132)*100),VLOOKUP(-C132,baza!$E$3:$F$202,2,1))))","v":0},null,{"$f":"IF(E132<8,0,IF(E132>77,(200+(E132-77)*2),VLOOKUP(E132,baza!$H$3:$J$202,3,0)))","v":0},null,{"$f":"IF(G132<80,0,IF(G132>179,200+(G132-179),VLOOKUP(G132,baza!$I$1:$J$65536,2,0)))","v":0},null,{"$f":"IF(I132<210,0,IF(I132>593,(200+(I132-593)*2),VLOOKUP(I132,baza!$B$3:$F$202,5,1)))","v":0},null,{"$f":"IF(K132=\"\",0,IF(K132>(-1*baza!$D$3),0,IF(K132<132.11,INT(200+(132.11-K132)*5),VLOOKUP(-K132,baza!$D$1:$F$203,3,1))))","v":0},0,0,{"$f":"IF(COUNT(N127:N131)<5,SUM(N127:N131),SUM(N127:N131)-MIN(N127:N131))","v":0},"II DZIEŃ"]
[{"$f":"szkoły!H34","v":0},"NAZWISKO/IMIĘ","60m","pkt","ppal","pkt","wzwyż","pkt","w dal","pkt","600m","pkt","I DZIEŃ","RAZEM"]
[null,{"$f":"szkoły!H35","v":0},null,{"$f":"IF(C134>=\"\",0,IF(C134>12.75,0,IF(C134<7.38,(200+(7.38-C134)*100),VLOOKUP(-C134,baza!$E$3:$F$202,2,1))))","v":0},null,{"$f":"IF(E134<8,0,IF(E134>77,(200+(E134-77)*2),VLOOKUP(E134,baza!$H$3:$J$202,3,0)))","v":0},null,{"$f":"IF(G134<80,0,IF(G134>179,200+(G134-179),VLOOKUP(G134,baza!$I$1:$J$65536,2,0)))","v":0},null,{"$f":"IF(I134<210,0,IF(I134>593,(200+(I134-593)*2),VLOOKUP(I134,baza!$B$3:$F$202,5,1)))","v":0},null,{"$f":"IF(K134=\"\",0,IF(K134>(-1*baza!$D$3),0,IF(K134<132.11,INT(200+(132.11-K134)*5),VLOOKUP(-K134,baza!$D$1:$F$203,3,1))))","v":0},{"$f":"(D134+F134+H134+J134)","v":0},{"$f":"M134+L134","v":0}]
[null,{"$f":"szkoły!H36","v":0},null,{"$f":"IF(C135>=\"\",0,IF(C135>12.75,0,IF(C135<7.38,(200+(7.38-C135)*100),VLOOKUP(-C135,baza!$E$3:$F$202,2,1))))","v":0},null,{"$f":"IF(E135<8,0,IF(E135>77,(200+(E135-77)*2),VLOOKUP(E135,baza!$H$3:$J$202,3,0)))","v":0},null,{"$f":"IF(G135<80,0,IF(G135>179,200+(G135-179),VLOOKUP(G135,baza!$I$1:$J$65536,2,0)))","v":0},null,{"$f":"IF(I135<210,0,IF(I135>593,(200+(I135-593)*2),VLOOKUP(I135,baza!$B$3:$F$202,5,1)))","v":0},null,{"$f":"IF(K135=\"\",0,IF(K135>(-1*baza!$D$3),0,IF(K135<132.11,INT(200+(132.11-K135)*5),VLOOKUP(-K135,baza!$D$1:$F$203,3,1))))","v":0},0,0]
[{"$f":"O139 & \" pkt.\"","v":"0 pkt."},{"$f":"szkoły!H37","v":0},null,{"$f":"IF(C136>=\"\",0,IF(C136>12.75,0,IF(C136<7.38,(200+(7.38-C136)*100),VLOOKUP(-C136,baza!$E$3:$F$202,2,1))))","v":0},null,{"$f":"IF(E136<8,0,IF(E136>77,(200+(E136-77)*2),VLOOKUP(E136,baza!$H$3:$J$202,3,0)))","v":0},null,{"$f":"IF(G136<80,0,IF(G136>179,200+(G136-179),VLOOKUP(G136,baza!$I$1:$J$65536,2,0)))","v":0},null,{"$f":"IF(I136<210,0,IF(I136>593,(200+(I136-593)*2),VLOOKUP(I136,baza!$B$3:$F$202,5,1)))","v":0},null,{"$f":"IF(K136=\"\",0,IF(K136>(-1*baza!$D$3),0,IF(K136<132.11,INT(200+(132.11-K136)*5),VLOOKUP(-K136,baza!$D$1:$F$203,3,1))))","v":0},0,0]
[null,{"$f":"szkoły!H38","v":0},null,{"$f":"IF(C137>=\"\",0,IF(C137>12.75,0,IF(C137<7.38,(200+(7.38-C137)*100),VLOOKUP(-C137,baza!$E$3:$F$202,2,1))))","v":0},null,{"$f":"IF(E137<8,0,IF(E137>77,(200+(E137-77)*2),VLOOKUP(E137,baza!$H$3:$J$202,3,0)))","v":0},null,{"$f":"IF(G137<80,0,IF(G137>179,200+(G137-179),VLOOKUP(G137,baza!$I$1:$J$65536,2,0)))","v":0},null,{"$f":"IF(I137<210,0,IF(I137>593,(200+(I137-593)*2),VLOOKUP(I137,baza!$B$3:$F$202,5,1)))","v":0},null,{"$f":"IF(K137=\"\",0,IF(K137>(-1*baza!$D$3),0,IF(K137<132.11,INT(200+(132.11-K137)*5),VLOOKUP(-K137,baza!$D$1:$F$203,3,1))))","v":0},0,0]
[null,{"$f":"szkoły!H39","v":0},null,{"$f":"IF(C138>=\"\",0,IF(C138>12.75,0,IF(C138<7.38,(200+(7.38-C138)*100),VLOOKUP(-C138,baza!$E$3:$F$202,2,1))))","v":0},null,{"$f":"IF(E138<8,0,IF(E138>77,(200+(E138-77)*2),VLOOKUP(E138,baza!$H$3:$J$202,3,0)))","v":0},null,{"$f":"IF(G138<80,0,IF(G138>179,200+(G138-179),VLOOKUP(G138,baza!$I$1:$J$65536,2,0)))","v":0},null,{"$f":"IF(I138<210,0,IF(I138>593,(200+(I138-593)*2),VLOOKUP(I138,baza!$B$3:$F$202,5,1)))","v":0},null,{"$f":"IF(K138=\"\",0,IF(K138>(-1*baza!$D$3),0,IF(K138<132.11,INT(200+(132.11-K138)*5),VLOOKUP(-K138,baza!$D$1:$F$203,3,1))))","v":0},0,0,{"$f":"SUM(M134:M138)","v":0},"I DZIEŃ"]
[null,{"$f":"szkoły!H40","v":0},null,{"$f":"IF(C139>=\"\",0,IF(C139>12.75,0,IF(C139<7.38,(200+(7.38-C139)*100),VLOOKUP(-C139,baza!$E$3:$F$202,2,1))))","v":0},null,{"$f":"IF(E139<8,0,IF(E139>77,(200+(E139-77)*2),VLOOKUP(E139,baza!$H$3:$J$202,3,0)))","v":0},null,{"$f":"IF(G139<80,0,IF(G139>179,200+(G139-179),VLOOKUP(G139,baza!$I$1:$J$65536,2,0)))","v":0},null,{"$f":"IF(I139<210,0,IF(I139>593,(200+(I139-593)*2),VLOOKUP(I139,baza!$B$3:$F$202,5,1)))","v":0},null,{"$f":"IF(K139=\"\",0,IF(K139>(-1*baza!$D$3),0,IF(K139<132.11,INT(200+(132.11-K139)*5),VLOOKUP(-K139,baza!$D$1:$F$203,3,1))))","v":0},0,0,{"$f":"IF(COUNT(N134:N138)<5,SUM(N134:N138),SUM(N134:N138)-MIN(N134:N138))","v":0},"II DZIEŃ"]
[{"$f":"szkoły!K34","v":0},"NAZWISKO/IMIĘ","60m","pkt","ppal","pkt","wzwyż","pkt","w dal","pkt","600m","pkt","I DZIEŃ","RAZEM"]
[null,{"$f":"szkoły!K35","v":0},null,{"$f":"IF(C141>=\"\",0,IF(C141>12.75,0,IF(C141<7.38,(200+(7.38-C141)*100),VLOOKUP(-C141,baza!$E$3:$F$202,2,1))))","v":0},null,{"$f":"IF(E141<8,0,IF(E141>77,(200+(E141-77)*2),VLOOKUP(E141,baza!$H$3:$J$202,3,0)))","v":0},null,{"$f":"IF(G141<80,0,IF(G141>179,200+(G141-179),VLOOKUP(G141,baza!$I$1:$J$65536,2,0)))","v":0},null,{"$f":"IF(I141<210,0,IF(I141>593,(200+(I141-593)*2),VLOOKUP(I141,baza!$B$3:$F$202,5,1)))","v":0},null,{"$f":"IF(K141=\"\",0,IF(K141>(-1*baza!$D$3),0,IF(K141<132.11,INT(200+(132.11-K141)*5),VLOOKUP(-K141,baza!$D$1:$F$203,3,1))))","v":0},{"$f":"(D141+F141+H141+J141)","v":0},{"$f":"M141+L141","v":0}]
[null,{"$f":"szkoły!K36","v":0},null,{"$f":"IF(C142>=\"\",0,IF(C142>12.75,0,IF(C142<7.38,(200+(7.38-C142)*100),VLOOKUP(-C142,baza!$E$3:$F$202,2,1))))","v":0},null,{"$f":"IF(E142<8,0,IF(E142>77,(200+(E142-77)*2),VLOOKUP(E142,baza!$H$3:$J$202,3,0)))","v":0},null,{"$f":"IF(G142<80,0,IF(G142>179,200+(G142-179),VLOOKUP(G142,baza!$I$1:$J$65536,2,0)))","v":0},null,{"$f":"IF(I142<210,0,IF(I142>593,(200+(I142-593)*2),VLOOKUP(I142,baza!$B$3:$F$202,5,1)))","v":0},null,{"$f":"IF(K142=\"\",0,IF(K142>(-1*baza!$D$3),0,IF(K142<132.11,INT(200+(132.11-K142)*5),VLOOKUP(-K142,baza!$D$1:$F$203,3,1))))","v":0},0,0]
[{"$f":"O146 & \" pkt.\"","v":"0 pkt."},{"$f":"szkoły!K37","v":0},null,{"$f":"IF(C143>=\"\",0,IF(C143>12.75,0,IF(C143<7.38,(200+(7.38-C143)*100),VLOOKUP(-C143,baza!$E$3:$F$202,2,1))))","v":0},null,{"$f":"IF(E143<8,0,IF(E143>77,(200+(E143-77)*2),VLOOKUP(E143,baza!$H$3:$J$202,3,0)))","v":0},null,{"$f":"IF(G143<80,0,IF(G143>179,200+(G143-179),VLOOKUP(G143,baza!$I$1:$J$65536,2,0)))","v":0},null,{"$f":"IF(I143<210,0,IF(I143>593,(200+(I143-593)*2),VLOOKUP(I143,baza!$B$3:$F$202,5,1)))","v":0},null,{"$f":"IF(K143=\"\",0,IF(K143>(-1*baza!$D$3),0,IF(K143<132.11,INT(200+(132.11-K143)*5),VLOOKUP(-K143,baza!$D$1:$F$203,3,1))))","v":0},0,0]
[null,{"$f":"szkoły!K38","v":0},null,{"$f":"IF(C144>=\"\",0,IF(C144>12.75,0,IF(C144<7.38,(200+(7.38-C144)*100),VLOOKUP(-C144,baza!$E$3:$F$202,2,1))))","v":0},null,{"$f":"IF(E144<8,0,IF(E144>77,(200+(E144-77)*2),VLOOKUP(E144,baza!$H$3:$J$202,3,0)))","v":0},null,{"$f":"IF(G144<80,0,IF(G144>179,200+(G144-179),VLOOKUP(G144,baza!$I$1:$J$65536,2,0)))","v":0},null,{"$f":"IF(I144<210,0,IF(I144>593,(200+(I144-593)*2),VLOOKUP(I144,baza!$B$3:$F$202,5,1)))","v":0},null,{"$f":"IF(K144=\"\",0,IF(K144>(-1*baza!$D$3),0,IF(K144<132.11,INT(200+(132.11-K144)*5),VLOOKUP(-K144,baza!$D$1:$F$203,3,1))))","v":0},0,0]
[null,{"$f":"szkoły!K39","v":0},null,{"$f":"IF(C145>=\"\",0,IF(C145>12.75,0,IF(C145<7.38,(200+(7.38-C145)*100),VLOOKUP(-C145,baza!$E$3:$F$202,2,1))))","v":0},null,{"$f":"IF(E145<8,0,IF(E145>77,(200+(E145-77)*2),VLOOKUP(E145,baza!$H$3:$J$202,3,0)))","v":0},null,{"$f":"IF(G145<80,0,IF(G145>179,200+(G145-179),VLOOKUP(G145,baza!$I$1:$J$65536,2,0)))","v":0},null,{"$f":"IF(I145<210,0,IF(I145>593,(200+(I145-593)*2),VLOOKUP(I145,baza!$B$3:$F$202,5,1)))","v":0},null,{"$f":"IF(K145=\"\",0,IF(K145>(-1*baza!$D$3),0,IF(K145<132.11,INT(200+(132.11-K145)*5),VLOOKUP(-K145,baza!$D$1:$F$203,3,1))))","v":0},0,0,{"$f":"SUM(M141:M145)","v":0},"I DZIEŃ"]
[null,{"$f":"szkoły!K40","v":0},null,{"$f":"IF(C146>=\"\",0,IF(C146>12.75,0,IF(C146<7.38,(200+(7.38-C146)*100),VLOOKUP(-C146,baza!$E$3:$F$202,2,1))))","v":0},null,{"$f":"IF(E146<8,0,IF(E146>77,(200+(E146-77)*2),VLOOKUP(E146,baza!$H$3:$J$202,3,0)))","v":0},null,{"$f":"IF(G146<80,0,IF(G146>179,200+(G146-179),VLOOKUP(G146,baza!$I$1:$J$65536,2,0)))","v":0},null,{"$f":"IF(I146<210,0,IF(I146>593,(200+(I146-593)*2),VLOOKUP(I146,baza!$B$3:$F$202,5,1)))","v":0},null,{"$f":"IF(K146=\"\",0,IF(K146>(-1*baza!$D$3),0,IF(K146<132.11,INT(200+(132.11-K146)*5),VLOOKUP(-K146,baza!$D$1:$F$203,3,1))))","v":0},0,0,{"$f":"IF(COUNT(N141:N145)<5,SUM(N141:N145),SUM(N141:N145)-MIN(N141:N145))","v":0},"II DZIEŃ"]
[{"$f":"szkoły!B42","v":0},"NAZWISKO/IMIĘ","60m","pkt","ppal","pkt","wzwyż","pkt","w dal","pkt","600m","pkt","I DZIEŃ","RAZEM"]
[null,{"$f":"szkoły!B43","v":0},null,{"$f":"IF(C148>=\"\",0,IF(C148>12.75,0,IF(C148<7.38,(200+(7.38-C148)*100),VLOOKUP(-C148,baza!$E$3:$F$202,2,1))))","v":0},null,{"$f":"IF(E148<8,0,IF(E148>77,(200+(E148-77)*2),VLOOKUP(E148,baza!$H$3:$J$202,3,0)))","v":0},null,{"$f":"IF(G148<80,0,IF(G148>179,200+(G148-179),VLOOKUP(G148,baza!$I$1:$J$65536,2,0)))","v":0},null,{"$f":"IF(I148<210,0,IF(I148>593,(200+(I148-593)*2),VLOOKUP(I148,baza!$B$3:$F$202,5,1)))","v":0},null,{"$f":"IF(K148=\"\",0,IF(K148>(-1*baza!$D$3),0,IF(K148<132.11,INT(200+(132.11-K148)*5),VLOOKUP(-K148,baza!$D$1:$F$203,3,1))))","v":0},{"$f":"(D148+F148+H148+J148)","v":0},{"$f":"M148+L148","v":0}]
[null,{"$f":"szkoły!B44","v":0},null,{"$f":"IF(C149>=\"\",0,IF(C149>12.75,0,IF(C149<7.38,(200+(7.38-C149)*100),VLOOKUP(-C149,baza!$E$3:$F$202,2,1))))","v":0},null,{"$f":"IF(E149<8,0,IF(E149>77,(200+(E149-77)*2),VLOOKUP(E149,baza!$H$3:$J$202,3,0)))","v":0},null,{"$f":"IF(G149<80,0,IF(G149>179,200+(G149-179),VLOOKUP(G149,baza!$I$1:$J$65536,2,0)))","v":0},null,{"$f":"IF(I149<210,0,IF(I149>593,(200+(I149-593)*2),VLOOKUP(I149,baza!$B$3:$F$202,5,1)))","v":0},null,{"$f":"IF(K149=\"\",0,IF(K149>(-1*baza!$D$3),0,IF(K149<132.11,INT(200+(132.11-K149)*5),VLOOKUP(-K149,baza!$D$1:$F$203,3,1))))","v":0},0,0]
[{"$f":"O153 & \" pkt.\"","v":"0 pkt."},{"$f":"szkoły!B45","v":0},null,{"$f":"IF(C150>=\"\",0,IF(C150>12.75,0,IF(C150<7.38,(200+(7.38-C150)*100),VLOOKUP(-C150,baza!$E$3:$F$202,2,1))))","v":0},null,{"$f":"IF(E150<8,0,IF(E150>77,(200+(E150-77)*2),VLOOKUP(E150,baza!$H$3:$J$202,3,0)))","v":0},null,{"$f":"IF(G150<80,0,IF(G150>179,200+(G150-179),VLOOKUP(G150,baza!$I$1:$J$65536,2,0)))","v":0},null,{"$f":"IF(I150<210,0,IF(I150>593,(200+(I150-593)*2),VLOOKUP(I150,baza!$B$3:$F$202,5,1)))","v":0},null,{"$f":"IF(K150=\"\",0,IF(K150>(-1*baza!$D$3),0,IF(K150<132.11,INT(200+(132.11-K150)*5),VLOOKUP(-K150,baza!$D$1:$F$203,3,1))))","v":0},0,0]
[null,{"$f":"szkoły!B46","v":0},null,{"$f":"IF(C151>=\"\",0,IF(C151>12.75,0,IF(C151<7.38,(200+(7.38-C151)*100),VLOOKUP(-C151,baza!$E$3:$F$202,2,1))))","v":0},null,{"$f":"IF(E151<8,0,IF(E151>77,(200+(E151-77)*2),VLOOKUP(E151,baza!$H$3:$J$202,3,0)))","v":0},null,{"$f":"IF(G151<80,0,IF(G151>179,200+(G151-179),VLOOKUP(G151,baza!$I$1:$J$65536,2,0)))","v":0},null,{"$f":"IF(I151<210,0,IF(I151>593,(200+(I151-593)*2),VLOOKUP(I151,baza!$B$3:$F$202,5,1)))","v":0},null,{"$f":"IF(K151=\"\",0,IF(K151>(-1*baza!$D$3),0,IF(K151<132.11,INT(200+(132.11-K151)*5),VLOOKUP(-K151,baza!$D$1:$F$203,3,1))))","v":0},0,0]
[null,{"$f":"szkoły!B47","v":0},null,{"$f":"IF(C152>=\"\",0,IF(C152>12.75,0,IF(C152<7.38,(200+(7.38-C152)*100),VLOOKUP(-C152,baza!$E$3:$F$202,2,1))))","v":0},null,{"$f":"IF(E152<8,0,IF(E152>77,(200+(E152-77)*2),VLOOKUP(E152,baza!$H$3:$J$202,3,0)))","v":0},null,{"$f":"IF(G152<80,0,IF(G152>179,200+(G152-179),VLOOKUP(G152,baza!$I$1:$J$65536,2,0)))","v":0},null,{"$f":"IF(I152<210,0,IF(I152>593,(200+(I152-593)*2),VLOOKUP(I152,baza!$B$3:$F$202,5,1)))","v":0},null,{"$f":"IF(K152=\"\",0,IF(K152>(-1*baza!$D$3),0,IF(K152<132.11,INT(200+(132.11-K152)*5),VLOOKUP(-K152,baza!$D$1:$F$203,3,1))))","v":0},0,0,{"$f":"SUM(M148:M152)","v":0},"I DZIEŃ"]
[null,{"$f":"szkoły!B48","v":0},null,{"$f":"IF(C153>=\"\",0,IF(C153>12.75,0,IF(C153<7.38,(200+(7.38-C153)*100),VLOOKUP(-C153,baza!$E$3:$F$202,2,1))))","v":0},null,{"$f":"IF(E153<8,0,IF(E153>77,(200+(E153-77)*2),VLOOKUP(E153,baza!$H$3:$J$202,3,0)))","v":0},null,{"$f":"IF(G153<80,0,IF(G153>179,200+(G153-179),VLOOKUP(G153,baza!$I$1:$J$65536,2,0)))","v":0},null,{"$f":"IF(I153<210,0,IF(I153>593,(200+(I153-593)*2),VLOOKUP(I153,baza!$B$3:$F$202,5,1)))","v":0},null,{"$f":"IF(K153=\"\",0,IF(K153>(-1*baza!$D$3),0,IF(K153<132.11,INT(200+(132.11-K153)*5),VLOOKUP(-K153,baza!$D$1:$F$203,3,1))))","v":0},0,0,{"$f":"IF(COUNT(N148:N152)<5,SUM(N148:N152),SUM(N148:N152)-MIN(N148:N152))","v":0},"II DZIEŃ"]
[{"$f":"szkoły!E42","v":0},"NAZWISKO/IMIĘ","60m","pkt","ppal","pkt","wzwyż","pkt","w dal","pkt","600m","pkt","I DZIEŃ","RAZEM"]
[null,{"$f":"szkoły!E43","v":0},null,{"$f":"IF(C155>=\"\",0,IF(C155>12.75,0,IF(C155<7.38,(200+(7.38-C155)*100),VLOOKUP(-C155,baza!$E$3:$F$202,2,1))))","v":0},null,{"$f":"IF(E155<8,0,IF(E155>77,(200+(E155-77)*2),VLOOKUP(E155,baza!$H$3:$J$202,3,0)))","v":0},null,{"$f":"IF(G155<80,0,IF(G155>179,200+(G155-179),VLOOKUP(G155,baza!$I$1:$J$65536,2,0)))","v":0},null,{"$f":"IF(I155<210,0,IF(I155>593,(200+(I155-593)*2),VLOOKUP(I155,baza!$B$3:$F$202,5,1)))","v":0},null,{"$f":"IF(K155=\"\",0,IF(K155>(-1*baza!$D$3),0,IF(K155<132.11,INT(200+(132.11-K155)*5),VLOOKUP(-K155,baza!$D$1:$F$203,3,1))))","v":0},{"$f":"(D155+F155+H155+J155)","v":0},{"$f":"M155+L155","v":0}]
[null,{"$f":"szkoły!E44","v":0},null,{"$f":"IF(C156>=\"\",0,IF(C156>12.75,0,IF(C156<7.38,(200+(7.38-C156)*100),VLOOKUP(-C156,baza!$E$3:$F$202,2,1))))","v":0},null,{"$f":"IF(E156<8,0,IF(E156>77,(200+(E156-77)*2),VLOOKUP(E156,baza!$H$3:$J$202,3,0)))","v":0},null,{"$f":"IF(G156<80,0,IF(G156>179,200+(G156-179),VLOOKUP(G156,baza!$I$1:$J$65536,2,0)))","v":0},null,{"$f":"IF(I156<210,0,IF(I156>593,(200+(I156-593)*2),VLOOKUP(I156,baza!$B$3:$F$202,5,1)))","v":0},null,{"$f":"IF(K156=\"\",0,IF(K156>(-1*baza!$D$3),0,IF(K156<132.11,INT(200+(132.11-K156)*5),VLOOKUP(-K156,baza!$D$1:$F$203,3,1))))","v":0},0,0]
[{"$f":"O160 & \" pkt.\"","v":"0 pkt."},{"$f":"szkoły!E45","v":0},null,{"$f":"IF(C157>=\"\",0,IF(C157>12.75,0,IF(C157<7.38,(200+(7.38-C157)*100),VLOOKUP(-C157,baza!$E$3:$F$202,2,1))))","v":0},null,{"$f":"IF(E157<8,0,IF(E157>77,(200+(E157-77)*2),VLOOKUP(E157,baza!$H$3:$J$202,3,0)))","v":0},null,{"$f":"IF(G157<80,0,IF(G157>179,200+(G157-179),VLOOKUP(G157,baza!$I$1:$J$65536,2,0)))","v":0},null,{"$f":"IF(I157<210,0,IF(I157>593,(200+(I157-593)*2),VLOOKUP(I157,baza!$B$3:$F$202,5,1)))","v":0},null,{"$f":"IF(K157=\"\",0,IF(K157>(-1*baza!$D$3),0,IF(K157<132.11,INT(200+(132.11-K157)*5),VLOOKUP(-K157,baza!$D$1:$F$203,3,1))))","v":0},0,0]
[null,{"$f":"szkoły!E46","v":0},null,{"$f":"IF(C158>=\"\",0,IF(C158>12.75,0,IF(C158<7.38,(200+(7.38-C158)*100),VLOOKUP(-C158,baza!$E$3:$F$202,2,1))))","v":0},null,{"$f":"IF(E158<8,0,IF(E158>77,(200+(E158-77)*2),VLOOKUP(E158,baza!$H$3:$J$202,3,0)))","v":0},null,{"$f":"IF(G158<80,0,IF(G158>179,200+(G158-179),VLOOKUP(G158,baza!$I$1:$J$65536,2,0)))","v":0},null,{"$f":"IF(I158<210,0,IF(I158>593,(200+(I158-593)*2),VLOOKUP(I158,baza!$B$3:$F$202,5,1)))","v":0},null,{"$f":"IF(K158=\"\",0,IF(K158>(-1*baza!$D$3),0,IF(K158<132.11,INT(200+(132.11-K158)*5),VLOOKUP(-K158,baza!$D$1:$F$203,3,1))))","v":0},0,0]
[null,{"$f":"szkoły!E47","v":0},null,{"$f":"IF(C159>=\"\",0,IF(C159>12.75,0,IF(C159<7.38,(200+(7.38-C159)*100),VLOOKUP(-C159,baza!$E$3:$F$202,2,1))))","v":0},null,{"$f":"IF(E159<8,0,IF(E159>77,(200+(E159-77)*2),VLOOKUP(E159,baza!$H$3:$J$202,3,0)))","v":0},null,{"$f":"IF(G159<80,0,IF(G159>179,200+(G159-179),VLOOKUP(G159,baza!$I$1:$J$65536,2,0)))","v":0},null,{"$f":"IF(I159<210,0,IF(I159>593,(200+(I159-593)*2),VLOOKUP(I159,baza!$B$3:$F$202,5,1)))","v":0},null,{"$f":"IF(K159=\"\",0,IF(K159>(-1*baza!$D$3),0,IF(K159<132.11,INT(200+(132.11-K159)*5),VLOOKUP(-K159,baza!$D$1:$F$203,3,1))))","v":0},0,0,{"$f":"SUM(M155:M159)","v":0},"I DZIEŃ"]
[null,{"$f":"szkoły!E48","v":0},null,{"$f":"IF(C160>=\"\",0,IF(C160>12.75,0,IF(C160<7.38,(200+(7.38-C160)*100),VLOOKUP(-C160,baza!$E$3:$F$202,2,1))))","v":0},null,{"$f":"IF(E160<8,0,IF(E160>77,(200+(E160-77)*2),VLOOKUP(E160,baza!$H$3:$J$202,3,0)))","v":0},null,{"$f":"IF(G160<80,0,IF(G160>179,200+(G160-179),VLOOKUP(G160,baza!$I$1:$J$65536,2,0)))","v":0},null,{"$f":"IF(I160<210,0,IF(I160>593,(200+(I160-593)*2),VLOOKUP(I160,baza!$B$3:$F$202,5,1)))","v":0},null,{"$f":"IF(K160=\"\",0,IF(K160>(-1*baza!$D$3),0,IF(K160<132.11,INT(200+(132.11-K160)*5),VLOOKUP(-K160,baza!$D$1:$F$203,3,1))))","v":0},0,0,{"$f":"IF(COUNT(N155:N159)<5,SUM(N155:N159),SUM(N155:N159)-MIN(N155:N159))","v":0},"II DZIEŃ"]
[{"$f":"szkoły!H42","v":0},"NAZWISKO/IMIĘ","60m","pkt","ppal","pkt","wzwyż","pkt","w dal","pkt","600m","pkt","I DZIEŃ","RAZEM"]
[null,{"$f":"szkoły!H43","v":0},null,{"$f":"IF(C162>=\"\",0,IF(C162>12.75,0,IF(C162<7.38,(200+(7.38-C162)*100),VLOOKUP(-C162,baza!$E$3:$F$202,2,1))))","v":0},null,{"$f":"IF(E162<8,0,IF(E162>77,(200+(E162-77)*2),VLOOKUP(E162,baza!$H$3:$J$202,3,0)))","v":0},null,{"$f":"IF(G162<80,0,IF(G162>179,200+(G162-179),VLOOKUP(G162,baza!$I$1:$J$65536,2,0)))","v":0},null,{"$f":"IF(I162<210,0,IF(I162>593,(200+(I162-593)*2),VLOOKUP(I162,baza!$B$3:$F$202,5,1)))","v":0},null,{"$f":"IF(K162=\"\",0,IF(K162>(-1*baza!$D$3),0,IF(K162<132.11,INT(200+(132.11-K162)*5),VLOOKUP(-K162,baza!$D$1:$F$203,3,1))))","v":0},{"$f":"(D162+F162+H162+J162)","v":0},{"$f":"M162+L162","v":0}]
[null,{"$f":"szkoły!H44","v":0},null,{"$f":"IF(C163>=\"\",0,IF(C163>12.75,0,IF(C163<7.38,(200+(7.38-C163)*100),VLOOKUP(-C163,baza!$E$3:$F$202,2,1))))","v":0},null,{"$f":"IF(E163<8,0,IF(E163>77,(200+(E163-77)*2),VLOOKUP(E163,baza!$H$3:$J$202,3,0)))","v":0},null,{"$f":"IF(G163<80,0,IF(G163>179,200+(G163-179),VLOOKUP(G163,baza!$I$1:$J$65536,2,0)))","v":0},null,{"$f":"IF(I163<210,0,IF(I163>593,(200+(I163-593)*2),VLOOKUP(I163,baza!$B$3:$F$202,5,1)))","v":0},null,{"$f":"IF(K163=\"\",0,IF(K163>(-1*baza!$D$3),0,IF(K163<132.11,INT(200+(132.11-K163)*5),VLOOKUP(-K163,baza!$D$1:$F$203,3,1))))","v":0},0,0]
[{"$f":"O167 & \" pkt.\"","v":"0 pkt."},{"$f":"szkoły!H45","v":0},null,{"$f":"IF(C164>=\"\",0,IF(C164>12.75,0,IF(C164<7.38,(200+(7.38-C164)*100),VLOOKUP(-C164,baza!$E$3:$F$202,2,1))))","v":0},null,{"$f":"IF(E164<8,0,IF(E164>77,(200+(E164-77)*2),VLOOKUP(E164,baza!$H$3:$J$202,3,0)))","v":0},null,{"$f":"IF(G164<80,0,IF(G164>179,200+(G164-179),VLOOKUP(G164,baza!$I$1:$J$65536,2,0)))","v":0},null,{"$f":"IF(I164<210,0,IF(I164>593,(200+(I164-593)*2),VLOOKUP(I164,baza!$B$3:$F$202,5,1)))","v":0},null,{"$f":"IF(K164=\"\",0,IF(K164>(-1*baza!$D$3),0,IF(K164<132.11,INT(200+(132.11-K164)*5),VLOOKUP(-K164,baza!$D$1:$F$203,3,1))))","v":0},0,0]
[null,{"$f":"szkoły!H46","v":0},null,{"$f":"IF(C165>=\"\",0,IF(C165>12.75,0,IF(C165<7.38,(200+(7.38-C165)*100),VLOOKUP(-C165,baza!$E$3:$F$202,2,1))))","v":0},null,{"$f":"IF(E165<8,0,IF(E165>77,(200+(E165-77)*2),VLOOKUP(E165,baza!$H$3:$J$202,3,0)))","v":0},null,{"$f":"IF(G165<80,0,IF(G165>179,200+(G165-179),VLOOKUP(G165,baza!$I$1:$J$65536,2,0)))","v":0},null,{"$f":"IF(I165<210,0,IF(I165>593,(200+(I165-593)*2),VLOOKUP(I165,baza!$B$3:$F$202,5,1)))","v":0},null,{"$f":"IF(K165=\"\",0,IF(K165>(-1*baza!$D$3),0,IF(K165<132.11,INT(200+(132.11-K165)*5),VLOOKUP(-K165,baza!$D$1:$F$203,3,1))))","v":0},0,0]
[null,{"$f":"szkoły!H47","v":0},null,{"$f":"IF(C166>=\"\",0,IF(C166>12.75,0,IF(C166<7.38,(200+(7.38-C166)*100),VLOOKUP(-C166,baza!$E$3:$F$202,2,1))))","v":0},null,{"$f":"IF(E166<8,0,IF(E166>77,(200+(E166-77)*2),VLOOKUP(E166,baza!$H$3:$J$202,3,0)))","v":0},null,{"$f":"IF(G166<80,0,IF(G166>179,200+(G166-179),VLOOKUP(G166,baza!$I$1:$J$65536,2,0)))","v":0},null,{"$f":"IF(I166<210,0,IF(I166>593,(200+(I166-593)*2),VLOOKUP(I166,baza!$B$3:$F$202,5,1)))","v":0},null,{"$f":"IF(K166=\"\",0,IF(K166>(-1*baza!$D$3),0,IF(K166<132.11,INT(200+(132.11-K166)*5),VLOOKUP(-K166,baza!$D$1:$F$203,3,1))))","v":0},0,0,{"$f":"SUM(M162:M166)","v":0},"I DZIEŃ"]
[null,{"$f":"szkoły!H48","v":0},null,{"$f":"IF(C167>=\"\",0,IF(C167>12.75,0,IF(C167<7.38,(200+(7.38-C167)*100),VLOOKUP(-C167,baza!$E$3:$F$202,2,1))))","v":0},null,{"$f":"IF(E167<8,0,IF(E167>77,(200+(E167-77)*2),VLOOKUP(E167,baza!$H$3:$J$202,3,0)))","v":0},null,{"$f":"IF(G167<80,0,IF(G167>179,200+(G167-179),VLOOKUP(G167,baza!$I$1:$J$65536,2,0)))","v":0},null,{"$f":"IF(I167<210,0,IF(I167>593,(200+(I167-593)*2),VLOOKUP(I167,baza!$B$3:$F$202,5,1)))","v":0},null,{"$f":"IF(K167=\"\",0,IF(K167>(-1*baza!$D$3),0,IF(K167<132.11,INT(200+(132.11-K167)*5),VLOOKUP(-K167,baza!$D$1:$F$203,3,1))))","v":0},0,0,{"$f":"IF(COUNT(N162:N166)<5,SUM(N162:N166),SUM(N162:N166)-MIN(N162:N166))","v":0},"II DZIEŃ"]
[{"$f":"szkoły!K42","v":0},"NAZWISKO/IMIĘ","60m","pkt","ppal","pkt","wzwyż","pkt","w dal","pkt","600m","pkt","I DZIEŃ","RAZEM"]
[null,{"$f":"szkoły!K43","v":0},null,{"$f":"IF(C169>=\"\",0,IF(C169>12.75,0,IF(C169<7.38,(200+(7.38-C169)*100),VLOOKUP(-C169,baza!$E$3:$F$202,2,1))))","v":0},null,{"$f":"IF(E169<8,0,IF(E169>77,(200+(E169-77)*2),VLOOKUP(E169,baza!$H$3:$J$202,3,0)))","v":0},null,{"$f":"IF(G169<80,0,IF(G169>179,200+(G169-179),VLOOKUP(G169,baza!$I$1:$J$65536,2,0)))","v":0},null,{"$f":"IF(I169<210,0,IF(I169>593,(200+(I169-593)*2),VLOOKUP(I169,baza!$B$3:$F$202,5,1)))","v":0},null,{"$f":"IF(K169=\"\",0,IF(K169>(-1*baza!$D$3),0,IF(K169<132.11,INT(200+(132.11-K169)*5),VLOOKUP(-K169,baza!$D$1:$F$203,3,1))))","v":0},{"$f":"(D169+F169+H169+J169)","v":0},{"$f":"M169+L169","v":0}]
[null,{"$f":"szkoły!K44","v":0},null,{"$f":"IF(C170>=\"\",0,IF(C170>12.75,0,IF(C170<7.38,(200+(7.38-C170)*100),VLOOKUP(-C170,baza!$E$3:$F$202,2,1))))","v":0},null,{"$f":"IF(E170<8,0,IF(E170>77,(200+(E170-77)*2),VLOOKUP(E170,baza!$H$3:$J$202,3,0)))","v":0},null,{"$f":"IF(G170<80,0,IF(G170>179,200+(G170-179),VLOOKUP(G170,baza!$I$1:$J$65536,2,0)))","v":0},null,{"$f":"IF(I170<210,0,IF(I170>593,(200+(I170-593)*2),VLOOKUP(I170,baza!$B$3:$F$202,5,1)))","v":0},null,{"$f":"IF(K170=\"\",0,IF(K170>(-1*baza!$D$3),0,IF(K170<132.11,INT(200+(132.11-K170)*5),VLOOKUP(-K170,baza!$D$1:$F$203,3,1))))","v":0},0,0]
[{"$f":"O174 & \" pkt.\"","v":"0 pkt."},{"$f":"szkoły!K45","v":0},null,{"$f":"IF(C171>=\"\",0,IF(C171>12.75,0,IF(C171<7.38,(200+(7.38-C171)*100),VLOOKUP(-C171,baza!$E$3:$F$202,2,1))))","v":0},null,{"$f":"IF(E171<8,0,IF(E171>77,(200+(E171-77)*2),VLOOKUP(E171,baza!$H$3:$J$202,3,0)))","v":0},null,{"$f":"IF(G171<80,0,IF(G171>179,200+(G171-179),VLOOKUP(G171,baza!$I$1:$J$65536,2,0)))","v":0},null,{"$f":"IF(I171<210,0,IF(I171>593,(200+(I171-593)*2),VLOOKUP(I171,baza!$B$3:$F$202,5,1)))","v":0},null,{"$f":"IF(K171=\"\",0,IF(K171>(-1*baza!$D$3),0,IF(K171<132.11,INT(200+(132.11-K171)*5),VLOOKUP(-K171,baza!$D$1:$F$203,3,1))))","v":0},0,0]
[null,{"$f":"szkoły!K46","v":0},null,{"$f":"IF(C172>=\"\",0,IF(C172>12.75,0,IF(C172<7.38,(200+(7.38-C172)*100),VLOOKUP(-C172,baza!$E$3:$F$202,2,1))))","v":0},null,{"$f":"IF(E172<8,0,IF(E172>77,(200+(E172-77)*2),VLOOKUP(E172,baza!$H$3:$J$202,3,0)))","v":0},null,{"$f":"IF(G172<80,0,IF(G172>179,200+(G172-179),VLOOKUP(G172,baza!$I$1:$J$65536,2,0)))","v":0},null,{"$f":"IF(I172<210,0,IF(I172>593,(200+(I172-593)*2),VLOOKUP(I172,baza!$B$3:$F$202,5,1)))","v":0},null,{"$f":"IF(K172=\"\",0,IF(K172>(-1*baza!$D$3),0,IF(K172<132.11,INT(200+(132.11-K172)*5),VLOOKUP(-K172,baza!$D$1:$F$203,3,1))))","v":0},0,0]
[null,{"$f":"szkoły!K47","v":0},null,{"$f":"IF(C173>=\"\",0,IF(C173>12.75,0,IF(C173<7.38,(200+(7.38-C173)*100),VLOOKUP(-C173,baza!$E$3:$F$202,2,1))))","v":0},null,{"$f":"IF(E173<8,0,IF(E173>77,(200+(E173-77)*2),VLOOKUP(E173,baza!$H$3:$J$202,3,0)))","v":0},null,{"$f":"IF(G173<80,0,IF(G173>179,200+(G173-179),VLOOKUP(G173,baza!$I$1:$J$65536,2,0)))","v":0},null,{"$f":"IF(I173<210,0,IF(I173>593,(200+(I173-593)*2),VLOOKUP(I173,baza!$B$3:$F$202,5,1)))","v":0},null,{"$f":"IF(K173=\"\",0,IF(K173>(-1*baza!$D$3),0,IF(K173<132.11,INT(200+(132.11-K173)*5),VLOOKUP(-K173,baza!$D$1:$F$203,3,1))))","v":0},0,0,{"$f":"SUM(M169:M173)","v":0},"I DZIEŃ"]
[null,{"$f":"szkoły!K48","v":0},null,{"$f":"IF(C174>=\"\",0,IF(C174>12.75,0,IF(C174<7.38,(200+(7.38-C174)*100),VLOOKUP(-C174,baza!$E$3:$F$202,2,1))))","v":0},null,{"$f":"IF(E174<8,0,IF(E174>77,(200+(E174-77)*2),VLOOKUP(E174,baza!$H$3:$J$202,3,0)))","v":0},null,{"$f":"IF(G174<80,0,IF(G174>179,200+(G174-179),VLOOKUP(G174,baza!$I$1:$J$65536,2,0)))","v":0},null,{"$f":"IF(I174<210,0,IF(I174>593,(200+(I174-593)*2),VLOOKUP(I174,baza!$B$3:$F$202,5,1)))","v":0},null,{"$f":"IF(K174=\"\",0,IF(K174>(-1*baza!$D$3),0,IF(K174<132.11,INT(200+(132.11-K174)*5),VLOOKUP(-K174,baza!$D$1:$F$203,3,1))))","v":0},0,0,{"$f":"IF(COUNT(N169:N173)<5,SUM(N169:N173),SUM(N169:N173)-MIN(N169:N173))","v":0},"II DZIEŃ"]
[{"$f":"szkoły!B50","v":0},"NAZWISKO/IMIĘ","60m","pkt","ppal","pkt","wzwyż","pkt","w dal","pkt","600m","pkt","I DZIEŃ","RAZEM"]
[null,{"$f":"szkoły!B51","v":0},null,{"$f":"IF(C176>=\"\",0,IF(C176>12.75,0,IF(C176<7.38,(200+(7.38-C176)*100),VLOOKUP(-C176,baza!$E$3:$F$202,2,1))))","v":0},null,{"$f":"IF(E176<8,0,IF(E176>77,(200+(E176-77)*2),VLOOKUP(E176,baza!$H$3:$J$202,3,0)))","v":0},null,{"$f":"IF(G176<80,0,IF(G176>179,200+(G176-179),VLOOKUP(G176,baza!$I$1:$J$65536,2,0)))","v":0},null,{"$f":"IF(I176<210,0,IF(I176>593,(200+(I176-593)*2),VLOOKUP(I176,baza!$B$3:$F$202,5,1)))","v":0},null,{"$f":"IF(K176=\"\",0,IF(K176>(-1*baza!$D$3),0,IF(K176<132.11,INT(200+(132.11-K176)*5),VLOOKUP(-K176,baza!$D$1:$F$203,3,1))))","v":0},{"$f":"(D176+F176+H176+J176)","v":0},{"$f":"M176+L176","v":0}]
[null,{"$f":"szkoły!B52","v":0},null,{"$f":"IF(C177>=\"\",0,IF(C177>12.75,0,IF(C177<7.38,(200+(7.38-C177)*100),VLOOKUP(-C177,baza!$E$3:$F$202,2,1))))","v":0},null,{"$f":"IF(E177<8,0,IF(E177>77,(200+(E177-77)*2),VLOOKUP(E177,baza!$H$3:$J$202,3,0)))","v":0},null,{"$f":"IF(G177<80,0,IF(G177>179,200+(G177-179),VLOOKUP(G177,baza!$I$1:$J$65536,2,0)))","v":0},null,{"$f":"IF(I177<210,0,IF(I177>593,(200+(I177-593)*2),VLOOKUP(I177,baza!$B$3:$F$202,5,1)))","v":0},null,{"$f":"IF(K177=\"\",0,IF(K177>(-1*baza!$D$3),0,IF(K177<132.11,INT(200+(132.11-K177)*5),VLOOKUP(-K177,baza!$D$1:$F$203,3,1))))","v":0},0,0]
[{"$f":"O181 & \" pkt.\"","v":"0 pkt."},{"$f":"szkoły!B53","v":0},null,{"$f":"IF(C178>=\"\",0,IF(C178>12.75,0,IF(C178<7.38,(200+(7.38-C178)*100),VLOOKUP(-C178,baza!$E$3:$F$202,2,1))))","v":0},null,{"$f":"IF(E178<8,0,IF(E178>77,(200+(E178-77)*2),VLOOKUP(E178,baza!$H$3:$J$202,3,0)))","v":0},null,{"$f":"IF(G178<80,0,IF(G178>179,200+(G178-179),VLOOKUP(G178,baza!$I$1:$J$65536,2,0)))","v":0},null,{"$f":"IF(I178<210,0,IF(I178>593,(200+(I178-593)*2),VLOOKUP(I178,baza!$B$3:$F$202,5,1)))","v":0},null,{"$f":"IF(K178=\"\",0,IF(K178>(-1*baza!$D$3),0,IF(K178<132.11,INT(200+(132.11-K178)*5),VLOOKUP(-K178,baza!$D$1:$F$203,3,1))))","v":0},0,0]
[null,{"$f":"szkoły!B54","v":0},null,{"$f":"IF(C179>=\"\",0,IF(C179>12.75,0,IF(C179<7.38,(200+(7.38-C179)*100),VLOOKUP(-C179,baza!$E$3:$F$202,2,1))))","v":0},null,{"$f":"IF(E179<8,0,IF(E179>77,(200+(E179-77)*2),VLOOKUP(E179,baza!$H$3:$J$202,3,0)))","v":0},null,{"$f":"IF(G179<80,0,IF(G179>179,200+(G179-179),VLOOKUP(G179,baza!$I$1:$J$65536,2,0)))","v":0},null,{"$f":"IF(I179<210,0,IF(I179>593,(200+(I179-593)*2),VLOOKUP(I179,baza!$B$3:$F$202,5,1)))","v":0},null,{"$f":"IF(K179=\"\",0,IF(K179>(-1*baza!$D$3),0,IF(K179<132.11,INT(200+(132.11-K179)*5),VLOOKUP(-K179,baza!$D$1:$F$203,3,1))))","v":0},0,0]
[null,{"$f":"szkoły!B55","v":0},null,{"$f":"IF(C180>=\"\",0,IF(C180>12.75,0,IF(C180<7.38,(200+(7.38-C180)*100),VLOOKUP(-C180,baza!$E$3:$F$202,2,1))))","v":0},null,{"$f":"IF(E180<8,0,IF(E180>77,(200+(E180-77)*2),VLOOKUP(E180,baza!$H$3:$J$202,3,0)))","v":0},null,{"$f":"IF(G180<80,0,IF(G180>179,200+(G180-179),VLOOKUP(G180,baza!$I$1:$J$65536,2,0)))","v":0},null,{"$f":"IF(I180<210,0,IF(I180>593,(200+(I180-593)*2),VLOOKUP(I180,baza!$B$3:$F$202,5,1)))","v":0},null,{"$f":"IF(K180=\"\",0,IF(K180>(-1*baza!$D$3),0,IF(K180<132.11,INT(200+(132.11-K180)*5),VLOOKUP(-K180,baza!$D$1:$F$203,3,1))))","v":0},0,0,{"$f":"SUM(M176:M180)","v":0},"I DZIEŃ"]
[null,{"$f":"szkoły!B56","v":0},null,{"$f":"IF(C181>=\"\",0,IF(C181>12.75,0,IF(C181<7.38,(200+(7.38-C181)*100),VLOOKUP(-C181,baza!$E$3:$F$202,2,1))))","v":0},null,{"$f":"IF(E181<8,0,IF(E181>77,(200+(E181-77)*2),VLOOKUP(E181,baza!$H$3:$J$202,3,0)))","v":0},null,{"$f":"IF(G181<80,0,IF(G181>179,200+(G181-179),VLOOKUP(G181,baza!$I$1:$J$65536,2,0)))","v":0},null,{"$f":"IF(I181<210,0,IF(I181>593,(200+(I181-593)*2),VLOOKUP(I181,baza!$B$3:$F$202,5,1)))","v":0},null,{"$f":"IF(K181=\"\",0,IF(K181>(-1*baza!$D$3),0,IF(K181<132.11,INT(200+(132.11-K181)*5),VLOOKUP(-K181,baza!$D$1:$F$203,3,1))))","v":0},0,0,{"$f":"IF(COUNT(N176:N180)<5,SUM(N176:N180),SUM(N176:N180)-MIN(N176:N180))","v":0},"II DZIEŃ"]
[{"$f":"szkoły!E50","v":0},"NAZWISKO/IMIĘ","60m","pkt","ppal","pkt","wzwyż","pkt","w dal","pkt","600m","pkt","I DZIEŃ","RAZEM"]
[null,{"$f":"szkoły!E51","v":0},null,{"$f":"IF(C183>=\"\",0,IF(C183>12.75,0,IF(C183<7.38,(200+(7.38-C183)*100),VLOOKUP(-C183,baza!$E$3:$F$202,2,1))))","v":0},null,{"$f":"IF(E183<8,0,IF(E183>77,(200+(E183-77)*2),VLOOKUP(E183,baza!$H$3:$J$202,3,0)))","v":0},null,{"$f":"IF(G183<80,0,IF(G183>179,200+(G183-179),VLOOKUP(G183,baza!$I$1:$J$65536,2,0)))","v":0},null,{"$f":"IF(I183<210,0,IF(I183>593,(200+(I183-593)*2),VLOOKUP(I183,baza!$B$3:$F$202,5,1)))","v":0},null,{"$f":"IF(K183=\"\",0,IF(K183>(-1*baza!$D$3),0,IF(K183<132.11,INT(200+(132.11-K183)*5),VLOOKUP(-K183,baza!$D$1:$F$203,3,1))))","v":0},{"$f":"(D183+F183+H183+J183)","v":0},{"$f":"M183+L183","v":0}]
[null,{"$f":"szkoły!E52","v":0},null,{"$f":"IF(C184>=\"\",0,IF(C184>12.75,0,IF(C184<7.38,(200+(7.38-C184)*100),VLOOKUP(-C184,baza!$E$3:$F$202,2,1))))","v":0},null,{"$f":"IF(E184<8,0,IF(E184>77,(200+(E184-77)*2),VLOOKUP(E184,baza!$H$3:$J$202,3,0)))","v":0},null,{"$f":"IF(G184<80,0,IF(G184>179,200+(G184-179),VLOOKUP(G184,baza!$I$1:$J$65536,2,0)))","v":0},null,{"$f":"IF(I184<210,0,IF(I184>593,(200+(I184-593)*2),VLOOKUP(I184,baza!$B$3:$F$202,5,1)))","v":0},null,{"$f":"IF(K184=\"\",0,IF(K184>(-1*baza!$D$3),0,IF(K184<132.11,INT(200+(132.11-K184)*5),VLOOKUP(-K184,baza!$D$1:$F$203,3,1))))","v":0},0,0]
[{"$f":"O188 & \" pkt.\"","v":"0 pkt."},{"$f":"szkoły!E53","v":0},null,{"$f":"IF(C185>=\"\",0,IF(C185>12.75,0,IF(C185<7.38,(200+(7.38-C185)*100),VLOOKUP(-C185,baza!$E$3:$F$202,2,1))))","v":0},null,{"$f":"IF(E185<8,0,IF(E185>77,(200+(E185-77)*2),VLOOKUP(E185,baza!$H$3:$J$202,3,0)))","v":0},null,{"$f":"IF(G185<80,0,IF(G185>179,200+(G185-179),VLOOKUP(G185,baza!$I$1:$J$65536,2,0)))","v":0},null,{"$f":"IF(I185<210,0,IF(I185>593,(200+(I185-593)*2),VLOOKUP(I185,baza!$B$3:$F$202,5,1)))","v":0},null,{"$f":"IF(K185=\"\",0,IF(K185>(-1*baza!$D$3),0,IF(K185<132.11,INT(200+(132.11-K185)*5),VLOOKUP(-K185,baza!$D$1:$F$203,3,1))))","v":0},0,0]
[null,{"$f":"szkoły!E54","v":0},null,{"$f":"IF(C186>=\"\",0,IF(C186>12.75,0,IF(C186<7.38,(200+(7.38-C186)*100),VLOOKUP(-C186,baza!$E$3:$F$202,2,1))))","v":0},null,{"$f":"IF(E186<8,0,IF(E186>77,(200+(E186-77)*2),VLOOKUP(E186,baza!$H$3:$J$202,3,0)))","v":0},null,{"$f":"IF(G186<80,0,IF(G186>179,200+(G186-179),VLOOKUP(G186,baza!$I$1:$J$65536,2,0)))","v":0},null,{"$f":"IF(I186<210,0,IF(I186>593,(200+(I186-593)*2),VLOOKUP(I186,baza!$B$3:$F$202,5,1)))","v":0},null,{"$f":"IF(K186=\"\",0,IF(K186>(-1*baza!$D$3),0,IF(K186<132.11,INT(200+(132.11-K186)*5),VLOOKUP(-K186,baza!$D$1:$F$203,3,1))))","v":0},0,0]
[null,{"$f":"szkoły!E55","v":0},null,{"$f":"IF(C187>=\"\",0,IF(C187>12.75,0,IF(C187<7.38,(200+(7.38-C187)*100),VLOOKUP(-C187,baza!$E$3:$F$202,2,1))))","v":0},null,{"$f":"IF(E187<8,0,IF(E187>77,(200+(E187-77)*2),VLOOKUP(E187,baza!$H$3:$J$202,3,0)))","v":0},null,{"$f":"IF(G187<80,0,IF(G187>179,200+(G187-179),VLOOKUP(G187,baza!$I$1:$J$65536,2,0)))","v":0},null,{"$f":"IF(I187<210,0,IF(I187>593,(200+(I187-593)*2),VLOOKUP(I187,baza!$B$3:$F$202,5,1)))","v":0},null,{"$f":"IF(K187=\"\",0,IF(K187>(-1*baza!$D$3),0,IF(K187<132.11,INT(200+(132.11-K187)*5),VLOOKUP(-K187,baza!$D$1:$F$203,3,1))))","v":0},0,0,{"$f":"SUM(M183:M187)","v":0},"I DZIEŃ"]
[null,{"$f":"szkoły!E56","v":0},null,{"$f":"IF(C188>=\"\",0,IF(C188>12.75,0,IF(C188<7.38,(200+(7.38-C188)*100),VLOOKUP(-C188,baza!$E$3:$F$202,2,1))))","v":0},null,{"$f":"IF(E188<8,0,IF(E188>77,(200+(E188-77)*2),VLOOKUP(E188,baza!$H$3:$J$202,3,0)))","v":0},null,{"$f":"IF(G188<80,0,IF(G188>179,200+(G188-179),VLOOKUP(G188,baza!$I$1:$J$65536,2,0)))","v":0},null,{"$f":"IF(I188<210,0,IF(I188>593,(200+(I188-593)*2),VLOOKUP(I188,baza!$B$3:$F$202,5,1)))","v":0},null,{"$f":"IF(K188=\"\",0,IF(K188>(-1*baza!$D$3),0,IF(K188<132.11,INT(200+(132.11-K188)*5),VLOOKUP(-K188,baza!$D$1:$F$203,3,1))))","v":0},0,0,{"$f":"IF(COUNT(N183:N187)<5,SUM(N183:N187),SUM(N183:N187)-MIN(N183:N187))","v":0},"II DZIEŃ"]
[{"$f":"szkoły!H50","v":0},"NAZWISKO/IMIĘ","60m","pkt","ppal","pkt","wzwyż","pkt","w dal","pkt","600m","pkt","I DZIEŃ","RAZEM"]
[null,{"$f":"szkoły!H51","v":0},null,{"$f":"IF(C190>=\"\",0,IF(C190>12.75,0,IF(C190<7.38,(200+(7.38-C190)*100),VLOOKUP(-C190,baza!$E$3:$F$202,2,1))))","v":0},null,{"$f":"IF(E190<8,0,IF(E190>77,(200+(E190-77)*2),VLOOKUP(E190,baza!$H$3:$J$202,3,0)))","v":0},null,{"$f":"IF(G190<80,0,IF(G190>179,200+(G190-179),VLOOKUP(G190,baza!$I$1:$J$65536,2,0)))","v":0},null,{"$f":"IF(I190<210,0,IF(I190>593,(200+(I190-593)*2),VLOOKUP(I190,baza!$B$3:$F$202,5,1)))","v":0},null,{"$f":"IF(K190=\"\",0,IF(K190>(-1*baza!$D$3),0,IF(K190<132.11,INT(200+(132.11-K190)*5),VLOOKUP(-K190,baza!$D$1:$F$203,3,1))))","v":0},{"$f":"(D190+F190+H190+J190)","v":0},{"$f":"M190+L190","v":0}]
[null,{"$f":"szkoły!H52","v":0},null,{"$f":"IF(C191>=\"\",0,IF(C191>12.75,0,IF(C191<7.38,(200+(7.38-C191)*100),VLOOKUP(-C191,baza!$E$3:$F$202,2,1))))","v":0},null,{"$f":"IF(E191<8,0,IF(E191>77,(200+(E191-77)*2),VLOOKUP(E191,baza!$H$3:$J$202,3,0)))","v":0},null,{"$f":"IF(G191<80,0,IF(G191>179,200+(G191-179),VLOOKUP(G191,baza!$I$1:$J$65536,2,0)))","v":0},null,{"$f":"IF(I191<210,0,IF(I191>593,(200+(I191-593)*2),VLOOKUP(I191,baza!$B$3:$F$202,5,1)))","v":0},null,{"$f":"IF(K191=\"\",0,IF(K191>(-1*baza!$D$3),0,IF(K191<132.11,INT(200+(132.11-K191)*5),VLOOKUP(-K191,baza!$D$1:$F$203,3,1))))","v":0},0,0]
[{"$f":"O195 & \" pkt.\"","v":"0 pkt."},{"$f":"szkoły!H53","v":0},null,{"$f":"IF(C192>=\"\",0,IF(C192>12.75,0,IF(C192<7.38,(200+(7.38-C192)*100),VLOOKUP(-C192,baza!$E$3:$F$202,2,1))))","v":0},null,{"$f":"IF(E192<8,0,IF(E192>77,(200+(E192-77)*2),VLOOKUP(E192,baza!$H$3:$J$202,3,0)))","v":0},null,{"$f":"IF(G192<80,0,IF(G192>179,200+(G192-179),VLOOKUP(G192,baza!$I$1:$J$65536,2,0)))","v":0},null,{"$f":"IF(I192<210,0,IF(I192>593,(200+(I192-593)*2),VLOOKUP(I192,baza!$B$3:$F$202,5,1)))","v":0},null,{"$f":"IF(K192=\"\",0,IF(K192>(-1*baza!$D$3),0,IF(K192<132.11,INT(200+(132.11-K192)*5),VLOOKUP(-K192,baza!$D$1:$F$203,3,1))))","v":0},0,0]
[null,{"$f":"szkoły!H54","v":0},null,{"$f":"IF(C193>=\"\",0,IF(C193>12.75,0,IF(C193<7.38,(200+(7.38-C193)*100),VLOOKUP(-C193,baza!$E$3:$F$202,2,1))))","v":0},null,{"$f":"IF(E193<8,0,IF(E193>77,(200+(E193-77)*2),VLOOKUP(E193,baza!$H$3:$J$202,3,0)))","v":0},null,{"$f":"IF(G193<80,0,IF(G193>179,200+(G193-179),VLOOKUP(G193,baza!$I$1:$J$65536,2,0)))","v":0},null,{"$f":"IF(I193<210,0,IF(I193>593,(200+(I193-593)*2),VLOOKUP(I193,baza!$B$3:$F$202,5,1)))","v":0},null,{"$f":"IF(K193=\"\",0,IF(K193>(-1*baza!$D$3),0,IF(K193<132.11,INT(200+(132.11-K193)*5),VLOOKUP(-K193,baza!$D$1:$F$203,3,1))))","v":0},0,0]
[null,{"$f":"szkoły!H55","v":0},null,{"$f":"IF(C194>=\"\",0,IF(C194>12.75,0,IF(C194<7.38,(200+(7.38-C194)*100),VLOOKUP(-C194,baza!$E$3:$F$202,2,1))))","v":0},null,{"$f":"IF(E194<8,0,IF(E194>77,(200+(E194-77)*2),VLOOKUP(E194,baza!$H$3:$J$202,3,0)))","v":0},null,{"$f":"IF(G194<80,0,IF(G194>179,200+(G194-179),VLOOKUP(G194,baza!$I$1:$J$65536,2,0)))","v":0},null,{"$f":"IF(I194<210,0,IF(I194>593,(200+(I194-593)*2),VLOOKUP(I194,baza!$B$3:$F$202,5,1)))","v":0},null,{"$f":"IF(K194=\"\",0,IF(K194>(-1*baza!$D$3),0,IF(K194<132.11,INT(200+(132.11-K194)*5),VLOOKUP(-K194,baza!$D$1:$F$203,3,1))))","v":0},0,0,{"$f":"SUM(M190:M194)","v":0},"I DZIEŃ"]
[null,{"$f":"szkoły!H56","v":0},null,{"$f":"IF(C195>=\"\",0,IF(C195>12.75,0,IF(C195<7.38,(200+(7.38-C195)*100),VLOOKUP(-C195,baza!$E$3:$F$202,2,1))))","v":0},null,{"$f":"IF(E195<8,0,IF(E195>77,(200+(E195-77)*2),VLOOKUP(E195,baza!$H$3:$J$202,3,0)))","v":0},null,{"$f":"IF(G195<80,0,IF(G195>179,200+(G195-179),VLOOKUP(G195,baza!$I$1:$J$65536,2,0)))","v":0},null,{"$f":"IF(I195<210,0,IF(I195>593,(200+(I195-593)*2),VLOOKUP(I195,baza!$B$3:$F$202,5,1)))","v":0},null,{"$f":"IF(K195=\"\",0,IF(K195>(-1*baza!$D$3),0,IF(K195<132.11,INT(200+(132.11-K195)*5),VLOOKUP(-K195,baza!$D$1:$F$203,3,1))))","v":0},0,0,{"$f":"IF(COUNT(N190:N194)<5,SUM(N190:N194),SUM(N190:N194)-MIN(N190:N194))","v":0},"II DZIEŃ"]
[{"$f":"szkoły!K50","v":0},"NAZWISKO/IMIĘ","60m","pkt","ppal","pkt","wzwyż","pkt","w dal","pkt","600m","pkt","I DZIEŃ","RAZEM"]
[null,{"$f":"szkoły!K51","v":0},null,{"$f":"IF(C197>=\"\",0,IF(C197>12.75,0,IF(C197<7.38,(200+(7.38-C197)*100),VLOOKUP(-C197,baza!$E$3:$F$202,2,1))))","v":0},null,{"$f":"IF(E197<8,0,IF(E197>77,(200+(E197-77)*2),VLOOKUP(E197,baza!$H$3:$J$202,3,0)))","v":0},null,{"$f":"IF(G197<80,0,IF(G197>179,200+(G197-179),VLOOKUP(G197,baza!$I$1:$J$65536,2,0)))","v":0},null,{"$f":"IF(I197<210,0,IF(I197>593,(200+(I197-593)*2),VLOOKUP(I197,baza!$B$3:$F$202,5,1)))","v":0},null,{"$f":"IF(K197=\"\",0,IF(K197>(-1*baza!$D$3),0,IF(K197<132.11,INT(200+(132.11-K197)*5),VLOOKUP(-K197,baza!$D$1:$F$203,3,1))))","v":0},{"$f":"(D197+F197+H197+J197)","v":0},{"$f":"M197+L197","v":0}]
[null,{"$f":"szkoły!K52","v":0},null,{"$f":"IF(C198>=\"\",0,IF(C198>12.75,0,IF(C198<7.38,(200+(7.38-C198)*100),VLOOKUP(-C198,baza!$E$3:$F$202,2,1))))","v":0},null,{"$f":"IF(E198<8,0,IF(E198>77,(200+(E198-77)*2),VLOOKUP(E198,baza!$H$3:$J$202,3,0)))","v":0},null,{"$f":"IF(G198<80,0,IF(G198>179,200+(G198-179),VLOOKUP(G198,baza!$I$1:$J$65536,2,0)))","v":0},null,{"$f":"IF(I198<210,0,IF(I198>593,(200+(I198-593)*2),VLOOKUP(I198,baza!$B$3:$F$202,5,1)))","v":0},null,{"$f":"IF(K198=\"\",0,IF(K198>(-1*baza!$D$3),0,IF(K198<132.11,INT(200+(132.11-K198)*5),VLOOKUP(-K198,baza!$D$1:$F$203,3,1))))","v":0},0,0]
[{"$f":"O202 & \" pkt.\"","v":"0 pkt."},{"$f":"szkoły!K53","v":0},null,{"$f":"IF(C199>=\"\",0,IF(C199>12.75,0,IF(C199<7.38,(200+(7.38-C199)*100),VLOOKUP(-C199,baza!$E$3:$F$202,2,1))))","v":0},null,{"$f":"IF(E199<8,0,IF(E199>77,(200+(E199-77)*2),VLOOKUP(E199,baza!$H$3:$J$202,3,0)))","v":0},null,{"$f":"IF(G199<80,0,IF(G199>179,200+(G199-179),VLOOKUP(G199,baza!$I$1:$J$65536,2,0)))","v":0},null,{"$f":"IF(I199<210,0,IF(I199>593,(200+(I199-593)*2),VLOOKUP(I199,baza!$B$3:$F$202,5,1)))","v":0},null,{"$f":"IF(K199=\"\",0,IF(K199>(-1*baza!$D$3),0,IF(K199<132.11,INT(200+(132.11-K199)*5),VLOOKUP(-K199,baza!$D$1:$F$203,3,1))))","v":0},0,0]
[null,{"$f":"szkoły!K54","v":0},null,{"$f":"IF(C200>=\"\",0,IF(C200>12.75,0,IF(C200<7.38,(200+(7.38-C200)*100),VLOOKUP(-C200,baza!$E$3:$F$202,2,1))))","v":0},null,{"$f":"IF(E200<8,0,IF(E200>77,(200+(E200-77)*2),VLOOKUP(E200,baza!$H$3:$J$202,3,0)))","v":0},null,{"$f":"IF(G200<80,0,IF(G200>179,200+(G200-179),VLOOKUP(G200,baza!$I$1:$J$65536,2,0)))","v":0},null,{"$f":"IF(I200<210,0,IF(I200>593,(200+(I200-593)*2),VLOOKUP(I200,baza!$B$3:$F$202,5,1)))","v":0},null,{"$f":"IF(K200=\"\",0,IF(K200>(-1*baza!$D$3),0,IF(K200<132.11,INT(200+(132.11-K200)*5),VLOOKUP(-K200,baza!$D$1:$F$203,3,1))))","v":0},0,0]
[null,{"$f":"szkoły!K55","v":0},null,{"$f":"IF(C201>=\"\",0,IF(C201>12.75,0,IF(C201<7.38,(200+(7.38-C201)*100),VLOOKUP(-C201,baza!$E$3:$F$202,2,1))))","v":0},null,{"$f":"IF(E201<8,0,IF(E201>77,(200+(E201-77)*2),VLOOKUP(E201,baza!$H$3:$J$202,3,0)))","v":0},null,{"$f":"IF(G201<80,0,IF(G201>179,200+(G201-179),VLOOKUP(G201,baza!$I$1:$J$65536,2,0)))","v":0},null,{"$f":"IF(I201<210,0,IF(I201>593,(200+(I201-593)*2),VLOOKUP(I201,baza!$B$3:$F$202,5,1)))","v":0},null,{"$f":"IF(K201=\"\",0,IF(K201>(-1*baza!$D$3),0,IF(K201<132.11,INT(200+(132.11-K201)*5),VLOOKUP(-K201,baza!$D$1:$F$203,3,1))))","v":0},0,0,{"$f":"SUM(M197:M201)","v":0},"I DZIEŃ"]
[null,{"$f":"szkoły!K56","v":0},null,{"$f":"IF(C202>=\"\",0,IF(C202>12.75,0,IF(C202<7.38,(200+(7.38-C202)*100),VLOOKUP(-C202,baza!$E$3:$F$202,2,1))))","v":0},null,{"$f":"IF(E202<8,0,IF(E202>77,(200+(E202-77)*2),VLOOKUP(E202,baza!$H$3:$J$202,3,0)))","v":0},null,{"$f":"IF(G202<80,0,IF(G202>179,200+(G202-179),VLOOKUP(G202,baza!$I$1:$J$65536,2,0)))","v":0},null,{"$f":"IF(I202<210,0,IF(I202>593,(200+(I202-593)*2),VLOOKUP(I202,baza!$B$3:$F$202,5,1)))","v":0},null,{"$f":"IF(K202=\"\",0,IF(K202>(-1*baza!$D$3),0,IF(K202<132.11,INT(200+(132.11-K202)*5),VLOOKUP(-K202,baza!$D$1:$F$203,3,1))))","v":0},0,0,{"$f":"IF(COUNT(N197:N201)<5,SUM(N197:N201),SUM(N197:N201)-MIN(N197:N201))","v":0},"II DZIEŃ"]
[{"$f":"szkoły!B58","v":0},"NAZWISKO/IMIĘ","60m","pkt","ppal","pkt","wzwyż","pkt","w dal","pkt","600m","pkt","I DZIEŃ","RAZEM"]
[null,{"$f":"szkoły!B59","v":0},null,{"$f":"IF(C204>=\"\",0,IF(C204>12.75,0,IF(C204<7.38,(200+(7.38-C204)*100),VLOOKUP(-C204,baza!$E$3:$F$202,2,1))))","v":0},null,{"$f":"IF(E204<8,0,IF(E204>77,(200+(E204-77)*2),VLOOKUP(E204,baza!$H$3:$J$202,3,0)))","v":0},null,{"$f":"IF(G204<80,0,IF(G204>179,200+(G204-179),VLOOKUP(G204,baza!$I$1:$J$65536,2,0)))","v":0},null,{"$f":"IF(I204<210,0,IF(I204>593,(200+(I204-593)*2),VLOOKUP(I204,baza!$B$3:$F$202,5,1)))","v":0},null,{"$f":"IF(K204=\"\",0,IF(K204>(-1*baza!$D$3),0,IF(K204<132.11,INT(200+(132.11-K204)*5),VLOOKUP(-K204,baza!$D$1:$F$203,3,1))))","v":0},{"$f":"(D204+F204+H204+J204)","v":0},{"$f":"M204+L204","v":0}]
[null,{"$f":"szkoły!B60","v":0},null,{"$f":"IF(C205>=\"\",0,IF(C205>12.75,0,IF(C205<7.38,(200+(7.38-C205)*100),VLOOKUP(-C205,baza!$E$3:$F$202,2,1))))","v":0},null,{"$f":"IF(E205<8,0,IF(E205>77,(200+(E205-77)*2),VLOOKUP(E205,baza!$H$3:$J$202,3,0)))","v":0},null,{"$f":"IF(G205<80,0,IF(G205>179,200+(G205-179),VLOOKUP(G205,baza!$I$1:$J$65536,2,0)))","v":0},null,{"$f":"IF(I205<210,0,IF(I205>593,(200+(I205-593)*2),VLOOKUP(I205,baza!$B$3:$F$202,5,1)))","v":0},null,{"$f":"IF(K205=\"\",0,IF(K205>(-1*baza!$D$3),0,IF(K205<132.11,INT(200+(132.11-K205)*5),VLOOKUP(-K205,baza!$D$1:$F$203,3,1))))","v":0},0,0]
[{"$f":"O209 & \" pkt.\"","v":"0 pkt."},{"$f":"szkoły!B61","v":0},null,{"$f":"IF(C206>=\"\",0,IF(C206>12.75,0,IF(C206<7.38,(200+(7.38-C206)*100),VLOOKUP(-C206,baza!$E$3:$F$202,2,1))))","v":0},null,{"$f":"IF(E206<8,0,IF(E206>77,(200+(E206-77)*2),VLOOKUP(E206,baza!$H$3:$J$202,3,0)))","v":0},null,{"$f":"IF(G206<80,0,IF(G206>179,200+(G206-179),VLOOKUP(G206,baza!$I$1:$J$65536,2,0)))","v":0},null,{"$f":"IF(I206<210,0,IF(I206>593,(200+(I206-593)*2),VLOOKUP(I206,baza!$B$3:$F$202,5,1)))","v":0},null,{"$f":"IF(K206=\"\",0,IF(K206>(-1*baza!$D$3),0,IF(K206<132.11,INT(200+(132.11-K206)*5),VLOOKUP(-K206,baza!$D$1:$F$203,3,1))))","v":0},0,0]
[null,{"$f":"szkoły!B62","v":0},null,{"$f":"IF(C207>=\"\",0,IF(C207>12.75,0,IF(C207<7.38,(200+(7.38-C207)*100),VLOOKUP(-C207,baza!$E$3:$F$202,2,1))))","v":0},null,{"$f":"IF(E207<8,0,IF(E207>77,(200+(E207-77)*2),VLOOKUP(E207,baza!$H$3:$J$202,3,0)))","v":0},null,{"$f":"IF(G207<80,0,IF(G207>179,200+(G207-179),VLOOKUP(G207,baza!$I$1:$J$65536,2,0)))","v":0},null,{"$f":"IF(I207<210,0,IF(I207>593,(200+(I207-593)*2),VLOOKUP(I207,baza!$B$3:$F$202,5,1)))","v":0},null,{"$f":"IF(K207=\"\",0,IF(K207>(-1*baza!$D$3),0,IF(K207<132.11,INT(200+(132.11-K207)*5),VLOOKUP(-K207,baza!$D$1:$F$203,3,1))))","v":0},0,0]
[null,{"$f":"szkoły!B63","v":0},null,{"$f":"IF(C208>=\"\",0,IF(C208>12.75,0,IF(C208<7.38,(200+(7.38-C208)*100),VLOOKUP(-C208,baza!$E$3:$F$202,2,1))))","v":0},null,{"$f":"IF(E208<8,0,IF(E208>77,(200+(E208-77)*2),VLOOKUP(E208,baza!$H$3:$J$202,3,0)))","v":0},null,{"$f":"IF(G208<80,0,IF(G208>179,200+(G208-179),VLOOKUP(G208,baza!$I$1:$J$65536,2,0)))","v":0},null,{"$f":"IF(I208<210,0,IF(I208>593,(200+(I208-593)*2),VLOOKUP(I208,baza!$B$3:$F$202,5,1)))","v":0},null,{"$f":"IF(K208=\"\",0,IF(K208>(-1*baza!$D$3),0,IF(K208<132.11,INT(200+(132.11-K208)*5),VLOOKUP(-K208,baza!$D$1:$F$203,3,1))))","v":0},0,0,{"$f":"SUM(M204:M208)","v":0},"I DZIEŃ"]
[null,{"$f":"szkoły!B64","v":0},null,{"$f":"IF(C209>=\"\",0,IF(C209>12.75,0,IF(C209<7.38,(200+(7.38-C209)*100),VLOOKUP(-C209,baza!$E$3:$F$202,2,1))))","v":0},null,{"$f":"IF(E209<8,0,IF(E209>77,(200+(E209-77)*2),VLOOKUP(E209,baza!$H$3:$J$202,3,0)))","v":0},null,{"$f":"IF(G209<80,0,IF(G209>179,200+(G209-179),VLOOKUP(G209,baza!$I$1:$J$65536,2,0)))","v":0},null,{"$f":"IF(I209<210,0,IF(I209>593,(200+(I209-593)*2),VLOOKUP(I209,baza!$B$3:$F$202,5,1)))","v":0},null,{"$f":"IF(K209=\"\",0,IF(K209>(-1*baza!$D$3),0,IF(K209<132.11,INT(200+(132.11-K209)*5),VLOOKUP(-K209,baza!$D$1:$F$203,3,1))))","v":0},0,0,{"$f":"IF(COUNT(N204:N208)<5,SUM(N204:N208),SUM(N204:N208)-MIN(N204:N208))","v":0},"II DZIEŃ"]
[{"$f":"szkoły!E58","v":0},"NAZWISKO/IMIĘ","60m","pkt","ppal","pkt","wzwyż","pkt","w dal","pkt","600m","pkt","I DZIEŃ","RAZEM"]
[null,{"$f":"szkoły!E59","v":0},null,{"$f":"IF(C211>=\"\",0,IF(C211>12.75,0,IF(C211<7.38,(200+(7.38-C211)*100),VLOOKUP(-C211,baza!$E$3:$F$202,2,1))))","v":0},null,{"$f":"IF(E211<8,0,IF(E211>77,(200+(E211-77)*2),VLOOKUP(E211,baza!$H$3:$J$202,3,0)))","v":0},null,{"$f":"IF(G211<80,0,IF(G211>179,200+(G211-179),VLOOKUP(G211,baza!$I$1:$J$65536,2,0)))","v":0},null,{"$f":"IF(I211<210,0,IF(I211>593,(200+(I211-593)*2),VLOOKUP(I211,baza!$B$3:$F$202,5,1)))","v":0},null,{"$f":"IF(K211=\"\",0,IF(K211>(-1*baza!$D$3),0,IF(K211<132.11,INT(200+(132.11-K211)*5),VLOOKUP(-K211,baza!$D$1:$F$203,3,1))))","v":0},{"$f":"(D211+F211+H211+J211)","v":0},{"$f":"M211+L211","v":0}]
[null,{"$f":"szkoły!E60","v":0},null,{"$f":"IF(C212>=\"\",0,IF(C212>12.75,0,IF(C212<7.38,(200+(7.38-C212)*100),VLOOKUP(-C212,baza!$E$3:$F$202,2,1))))","v":0},null,{"$f":"IF(E212<8,0,IF(E212>77,(200+(E212-77)*2),VLOOKUP(E212,baza!$H$3:$J$202,3,0)))","v":0},null,{"$f":"IF(G212<80,0,IF(G212>179,200+(G212-179),VLOOKUP(G212,baza!$I$1:$J$65536,2,0)))","v":0},null,{"$f":"IF(I212<210,0,IF(I212>593,(200+(I212-593)*2),VLOOKUP(I212,baza!$B$3:$F$202,5,1)))","v":0},null,{"$f":"IF(K212=\"\",0,IF(K212>(-1*baza!$D$3),0,IF(K212<132.11,INT(200+(132.11-K212)*5),VLOOKUP(-K212,baza!$D$1:$F$203,3,1))))","v":0},0,0]
[{"$f":"O216 & \" pkt.\"","v":"0 pkt."},{"$f":"szkoły!E61","v":0},null,{"$f":"IF(C213>=\"\",0,IF(C213>12.75,0,IF(C213<7.38,(200+(7.38-C213)*100),VLOOKUP(-C213,baza!$E$3:$F$202,2,1))))","v":0},null,{"$f":"IF(E213<8,0,IF(E213>77,(200+(E213-77)*2),VLOOKUP(E213,baza!$H$3:$J$202,3,0)))","v":0},null,{"$f":"IF(G213<80,0,IF(G213>179,200+(G213-179),VLOOKUP(G213,baza!$I$1:$J$65536,2,0)))","v":0},null,{"$f":"IF(I213<210,0,IF(I213>593,(200+(I213-593)*2),VLOOKUP(I213,baza!$B$3:$F$202,5,1)))","v":0},null,{"$f":"IF(K213=\"\",0,IF(K213>(-1*baza!$D$3),0,IF(K213<132.11,INT(200+(132.11-K213)*5),VLOOKUP(-K213,baza!$D$1:$F$203,3,1))))","v":0},0,0]
[null,{"$f":"szkoły!E62","v":0},null,{"$f":"IF(C214>=\"\",0,IF(C214>12.75,0,IF(C214<7.38,(200+(7.38-C214)*100),VLOOKUP(-C214,baza!$E$3:$F$202,2,1))))","v":0},null,{"$f":"IF(E214<8,0,IF(E214>77,(200+(E214-77)*2),VLOOKUP(E214,baza!$H$3:$J$202,3,0)))","v":0},null,{"$f":"IF(G214<80,0,IF(G214>179,200+(G214-179),VLOOKUP(G214,baza!$I$1:$J$65536,2,0)))","v":0},null,{"$f":"IF(I214<210,0,IF(I214>593,(200+(I214-593)*2),VLOOKUP(I214,baza!$B$3:$F$202,5,1)))","v":0},null,{"$f":"IF(K214=\"\",0,IF(K214>(-1*baza!$D$3),0,IF(K214<132.11,INT(200+(132.11-K214)*5),VLOOKUP(-K214,baza!$D$1:$F$203,3,1))))","v":0},0,0]
[null,{"$f":"szkoły!E63","v":0},null,{"$f":"IF(C215>=\"\",0,IF(C215>12.75,0,IF(C215<7.38,(200+(7.38-C215)*100),VLOOKUP(-C215,baza!$E$3:$F$202,2,1))))","v":0},null,{"$f":"IF(E215<8,0,IF(E215>77,(200+(E215-77)*2),VLOOKUP(E215,baza!$H$3:$J$202,3,0)))","v":0},null,{"$f":"IF(G215<80,0,IF(G215>179,200+(G215-179),VLOOKUP(G215,baza!$I$1:$J$65536,2,0)))","v":0},null,{"$f":"IF(I215<210,0,IF(I215>593,(200+(I215-593)*2),VLOOKUP(I215,baza!$B$3:$F$202,5,1)))","v":0},null,{"$f":"IF(K215=\"\",0,IF(K215>(-1*baza!$D$3),0,IF(K215<132.11,INT(200+(132.11-K215)*5),VLOOKUP(-K215,baza!$D$1:$F$203,3,1))))","v":0},0,0,{"$f":"SUM(M211:M215)","v":0},"I DZIEŃ"]
[null,{"$f":"szkoły!E64","v":0},null,{"$f":"IF(C216>=\"\",0,IF(C216>12.75,0,IF(C216<7.38,(200+(7.38-C216)*100),VLOOKUP(-C216,baza!$E$3:$F$202,2,1))))","v":0},null,{"$f":"IF(E216<8,0,IF(E216>77,(200+(E216-77)*2),VLOOKUP(E216,baza!$H$3:$J$202,3,0)))","v":0},null,{"$f":"IF(G216<80,0,IF(G216>179,200+(G216-179),VLOOKUP(G216,baza!$I$1:$J$65536,2,0)))","v":0},null,{"$f":"IF(I216<210,0,IF(I216>593,(200+(I216-593)*2),VLOOKUP(I216,baza!$B$3:$F$202,5,1)))","v":0},null,{"$f":"IF(K216=\"\",0,IF(K216>(-1*baza!$D$3),0,IF(K216<132.11,INT(200+(132.11-K216)*5),VLOOKUP(-K216,baza!$D$1:$F$203,3,1))))","v":0},0,0,{"$f":"IF(COUNT(N211:N215)<5,SUM(N211:N215),SUM(N211:N215)-MIN(N211:N215))","v":0},"II DZIEŃ"]
[{"$f":"szkoły!H58","v":0},"NAZWISKO/IMIĘ","60m","pkt","ppal","pkt","wzwyż","pkt","w dal","pkt","600m","pkt","I DZIEŃ","RAZEM"]
[null,{"$f":"szkoły!H59","v":0},null,{"$f":"IF(C218>=\"\",0,IF(C218>12.75,0,IF(C218<7.38,(200+(7.38-C218)*100),VLOOKUP(-C218,baza!$E$3:$F$202,2,1))))","v":0},null,{"$f":"IF(E218<8,0,IF(E218>77,(200+(E218-77)*2),VLOOKUP(E218,baza!$H$3:$J$202,3,0)))","v":0},null,{"$f":"IF(G218<80,0,IF(G218>179,200+(G218-179),VLOOKUP(G218,baza!$I$1:$J$65536,2,0)))","v":0},null,{"$f":"IF(I218<210,0,IF(I218>593,(200+(I218-593)*2),VLOOKUP(I218,baza!$B$3:$F$202,5,1)))","v":0},null,{"$f":"IF(K218=\"\",0,IF(K218>(-1*baza!$D$3),0,IF(K218<132.11,INT(200+(132.11-K218)*5),VLOOKUP(-K218,baza!$D$1:$F$203,3,1))))","v":0},{"$f":"(D218+F218+H218+J218)","v":0},{"$f":"M218+L218","v":0}]
[null,{"$f":"szkoły!H60","v":0},null,{"$f":"IF(C219>=\"\",0,IF(C219>12.75,0,IF(C219<7.38,(200+(7.38-C219)*100),VLOOKUP(-C219,baza!$E$3:$F$202,2,1))))","v":0},null,{"$f":"IF(E219<8,0,IF(E219>77,(200+(E219-77)*2),VLOOKUP(E219,baza!$H$3:$J$202,3,0)))","v":0},null,{"$f":"IF(G219<80,0,IF(G219>179,200+(G219-179),VLOOKUP(G219,baza!$I$1:$J$65536,2,0)))","v":0},null,{"$f":"IF(I219<210,0,IF(I219>593,(200+(I219-593)*2),VLOOKUP(I219,baza!$B$3:$F$202,5,1)))","v":0},null,{"$f":"IF(K219=\"\",0,IF(K219>(-1*baza!$D$3),0,IF(K219<132.11,INT(200+(132.11-K219)*5),VLOOKUP(-K219,baza!$D$1:$F$203,3,1))))","v":0},0,0]
[{"$f":"O223 & \" pkt.\"","v":"0 pkt."},{"$f":"szkoły!H61","v":0},null,{"$f":"IF(C220>=\"\",0,IF(C220>12.75,0,IF(C220<7.38,(200+(7.38-C220)*100),VLOOKUP(-C220,baza!$E$3:$F$202,2,1))))","v":0},null,{"$f":"IF(E220<8,0,IF(E220>77,(200+(E220-77)*2),VLOOKUP(E220,baza!$H$3:$J$202,3,0)))","v":0},null,{"$f":"IF(G220<80,0,IF(G220>179,200+(G220-179),VLOOKUP(G220,baza!$I$1:$J$65536,2,0)))","v":0},null,{"$f":"IF(I220<210,0,IF(I220>593,(200+(I220-593)*2),VLOOKUP(I220,baza!$B$3:$F$202,5,1)))","v":0},null,{"$f":"IF(K220=\"\",0,IF(K220>(-1*baza!$D$3),0,IF(K220<132.11,INT(200+(132.11-K220)*5),VLOOKUP(-K220,baza!$D$1:$F$203,3,1))))","v":0},0,0]
[null,{"$f":"szkoły!H62","v":0},null,{"$f":"IF(C221>=\"\",0,IF(C221>12.75,0,IF(C221<7.38,(200+(7.38-C221)*100),VLOOKUP(-C221,baza!$E$3:$F$202,2,1))))","v":0},null,{"$f":"IF(E221<8,0,IF(E221>77,(200+(E221-77)*2),VLOOKUP(E221,baza!$H$3:$J$202,3,0)))","v":0},null,{"$f":"IF(G221<80,0,IF(G221>179,200+(G221-179),VLOOKUP(G221,baza!$I$1:$J$65536,2,0)))","v":0},null,{"$f":"IF(I221<210,0,IF(I221>593,(200+(I221-593)*2),VLOOKUP(I221,baza!$B$3:$F$202,5,1)))","v":0},null,{"$f":"IF(K221=\"\",0,IF(K221>(-1*baza!$D$3),0,IF(K221<132.11,INT(200+(132.11-K221)*5),VLOOKUP(-K221,baza!$D$1:$F$203,3,1))))","v":0},0,0]
[null,{"$f":"szkoły!H63","v":0},null,{"$f":"IF(C222>=\"\",0,IF(C222>12.75,0,IF(C222<7.38,(200+(7.38-C222)*100),VLOOKUP(-C222,baza!$E$3:$F$202,2,1))))","v":0},null,{"$f":"IF(E222<8,0,IF(E222>77,(200+(E222-77)*2),VLOOKUP(E222,baza!$H$3:$J$202,3,0)))","v":0},null,{"$f":"IF(G222<80,0,IF(G222>179,200+(G222-179),VLOOKUP(G222,baza!$I$1:$J$65536,2,0)))","v":0},null,{"$f":"IF(I222<210,0,IF(I222>593,(200+(I222-593)*2),VLOOKUP(I222,baza!$B$3:$F$202,5,1)))","v":0},null,{"$f":"IF(K222=\"\",0,IF(K222>(-1*baza!$D$3),0,IF(K222<132.11,INT(200+(132.11-K222)*5),VLOOKUP(-K222,baza!$D$1:$F$203,3,1))))","v":0},0,0,{"$f":"SUM(M218:M222)","v":0},"I DZIEŃ"]
[null,{"$f":"szkoły!H64","v":0},null,{"$f":"IF(C223>=\"\",0,IF(C223>12.75,0,IF(C223<7.38,(200+(7.38-C223)*100),VLOOKUP(-C223,baza!$E$3:$F$202,2,1))))","v":0},null,{"$f":"IF(E223<8,0,IF(E223>77,(200+(E223-77)*2),VLOOKUP(E223,baza!$H$3:$J$202,3,0)))","v":0},null,{"$f":"IF(G223<80,0,IF(G223>179,200+(G223-179),VLOOKUP(G223,baza!$I$1:$J$65536,2,0)))","v":0},null,{"$f":"IF(I223<210,0,IF(I223>593,(200+(I223-593)*2),VLOOKUP(I223,baza!$B$3:$F$202,5,1)))","v":0},null,{"$f":"IF(K223=\"\",0,IF(K223>(-1*baza!$D$3),0,IF(K223<132.11,INT(200+(132.11-K223)*5),VLOOKUP(-K223,baza!$D$1:$F$203,3,1))))","v":0},0,0,{"$f":"IF(COUNT(N218:N222)<5,SUM(N218:N222),SUM(N218:N222)-MIN(N218:N222))","v":0},"II DZIEŃ"]
[{"$f":"szkoły!K58","v":0},"NAZWISKO/IMIĘ","60m","pkt","ppal","pkt","wzwyż","pkt","w dal","pkt","600m","pkt","I DZIEŃ","RAZEM"]
[null,{"$f":"szkoły!K59","v":0},null,{"$f":"IF(C225>=\"\",0,IF(C225>12.75,0,IF(C225<7.38,(200+(7.38-C225)*100),VLOOKUP(-C225,baza!$E$3:$F$202,2,1))))","v":0},null,{"$f":"IF(E225<8,0,IF(E225>77,(200+(E225-77)*2),VLOOKUP(E225,baza!$H$3:$J$202,3,0)))","v":0},null,{"$f":"IF(G225<80,0,IF(G225>179,200+(G225-179),VLOOKUP(G225,baza!$I$1:$J$65536,2,0)))","v":0},null,{"$f":"IF(I225<210,0,IF(I225>593,(200+(I225-593)*2),VLOOKUP(I225,baza!$B$3:$F$202,5,1)))","v":0},null,{"$f":"IF(K225=\"\",0,IF(K225>(-1*baza!$D$3),0,IF(K225<132.11,INT(200+(132.11-K225)*5),VLOOKUP(-K225,baza!$D$1:$F$203,3,1))))","v":0},{"$f":"(D225+F225+H225+J225)","v":0},{"$f":"M225+L225","v":0}]
[null,{"$f":"szkoły!K60","v":0},null,{"$f":"IF(C226>=\"\",0,IF(C226>12.75,0,IF(C226<7.38,(200+(7.38-C226)*100),VLOOKUP(-C226,baza!$E$3:$F$202,2,1))))","v":0},null,{"$f":"IF(E226<8,0,IF(E226>77,(200+(E226-77)*2),VLOOKUP(E226,baza!$H$3:$J$202,3,0)))","v":0},null,{"$f":"IF(G226<80,0,IF(G226>179,200+(G226-179),VLOOKUP(G226,baza!$I$1:$J$65536,2,0)))","v":0},null,{"$f":"IF(I226<210,0,IF(I226>593,(200+(I226-593)*2),VLOOKUP(I226,baza!$B$3:$F$202,5,1)))","v":0},null,{"$f":"IF(K226=\"\",0,IF(K226>(-1*baza!$D$3),0,IF(K226<132.11,INT(200+(132.11-K226)*5),VLOOKUP(-K226,baza!$D$1:$F$203,3,1))))","v":0},0,0]
[{"$f":"O230 & \" pkt.\"","v":"0 pkt."},{"$f":"szkoły!K61","v":0},null,{"$f":"IF(C227>=\"\",0,IF(C227>12.75,0,IF(C227<7.38,(200+(7.38-C227)*100),VLOOKUP(-C227,baza!$E$3:$F$202,2,1))))","v":0},null,{"$f":"IF(E227<8,0,IF(E227>77,(200+(E227-77)*2),VLOOKUP(E227,baza!$H$3:$J$202,3,0)))","v":0},null,{"$f":"IF(G227<80,0,IF(G227>179,200+(G227-179),VLOOKUP(G227,baza!$I$1:$J$65536,2,0)))","v":0},null,{"$f":"IF(I227<210,0,IF(I227>593,(200+(I227-593)*2),VLOOKUP(I227,baza!$B$3:$F$202,5,1)))","v":0},null,{"$f":"IF(K227=\"\",0,IF(K227>(-1*baza!$D$3),0,IF(K227<132.11,INT(200+(132.11-K227)*5),VLOOKUP(-K227,baza!$D$1:$F$203,3,1))))","v":0},0,0]
[null,{"$f":"szkoły!K62","v":0},null,{"$f":"IF(C228>=\"\",0,IF(C228>12.75,0,IF(C228<7.38,(200+(7.38-C228)*100),VLOOKUP(-C228,baza!$E$3:$F$202,2,1))))","v":0},null,{"$f":"IF(E228<8,0,IF(E228>77,(200+(E228-77)*2),VLOOKUP(E228,baza!$H$3:$J$202,3,0)))","v":0},null,{"$f":"IF(G228<80,0,IF(G228>179,200+(G228-179),VLOOKUP(G228,baza!$I$1:$J$65536,2,0)))","v":0},null,{"$f":"IF(I228<210,0,IF(I228>593,(200+(I228-593)*2),VLOOKUP(I228,baza!$B$3:$F$202,5,1)))","v":0},null,{"$f":"IF(K228=\"\",0,IF(K228>(-1*baza!$D$3),0,IF(K228<132.11,INT(200+(132.11-K228)*5),VLOOKUP(-K228,baza!$D$1:$F$203,3,1))))","v":0},0,0]
[null,{"$f":"szkoły!K63","v":0},null,{"$f":"IF(C229>=\"\",0,IF(C229>12.75,0,IF(C229<7.38,(200+(7.38-C229)*100),VLOOKUP(-C229,baza!$E$3:$F$202,2,1))))","v":0},null,{"$f":"IF(E229<8,0,IF(E229>77,(200+(E229-77)*2),VLOOKUP(E229,baza!$H$3:$J$202,3,0)))","v":0},null,{"$f":"IF(G229<80,0,IF(G229>179,200+(G229-179),VLOOKUP(G229,baza!$I$1:$J$65536,2,0)))","v":0},null,{"$f":"IF(I229<210,0,IF(I229>593,(200+(I229-593)*2),VLOOKUP(I229,baza!$B$3:$F$202,5,1)))","v":0},null,{"$f":"IF(K229=\"\",0,IF(K229>(-1*baza!$D$3),0,IF(K229<132.11,INT(200+(132.11-K229)*5),VLOOKUP(-K229,baza!$D$1:$F$203,3,1))))","v":0},0,0,{"$f":"SUM(M225:M229)","v":0},"I DZIEŃ"]
[null,{"$f":"szkoły!K64","v":0},null,{"$f":"IF(C230>=\"\",0,IF(C230>12.75,0,IF(C230<7.38,(200+(7.38-C230)*100),VLOOKUP(-C230,baza!$E$3:$F$202,2,1))))","v":0},null,{"$f":"IF(E230<8,0,IF(E230>77,(200+(E230-77)*2),VLOOKUP(E230,baza!$H$3:$J$202,3,0)))","v":0},null,{"$f":"IF(G230<80,0,IF(G230>179,200+(G230-179),VLOOKUP(G230,baza!$I$1:$J$65536,2,0)))","v":0},null,{"$f":"IF(I230<210,0,IF(I230>593,(200+(I230-593)*2),VLOOKUP(I230,baza!$B$3:$F$202,5,1)))","v":0},null,{"$f":"IF(K230=\"\",0,IF(K230>(-1*baza!$D$3),0,IF(K230<132.11,INT(200+(132.11-K230)*5),VLOOKUP(-K230,baza!$D$1:$F$203,3,1))))","v":0},0,0,{"$f":"IF(COUNT(N225:N229)<5,SUM(N225:N229),SUM(N225:N229)-MIN(N225:N229))","v":0},"II DZIEŃ"]
[{"$f":"szkoły!B66","v":0},"NAZWISKO/IMIĘ","60m","pkt","ppal","pkt","wzwyż","pkt","w dal","pkt","600m","pkt","I DZIEŃ","RAZEM"]
[null,{"$f":"szkoły!B67","v":0},null,{"$f":"IF(C232>=\"\",0,IF(C232>12.75,0,IF(C232<7.38,(200+(7.38-C232)*100),VLOOKUP(-C232,baza!$E$3:$F$202,2,1))))","v":0},null,{"$f":"IF(E232<8,0,IF(E232>77,(200+(E232-77)*2),VLOOKUP(E232,baza!$H$3:$J$202,3,0)))","v":0},null,{"$f":"IF(G232<80,0,IF(G232>179,200+(G232-179),VLOOKUP(G232,baza!$I$1:$J$65536,2,0)))","v":0},null,{"$f":"IF(I232<210,0,IF(I232>593,(200+(I232-593)*2),VLOOKUP(I232,baza!$B$3:$F$202,5,1)))","v":0},null,{"$f":"IF(K232=\"\",0,IF(K232>(-1*baza!$D$3),0,IF(K232<132.11,INT(200+(132.11-K232)*5),VLOOKUP(-K232,baza!$D$1:$F$203,3,1))))","v":0},{"$f":"(D232+F232+H232+J232)","v":0},{"$f":"M232+L232","v":0}]
[null,{"$f":"szkoły!B68","v":0},null,{"$f":"IF(C233>=\"\",0,IF(C233>12.75,0,IF(C233<7.38,(200+(7.38-C233)*100),VLOOKUP(-C233,baza!$E$3:$F$202,2,1))))","v":0},null,{"$f":"IF(E233<8,0,IF(E233>77,(200+(E233-77)*2),VLOOKUP(E233,baza!$H$3:$J$202,3,0)))","v":0},null,{"$f":"IF(G233<80,0,IF(G233>179,200+(G233-179),VLOOKUP(G233,baza!$I$1:$J$65536,2,0)))","v":0},null,{"$f":"IF(I233<210,0,IF(I233>593,(200+(I233-593)*2),VLOOKUP(I233,baza!$B$3:$F$202,5,1)))","v":0},null,{"$f":"IF(K233=\"\",0,IF(K233>(-1*baza!$D$3),0,IF(K233<132.11,INT(200+(132.11-K233)*5),VLOOKUP(-K233,baza!$D$1:$F$203,3,1))))","v":0},0,0]
[{"$f":"O237 & \" pkt.\"","v":"0 pkt."},{"$f":"szkoły!B69","v":0},null,{"$f":"IF(C234>=\"\",0,IF(C234>12.75,0,IF(C234<7.38,(200+(7.38-C234)*100),VLOOKUP(-C234,baza!$E$3:$F$202,2,1))))","v":0},null,{"$f":"IF(E234<8,0,IF(E234>77,(200+(E234-77)*2),VLOOKUP(E234,baza!$H$3:$J$202,3,0)))","v":0},null,{"$f":"IF(G234<80,0,IF(G234>179,200+(G234-179),VLOOKUP(G234,baza!$I$1:$J$65536,2,0)))","v":0},null,{"$f":"IF(I234<210,0,IF(I234>593,(200+(I234-593)*2),VLOOKUP(I234,baza!$B$3:$F$202,5,1)))","v":0},null,{"$f":"IF(K234=\"\",0,IF(K234>(-1*baza!$D$3),0,IF(K234<132.11,INT(200+(132.11-K234)*5),VLOOKUP(-K234,baza!$D$1:$F$203,3,1))))","v":0},0,0]
[null,{"$f":"szkoły!B70","v":0},null,{"$f":"IF(C235>=\"\",0,IF(C235>12.75,0,IF(C235<7.38,(200+(7.38-C235)*100),VLOOKUP(-C235,baza!$E$3:$F$202,2,1))))","v":0},null,{"$f":"IF(E235<8,0,IF(E235>77,(200+(E235-77)*2),VLOOKUP(E235,baza!$H$3:$J$202,3,0)))","v":0},null,{"$f":"IF(G235<80,0,IF(G235>179,200+(G235-179),VLOOKUP(G235,baza!$I$1:$J$65536,2,0)))","v":0},null,{"$f":"IF(I235<210,0,IF(I235>593,(200+(I235-593)*2),VLOOKUP(I235,baza!$B$3:$F$202,5,1)))","v":0},null,{"$f":"IF(K235=\"\",0,IF(K235>(-1*baza!$D$3),0,IF(K235<132.11,INT(200+(132.11-K235)*5),VLOOKUP(-K235,baza!$D$1:$F$203,3,1))))","v":0},0,0]
[null,{"$f":"szkoły!B71","v":0},null,{"$f":"IF(C236>=\"\",0,IF(C236>12.75,0,IF(C236<7.38,(200+(7.38-C236)*100),VLOOKUP(-C236,baza!$E$3:$F$202,2,1))))","v":0},null,{"$f":"IF(E236<8,0,IF(E236>77,(200+(E236-77)*2),VLOOKUP(E236,baza!$H$3:$J$202,3,0)))","v":0},null,{"$f":"IF(G236<80,0,IF(G236>179,200+(G236-179),VLOOKUP(G236,baza!$I$1:$J$65536,2,0)))","v":0},null,{"$f":"IF(I236<210,0,IF(I236>593,(200+(I236-593)*2),VLOOKUP(I236,baza!$B$3:$F$202,5,1)))","v":0},null,{"$f":"IF(K236=\"\",0,IF(K236>(-1*baza!$D$3),0,IF(K236<132.11,INT(200+(132.11-K236)*5),VLOOKUP(-K236,baza!$D$1:$F$203,3,1))))","v":0},0,0,{"$f":"SUM(M232:M236)","v":0},"I DZIEŃ"]
[null,{"$f":"szkoły!B72","v":0},null,{"$f":"IF(C237>=\"\",0,IF(C237>12.75,0,IF(C237<7.38,(200+(7.38-C237)*100),VLOOKUP(-C237,baza!$E$3:$F$202,2,1))))","v":0},null,{"$f":"IF(E237<8,0,IF(E237>77,(200+(E237-77)*2),VLOOKUP(E237,baza!$H$3:$J$202,3,0)))","v":0},null,{"$f":"IF(G237<80,0,IF(G237>179,200+(G237-179),VLOOKUP(G237,baza!$I$1:$J$65536,2,0)))","v":0},null,{"$f":"IF(I237<210,0,IF(I237>593,(200+(I237-593)*2),VLOOKUP(I237,baza!$B$3:$F$202,5,1)))","v":0},null,{"$f":"IF(K237=\"\",0,IF(K237>(-1*baza!$D$3),0,IF(K237<132.11,INT(200+(132.11-K237)*5),VLOOKUP(-K237,baza!$D$1:$F$203,3,1))))","v":0},0,0,{"$f":"IF(COUNT(N232:N236)<5,SUM(N232:N236),SUM(N232:N236)-MIN(N232:N236))","v":0},"II DZIEŃ"]
[{"$f":"szkoły!E66","v":0},"NAZWISKO/IMIĘ","60m","pkt","ppal","pkt","wzwyż","pkt","w dal","pkt","600m","pkt","I DZIEŃ","RAZEM"]
[null,{"$f":"szkoły!E67","v":0},null,{"$f":"IF(C239>=\"\",0,IF(C239>12.75,0,IF(C239<7.38,(200+(7.38-C239)*100),VLOOKUP(-C239,baza!$E$3:$F$202,2,1))))","v":0},null,{"$f":"IF(E239<8,0,IF(E239>77,(200+(E239-77)*2),VLOOKUP(E239,baza!$H$3:$J$202,3,0)))","v":0},null,{"$f":"IF(G239<80,0,IF(G239>179,200+(G239-179),VLOOKUP(G239,baza!$I$1:$J$65536,2,0)))","v":0},null,{"$f":"IF(I239<210,0,IF(I239>593,(200+(I239-593)*2),VLOOKUP(I239,baza!$B$3:$F$202,5,1)))","v":0},null,{"$f":"IF(K239=\"\",0,IF(K239>(-1*baza!$D$3),0,IF(K239<132.11,INT(200+(132.11-K239)*5),VLOOKUP(-K239,baza!$D$1:$F$203,3,1))))","v":0},{"$f":"(D239+F239+H239+J239)","v":0},{"$f":"M239+L239","v":0}]
[null,{"$f":"szkoły!E68","v":0},null,{"$f":"IF(C240>=\"\",0,IF(C240>12.75,0,IF(C240<7.38,(200+(7.38-C240)*100),VLOOKUP(-C240,baza!$E$3:$F$202,2,1))))","v":0},null,{"$f":"IF(E240<8,0,IF(E240>77,(200+(E240-77)*2),VLOOKUP(E240,baza!$H$3:$J$202,3,0)))","v":0},null,{"$f":"IF(G240<80,0,IF(G240>179,200+(G240-179),VLOOKUP(G240,baza!$I$1:$J$65536,2,0)))","v":0},null,{"$f":"IF(I240<210,0,IF(I240>593,(200+(I240-593)*2),VLOOKUP(I240,baza!$B$3:$F$202,5,1)))","v":0},null,{"$f":"IF(K240=\"\",0,IF(K240>(-1*baza!$D$3),0,IF(K240<132.11,INT(200+(132.11-K240)*5),VLOOKUP(-K240,baza!$D$1:$F$203,3,1))))","v":0},0,0]
[{"$f":"O244 & \" pkt.\"","v":"0 pkt."},{"$f":"szkoły!E69","v":0},null,{"$f":"IF(C241>=\"\",0,IF(C241>12.75,0,IF(C241<7.38,(200+(7.38-C241)*100),VLOOKUP(-C241,baza!$E$3:$F$202,2,1))))","v":0},null,{"$f":"IF(E241<8,0,IF(E241>77,(200+(E241-77)*2),VLOOKUP(E241,baza!$H$3:$J$202,3,0)))","v":0},null,{"$f":"IF(G241<80,0,IF(G241>179,200+(G241-179),VLOOKUP(G241,baza!$I$1:$J$65536,2,0)))","v":0},null,{"$f":"IF(I241<210,0,IF(I241>593,(200+(I241-593)*2),VLOOKUP(I241,baza!$B$3:$F$202,5,1)))","v":0},null,{"$f":"IF(K241=\"\",0,IF(K241>(-1*baza!$D$3),0,IF(K241<132.11,INT(200+(132.11-K241)*5),VLOOKUP(-K241,baza!$D$1:$F$203,3,1))))","v":0},0,0]
[null,{"$f":"szkoły!E70","v":0},null,{"$f":"IF(C242>=\"\",0,IF(C242>12.75,0,IF(C242<7.38,(200+(7.38-C242)*100),VLOOKUP(-C242,baza!$E$3:$F$202,2,1))))","v":0},null,{"$f":"IF(E242<8,0,IF(E242>77,(200+(E242-77)*2),VLOOKUP(E242,baza!$H$3:$J$202,3,0)))","v":0},null,{"$f":"IF(G242<80,0,IF(G242>179,200+(G242-179),VLOOKUP(G242,baza!$I$1:$J$65536,2,0)))","v":0},null,{"$f":"IF(I242<210,0,IF(I242>593,(200+(I242-593)*2),VLOOKUP(I242,baza!$B$3:$F$202,5,1)))","v":0},null,{"$f":"IF(K242=\"\",0,IF(K242>(-1*baza!$D$3),0,IF(K242<132.11,INT(200+(132.11-K242)*5),VLOOKUP(-K242,baza!$D$1:$F$203,3,1))))","v":0},0,0]
[null,{"$f":"szkoły!E71","v":0},null,{"$f":"IF(C243>=\"\",0,IF(C243>12.75,0,IF(C243<7.38,(200+(7.38-C243)*100),VLOOKUP(-C243,baza!$E$3:$F$202,2,1))))","v":0},null,{"$f":"IF(E243<8,0,IF(E243>77,(200+(E243-77)*2),VLOOKUP(E243,baza!$H$3:$J$202,3,0)))","v":0},null,{"$f":"IF(G243<80,0,IF(G243>179,200+(G243-179),VLOOKUP(G243,baza!$I$1:$J$65536,2,0)))","v":0},null,{"$f":"IF(I243<210,0,IF(I243>593,(200+(I243-593)*2),VLOOKUP(I243,baza!$B$3:$F$202,5,1)))","v":0},null,{"$f":"IF(K243=\"\",0,IF(K243>(-1*baza!$D$3),0,IF(K243<132.11,INT(200+(132.11-K243)*5),VLOOKUP(-K243,baza!$D$1:$F$203,3,1))))","v":0},0,0,{"$f":"SUM(M239:M243)","v":0},"I DZIEŃ"]
[null,{"$f":"szkoły!E72","v":0},null,{"$f":"IF(C244>=\"\",0,IF(C244>12.75,0,IF(C244<7.38,(200+(7.38-C244)*100),VLOOKUP(-C244,baza!$E$3:$F$202,2,1))))","v":0},null,{"$f":"IF(E244<8,0,IF(E244>77,(200+(E244-77)*2),VLOOKUP(E244,baza!$H$3:$J$202,3,0)))","v":0},null,{"$f":"IF(G244<80,0,IF(G244>179,200+(G244-179),VLOOKUP(G244,baza!$I$1:$J$65536,2,0)))","v":0},null,{"$f":"IF(I244<210,0,IF(I244>593,(200+(I244-593)*2),VLOOKUP(I244,baza!$B$3:$F$202,5,1)))","v":0},null,{"$f":"IF(K244=\"\",0,IF(K244>(-1*baza!$D$3),0,IF(K244<132.11,INT(200+(132.11-K244)*5),VLOOKUP(-K244,baza!$D$1:$F$203,3,1))))","v":0},0,0,{"$f":"IF(COUNT(N239:N243)<5,SUM(N239:N243),SUM(N239:N243)-MIN(N239:N243))","v":0},"II DZIEŃ"]
[{"$f":"szkoły!H66","v":0},"NAZWISKO/IMIĘ","60m","pkt","ppal","pkt","wzwyż","pkt","w dal","pkt","600m","pkt","I DZIEŃ","RAZEM"]
[null,{"$f":"szkoły!H67","v":0},null,{"$f":"IF(C246>=\"\",0,IF(C246>12.75,0,IF(C246<7.38,(200+(7.38-C246)*100),VLOOKUP(-C246,baza!$E$3:$F$202,2,1))))","v":0},null,{"$f":"IF(E246<8,0,IF(E246>77,(200+(E246-77)*2),VLOOKUP(E246,baza!$H$3:$J$202,3,0)))","v":0},null,{"$f":"IF(G246<80,0,IF(G246>179,200+(G246-179),VLOOKUP(G246,baza!$I$1:$J$65536,2,0)))","v":0},null,{"$f":"IF(I246<210,0,IF(I246>593,(200+(I246-593)*2),VLOOKUP(I246,baza!$B$3:$F$202,5,1)))","v":0},null,{"$f":"IF(K246=\"\",0,IF(K246>(-1*baza!$D$3),0,IF(K246<132.11,INT(200+(132.11-K246)*5),VLOOKUP(-K246,baza!$D$1:$F$203,3,1))))","v":0},{"$f":"(D246+F246+H246+J246)","v":0},{"$f":"M246+L246","v":0}]
[null,{"$f":"szkoły!H68","v":0},null,{"$f":"IF(C247>=\"\",0,IF(C247>12.75,0,IF(C247<7.38,(200+(7.38-C247)*100),VLOOKUP(-C247,baza!$E$3:$F$202,2,1))))","v":0},null,{"$f":"IF(E247<8,0,IF(E247>77,(200+(E247-77)*2),VLOOKUP(E247,baza!$H$3:$J$202,3,0)))","v":0},null,{"$f":"IF(G247<80,0,IF(G247>179,200+(G247-179),VLOOKUP(G247,baza!$I$1:$J$65536,2,0)))","v":0},null,{"$f":"IF(I247<210,0,IF(I247>593,(200+(I247-593)*2),VLOOKUP(I247,baza!$B$3:$F$202,5,1)))","v":0},null,{"$f":"IF(K247=\"\",0,IF(K247>(-1*baza!$D$3),0,IF(K247<132.11,INT(200+(132.11-K247)*5),VLOOKUP(-K247,baza!$D$1:$F$203,3,1))))","v":0},0,0]
[{"$f":"O251 & \" pkt.\"","v":"0 pkt."},{"$f":"szkoły!H69","v":0},null,{"$f":"IF(C248>=\"\",0,IF(C248>12.75,0,IF(C248<7.38,(200+(7.38-C248)*100),VLOOKUP(-C248,baza!$E$3:$F$202,2,1))))","v":0},null,{"$f":"IF(E248<8,0,IF(E248>77,(200+(E248-77)*2),VLOOKUP(E248,baza!$H$3:$J$202,3,0)))","v":0},null,{"$f":"IF(G248<80,0,IF(G248>179,200+(G248-179),VLOOKUP(G248,baza!$I$1:$J$65536,2,0)))","v":0},null,{"$f":"IF(I248<210,0,IF(I248>593,(200+(I248-593)*2),VLOOKUP(I248,baza!$B$3:$F$202,5,1)))","v":0},null,{"$f":"IF(K248=\"\",0,IF(K248>(-1*baza!$D$3),0,IF(K248<132.11,INT(200+(132.11-K248)*5),VLOOKUP(-K248,baza!$D$1:$F$203,3,1))))","v":0},0,0]
[null,{"$f":"szkoły!H70","v":0},null,{"$f":"IF(C249>=\"\",0,IF(C249>12.75,0,IF(C249<7.38,(200+(7.38-C249)*100),VLOOKUP(-C249,baza!$E$3:$F$202,2,1))))","v":0},null,{"$f":"IF(E249<8,0,IF(E249>77,(200+(E249-77)*2),VLOOKUP(E249,baza!$H$3:$J$202,3,0)))","v":0},null,{"$f":"IF(G249<80,0,IF(G249>179,200+(G249-179),VLOOKUP(G249,baza!$I$1:$J$65536,2,0)))","v":0},null,{"$f":"IF(I249<210,0,IF(I249>593,(200+(I249-593)*2),VLOOKUP(I249,baza!$B$3:$F$202,5,1)))","v":0},null,{"$f":"IF(K249=\"\",0,IF(K249>(-1*baza!$D$3),0,IF(K249<132.11,INT(200+(132.11-K249)*5),VLOOKUP(-K249,baza!$D$1:$F$203,3,1))))","v":0},0,0]
[null,{"$f":"szkoły!H71","v":0},null,{"$f":"IF(C250>=\"\",0,IF(C250>12.75,0,IF(C250<7.38,(200+(7.38-C250)*100),VLOOKUP(-C250,baza!$E$3:$F$202,2,1))))","v":0},null,{"$f":"IF(E250<8,0,IF(E250>77,(200+(E250-77)*2),VLOOKUP(E250,baza!$H$3:$J$202,3,0)))","v":0},null,{"$f":"IF(G250<80,0,IF(G250>179,200+(G250-179),VLOOKUP(G250,baza!$I$1:$J$65536,2,0)))","v":0},null,{"$f":"IF(I250<210,0,IF(I250>593,(200+(I250-593)*2),VLOOKUP(I250,baza!$B$3:$F$202,5,1)))","v":0},null,{"$f":"IF(K250=\"\",0,IF(K250>(-1*baza!$D$3),0,IF(K250<132.11,INT(200+(132.11-K250)*5),VLOOKUP(-K250,baza!$D$1:$F$203,3,1))))","v":0},0,0,{"$f":"SUM(M246:M250)","v":0},"I DZIEŃ"]
[null,{"$f":"szkoły!H72","v":0},null,{"$f":"IF(C251>=\"\",0,IF(C251>12.75,0,IF(C251<7.38,(200+(7.38-C251)*100),VLOOKUP(-C251,baza!$E$3:$F$202,2,1))))","v":0},null,{"$f":"IF(E251<8,0,IF(E251>77,(200+(E251-77)*2),VLOOKUP(E251,baza!$H$3:$J$202,3,0)))","v":0},null,{"$f":"IF(G251<80,0,IF(G251>179,200+(G251-179),VLOOKUP(G251,baza!$I$1:$J$65536,2,0)))","v":0},null,{"$f":"IF(I251<210,0,IF(I251>593,(200+(I251-593)*2),VLOOKUP(I251,baza!$B$3:$F$202,5,1)))","v":0},null,{"$f":"IF(K251=\"\",0,IF(K251>(-1*baza!$D$3),0,IF(K251<132.11,INT(200+(132.11-K251)*5),VLOOKUP(-K251,baza!$D$1:$F$203,3,1))))","v":0},0,0,{"$f":"IF(COUNT(N246:N250)<5,SUM(N246:N250),SUM(N246:N250)-MIN(N246:N250))","v":0},"II DZIEŃ"]
[{"$f":"szkoły!K66","v":0},"NAZWISKO/IMIĘ","60m","pkt","ppal","pkt","wzwyż","pkt","w dal","pkt","600m","pkt","I DZIEŃ","RAZEM"]
[null,{"$f":"szkoły!K67","v":0},null,{"$f":"IF(C253>=\"\",0,IF(C253>12.75,0,IF(C253<7.38,(200+(7.38-C253)*100),VLOOKUP(-C253,baza!$E$3:$F$202,2,1))))","v":0},null,{"$f":"IF(E253<8,0,IF(E253>77,(200+(E253-77)*2),VLOOKUP(E253,baza!$H$3:$J$202,3,0)))","v":0},null,{"$f":"IF(G253<80,0,IF(G253>179,200+(G253-179),VLOOKUP(G253,baza!$I$1:$J$65536,2,0)))","v":0},null,{"$f":"IF(I253<210,0,IF(I253>593,(200+(I253-593)*2),VLOOKUP(I253,baza!$B$3:$F$202,5,1)))","v":0},null,{"$f":"IF(K253=\"\",0,IF(K253>(-1*baza!$D$3),0,IF(K253<132.11,INT(200+(132.11-K253)*5),VLOOKUP(-K253,baza!$D$1:$F$203,3,1))))","v":0},{"$f":"(D253+F253+H253+J253)","v":0},{"$f":"M253+L253","v":0}]
[null,{"$f":"szkoły!K68","v":0},null,{"$f":"IF(C254>=\"\",0,IF(C254>12.75,0,IF(C254<7.38,(200+(7.38-C254)*100),VLOOKUP(-C254,baza!$E$3:$F$202,2,1))))","v":0},null,{"$f":"IF(E254<8,0,IF(E254>77,(200+(E254-77)*2),VLOOKUP(E254,baza!$H$3:$J$202,3,0)))","v":0},null,{"$f":"IF(G254<80,0,IF(G254>179,200+(G254-179),VLOOKUP(G254,baza!$I$1:$J$65536,2,0)))","v":0},null,{"$f":"IF(I254<210,0,IF(I254>593,(200+(I254-593)*2),VLOOKUP(I254,baza!$B$3:$F$202,5,1)))","v":0},null,{"$f":"IF(K254=\"\",0,IF(K254>(-1*baza!$D$3),0,IF(K254<132.11,INT(200+(132.11-K254)*5),VLOOKUP(-K254,baza!$D$1:$F$203,3,1))))","v":0},0,0]
[{"$f":"O258 & \" pkt.\"","v":"0 pkt."},{"$f":"szkoły!K69","v":0},null,{"$f":"IF(C255>=\"\",0,IF(C255>12.75,0,IF(C255<7.38,(200+(7.38-C255)*100),VLOOKUP(-C255,baza!$E$3:$F$202,2,1))))","v":0},null,{"$f":"IF(E255<8,0,IF(E255>77,(200+(E255-77)*2),VLOOKUP(E255,baza!$H$3:$J$202,3,0)))","v":0},null,{"$f":"IF(G255<80,0,IF(G255>179,200+(G255-179),VLOOKUP(G255,baza!$I$1:$J$65536,2,0)))","v":0},null,{"$f":"IF(I255<210,0,IF(I255>593,(200+(I255-593)*2),VLOOKUP(I255,baza!$B$3:$F$202,5,1)))","v":0},null,{"$f":"IF(K255=\"\",0,IF(K255>(-1*baza!$D$3),0,IF(K255<132.11,INT(200+(132.11-K255)*5),VLOOKUP(-K255,baza!$D$1:$F$203,3,1))))","v":0},0,0]
[null,{"$f":"szkoły!K70","v":0},null,{"$f":"IF(C256>=\"\",0,IF(C256>12.75,0,IF(C256<7.38,(200+(7.38-C256)*100),VLOOKUP(-C256,baza!$E$3:$F$202,2,1))))","v":0},null,{"$f":"IF(E256<8,0,IF(E256>77,(200+(E256-77)*2),VLOOKUP(E256,baza!$H$3:$J$202,3,0)))","v":0},null,{"$f":"IF(G256<80,0,IF(G256>179,200+(G256-179),VLOOKUP(G256,baza!$I$1:$J$65536,2,0)))","v":0},null,{"$f":"IF(I256<210,0,IF(I256>593,(200+(I256-593)*2),VLOOKUP(I256,baza!$B$3:$F$202,5,1)))","v":0},null,{"$f":"IF(K256=\"\",0,IF(K256>(-1*baza!$D$3),0,IF(K256<132.11,INT(200+(132.11-K256)*5),VLOOKUP(-K256,baza!$D$1:$F$203,3,1))))","v":0},0,0]
[null,{"$f":"szkoły!K71","v":0},null,{"$f":"IF(C257>=\"\",0,IF(C257>12.75,0,IF(C257<7.38,(200+(7.38-C257)*100),VLOOKUP(-C257,baza!$E$3:$F$202,2,1))))","v":0},null,{"$f":"IF(E257<8,0,IF(E257>77,(200+(E257-77)*2),VLOOKUP(E257,baza!$H$3:$J$202,3,0)))","v":0},null,{"$f":"IF(G257<80,0,IF(G257>179,200+(G257-179),VLOOKUP(G257,baza!$I$1:$J$65536,2,0)))","v":0},null,{"$f":"IF(I257<210,0,IF(I257>593,(200+(I257-593)*2),VLOOKUP(I257,baza!$B$3:$F$202,5,1)))","v":0},null,{"$f":"IF(K257=\"\",0,IF(K257>(-1*baza!$D$3),0,IF(K257<132.11,INT(200+(132.11-K257)*5),VLOOKUP(-K257,baza!$D$1:$F$203,3,1))))","v":0},0,0,{"$f":"SUM(M253:M257)","v":0},"I DZIEŃ"]
[null,{"$f":"szkoły!K72","v":0},null,{"$f":"IF(C258>=\"\",0,IF(C258>12.75,0,IF(C258<7.38,(200+(7.38-C258)*100),VLOOKUP(-C258,baza!$E$3:$F$202,2,1))))","v":0},null,{"$f":"IF(E258<8,0,IF(E258>77,(200+(E258-77)*2),VLOOKUP(E258,baza!$H$3:$J$202,3,0)))","v":0},null,{"$f":"IF(G258<80,0,IF(G258>179,200+(G258-179),VLOOKUP(G258,baza!$I$1:$J$65536,2,0)))","v":0},null,{"$f":"IF(I258<210,0,IF(I258>593,(200+(I258-593)*2),VLOOKUP(I258,baza!$B$3:$F$202,5,1)))","v":0},null,{"$f":"IF(K258=\"\",0,IF(K258>(-1*baza!$D$3),0,IF(K258<132.11,INT(200+(132.11-K258)*5),VLOOKUP(-K258,baza!$D$1:$F$203,3,1))))","v":0},0,0,{"$f":"IF(COUNT(N253:N257)<5,SUM(N253:N257),SUM(N253:N257)-MIN(N253:N257))","v":0},"II DZIEŃ"]
[{"$f":"szkoły!B74","v":0},"NAZWISKO/IMIĘ","60m","pkt","ppal","pkt","wzwyż","pkt","w dal","pkt","600m","pkt","I DZIEŃ","RAZEM"]
[null,{"$f":"szkoły!B75","v":0},null,{"$f":"IF(C260>=\"\",0,IF(C260>12.75,0,IF(C260<7.38,(200+(7.38-C260)*100),VLOOKUP(-C260,baza!$E$3:$F$202,2,1))))","v":0},null,{"$f":"IF(E260<8,0,IF(E260>77,(200+(E260-77)*2),VLOOKUP(E260,baza!$H$3:$J$202,3,0)))","v":0},null,{"$f":"IF(G260<80,0,IF(G260>179,200+(G260-179),VLOOKUP(G260,baza!$I$1:$J$65536,2,0)))","v":0},null,{"$f":"IF(I260<210,0,IF(I260>593,(200+(I260-593)*2),VLOOKUP(I260,baza!$B$3:$F$202,5,1)))","v":0},null,{"$f":"IF(K260=\"\",0,IF(K260>(-1*baza!$D$3),0,IF(K260<132.11,INT(200+(132.11-K260)*5),VLOOKUP(-K260,baza!$D$1:$F$203,3,1))))","v":0},{"$f":"(D260+F260+H260+J260)","v":0},{"$f":"M260+L260","v":0}]
[null,{"$f":"szkoły!B76","v":0},null,{"$f":"IF(C261>=\"\",0,IF(C261>12.75,0,IF(C261<7.38,(200+(7.38-C261)*100),VLOOKUP(-C261,baza!$E$3:$F$202,2,1))))","v":0},null,{"$f":"IF(E261<8,0,IF(E261>77,(200+(E261-77)*2),VLOOKUP(E261,baza!$H$3:$J$202,3,0)))","v":0},null,{"$f":"IF(G261<80,0,IF(G261>179,200+(G261-179),VLOOKUP(G261,baza!$I$1:$J$65536,2,0)))","v":0},null,{"$f":"IF(I261<210,0,IF(I261>593,(200+(I261-593)*2),VLOOKUP(I261,baza!$B$3:$F$202,5,1)))","v":0},null,{"$f":"IF(K261=\"\",0,IF(K261>(-1*baza!$D$3),0,IF(K261<132.11,INT(200+(132.11-K261)*5),VLOOKUP(-K261,baza!$D$1:$F$203,3,1))))","v":0},0,0]
[{"$f":"O265 & \" pkt.\"","v":"0 pkt."},{"$f":"szkoły!B77","v":0},null,{"$f":"IF(C262>=\"\",0,IF(C262>12.75,0,IF(C262<7.38,(200+(7.38-C262)*100),VLOOKUP(-C262,baza!$E$3:$F$202,2,1))))","v":0},null,{"$f":"IF(E262<8,0,IF(E262>77,(200+(E262-77)*2),VLOOKUP(E262,baza!$H$3:$J$202,3,0)))","v":0},null,{"$f":"IF(G262<80,0,IF(G262>179,200+(G262-179),VLOOKUP(G262,baza!$I$1:$J$65536,2,0)))","v":0},null,{"$f":"IF(I262<210,0,IF(I262>593,(200+(I262-593)*2),VLOOKUP(I262,baza!$B$3:$F$202,5,1)))","v":0},null,{"$f":"IF(K262=\"\",0,IF(K262>(-1*baza!$D$3),0,IF(K262<132.11,INT(200+(132.11-K262)*5),VLOOKUP(-K262,baza!$D$1:$F$203,3,1))))","v":0},0,0]
[null,{"$f":"szkoły!B78","v":0},null,{"$f":"IF(C263>=\"\",0,IF(C263>12.75,0,IF(C263<7.38,(200+(7.38-C263)*100),VLOOKUP(-C263,baza!$E$3:$F$202,2,1))))","v":0},null,{"$f":"IF(E263<8,0,IF(E263>77,(200+(E263-77)*2),VLOOKUP(E263,baza!$H$3:$J$202,3,0)))","v":0},null,{"$f":"IF(G263<80,0,IF(G263>179,200+(G263-179),VLOOKUP(G263,baza!$I$1:$J$65536,2,0)))","v":0},null,{"$f":"IF(I263<210,0,IF(I263>593,(200+(I263-593)*2),VLOOKUP(I263,baza!$B$3:$F$202,5,1)))","v":0},null,{"$f":"IF(K263=\"\",0,IF(K263>(-1*baza!$D$3),0,IF(K263<132.11,INT(200+(132.11-K263)*5),VLOOKUP(-K263,baza!$D$1:$F$203,3,1))))","v":0},0,0]
[null,{"$f":"szkoły!B79","v":0},null,{"$f":"IF(C264>=\"\",0,IF(C264>12.75,0,IF(C264<7.38,(200+(7.38-C264)*100),VLOOKUP(-C264,baza!$E$3:$F$202,2,1))))","v":0},null,{"$f":"IF(E264<8,0,IF(E264>77,(200+(E264-77)*2),VLOOKUP(E264,baza!$H$3:$J$202,3,0)))","v":0},null,{"$f":"IF(G264<80,0,IF(G264>179,200+(G264-179),VLOOKUP(G264,baza!$I$1:$J$65536,2,0)))","v":0},null,{"$f":"IF(I264<210,0,IF(I264>593,(200+(I264-593)*2),VLOOKUP(I264,baza!$B$3:$F$202,5,1)))","v":0},null,{"$f":"IF(K264=\"\",0,IF(K264>(-1*baza!$D$3),0,IF(K264<132.11,INT(200+(132.11-K264)*5),VLOOKUP(-K264,baza!$D$1:$F$203,3,1))))","v":0},0,0,{"$f":"SUM(M260:M264)","v":0},"I DZIEŃ"]
[null,{"$f":"szkoły!B80","v":0},null,{"$f":"IF(C265>=\"\",0,IF(C265>12.75,0,IF(C265<7.38,(200+(7.38-C265)*100),VLOOKUP(-C265,baza!$E$3:$F$202,2,1))))","v":0},null,{"$f":"IF(E265<8,0,IF(E265>77,(200+(E265-77)*2),VLOOKUP(E265,baza!$H$3:$J$202,3,0)))","v":0},null,{"$f":"IF(G265<80,0,IF(G265>179,200+(G265-179),VLOOKUP(G265,baza!$I$1:$J$65536,2,0)))","v":0},null,{"$f":"IF(I265<210,0,IF(I265>593,(200+(I265-593)*2),VLOOKUP(I265,baza!$B$3:$F$202,5,1)))","v":0},null,{"$f":"IF(K265=\"\",0,IF(K265>(-1*baza!$D$3),0,IF(K265<132.11,INT(200+(132.11-K265)*5),VLOOKUP(-K265,baza!$D$1:$F$203,3,1))))","v":0},0,0,{"$f":"IF(COUNT(N260:N264)<5,SUM(N260:N264),SUM(N260:N264)-MIN(N260:N264))","v":0},"II DZIEŃ"]
[{"$f":"szkoły!E74","v":0},"NAZWISKO/IMIĘ","60m","pkt","ppal","pkt","wzwyż","pkt","w dal","pkt","600m","pkt","I DZIEŃ","RAZEM"]
[null,{"$f":"szkoły!E75","v":0},null,{"$f":"IF(C267>=\"\",0,IF(C267>12.75,0,IF(C267<7.38,(200+(7.38-C267)*100),VLOOKUP(-C267,baza!$E$3:$F$202,2,1))))","v":0},null,{"$f":"IF(E267<8,0,IF(E267>77,(200+(E267-77)*2),VLOOKUP(E267,baza!$H$3:$J$202,3,0)))","v":0},null,{"$f":"IF(G267<80,0,IF(G267>179,200+(G267-179),VLOOKUP(G267,baza!$I$1:$J$65536,2,0)))","v":0},null,{"$f":"IF(I267<210,0,IF(I267>593,(200+(I267-593)*2),VLOOKUP(I267,baza!$B$3:$F$202,5,1)))","v":0},null,{"$f":"IF(K267=\"\",0,IF(K267>(-1*baza!$D$3),0,IF(K267<132.11,INT(200+(132.11-K267)*5),VLOOKUP(-K267,baza!$D$1:$F$203,3,1))))","v":0},{"$f":"(D267+F267+H267+J267)","v":0},{"$f":"M267+L267","v":0}]
[null,{"$f":"szkoły!E76","v":0},null,{"$f":"IF(C268>=\"\",0,IF(C268>12.75,0,IF(C268<7.38,(200+(7.38-C268)*100),VLOOKUP(-C268,baza!$E$3:$F$202,2,1))))","v":0},null,{"$f":"IF(E268<8,0,IF(E268>77,(200+(E268-77)*2),VLOOKUP(E268,baza!$H$3:$J$202,3,0)))","v":0},null,{"$f":"IF(G268<80,0,IF(G268>179,200+(G268-179),VLOOKUP(G268,baza!$I$1:$J$65536,2,0)))","v":0},null,{"$f":"IF(I268<210,0,IF(I268>593,(200+(I268-593)*2),VLOOKUP(I268,baza!$B$3:$F$202,5,1)))","v":0},null,{"$f":"IF(K268=\"\",0,IF(K268>(-1*baza!$D$3),0,IF(K268<132.11,INT(200+(132.11-K268)*5),VLOOKUP(-K268,baza!$D$1:$F$203,3,1))))","v":0},0,0]
[{"$f":"O272 & \" pkt.\"","v":"0 pkt."},{"$f":"szkoły!E77","v":0},null,{"$f":"IF(C269>=\"\",0,IF(C269>12.75,0,IF(C269<7.38,(200+(7.38-C269)*100),VLOOKUP(-C269,baza!$E$3:$F$202,2,1))))","v":0},null,{"$f":"IF(E269<8,0,IF(E269>77,(200+(E269-77)*2),VLOOKUP(E269,baza!$H$3:$J$202,3,0)))","v":0},null,{"$f":"IF(G269<80,0,IF(G269>179,200+(G269-179),VLOOKUP(G269,baza!$I$1:$J$65536,2,0)))","v":0},null,{"$f":"IF(I269<210,0,IF(I269>593,(200+(I269-593)*2),VLOOKUP(I269,baza!$B$3:$F$202,5,1)))","v":0},null,{"$f":"IF(K269=\"\",0,IF(K269>(-1*baza!$D$3),0,IF(K269<132.11,INT(200+(132.11-K269)*5),VLOOKUP(-K269,baza!$D$1:$F$203,3,1))))","v":0},0,0]
[null,{"$f":"szkoły!E78","v":0},null,{"$f":"IF(C270>=\"\",0,IF(C270>12.75,0,IF(C270<7.38,(200+(7.38-C270)*100),VLOOKUP(-C270,baza!$E$3:$F$202,2,1))))","v":0},null,{"$f":"IF(E270<8,0,IF(E270>77,(200+(E270-77)*2),VLOOKUP(E270,baza!$H$3:$J$202,3,0)))","v":0},null,{"$f":"IF(G270<80,0,IF(G270>179,200+(G270-179),VLOOKUP(G270,baza!$I$1:$J$65536,2,0)))","v":0},null,{"$f":"IF(I270<210,0,IF(I270>593,(200+(I270-593)*2),VLOOKUP(I270,baza!$B$3:$F$202,5,1)))","v":0},null,{"$f":"IF(K270=\"\",0,IF(K270>(-1*baza!$D$3),0,IF(K270<132.11,INT(200+(132.11-K270)*5),VLOOKUP(-K270,baza!$D$1:$F$203,3,1))))","v":0},0,0]
[null,{"$f":"szkoły!E79","v":0},null,{"$f":"IF(C271>=\"\",0,IF(C271>12.75,0,IF(C271<7.38,(200+(7.38-C271)*100),VLOOKUP(-C271,baza!$E$3:$F$202,2,1))))","v":0},null,{"$f":"IF(E271<8,0,IF(E271>77,(200+(E271-77)*2),VLOOKUP(E271,baza!$H$3:$J$202,3,0)))","v":0},null,{"$f":"IF(G271<80,0,IF(G271>179,200+(G271-179),VLOOKUP(G271,baza!$I$1:$J$65536,2,0)))","v":0},null,{"$f":"IF(I271<210,0,IF(I271>593,(200+(I271-593)*2),VLOOKUP(I271,baza!$B$3:$F$202,5,1)))","v":0},null,{"$f":"IF(K271=\"\",0,IF(K271>(-1*baza!$D$3),0,IF(K271<132.11,INT(200+(132.11-K271)*5),VLOOKUP(-K271,baza!$D$1:$F$203,3,1))))","v":0},0,0,{"$f":"SUM(M267:M271)","v":0},"I DZIEŃ"]
[null,{"$f":"szkoły!E80","v":0},null,{"$f":"IF(C272>=\"\",0,IF(C272>12.75,0,IF(C272<7.38,(200+(7.38-C272)*100),VLOOKUP(-C272,baza!$E$3:$F$202,2,1))))","v":0},null,{"$f":"IF(E272<8,0,IF(E272>77,(200+(E272-77)*2),VLOOKUP(E272,baza!$H$3:$J$202,3,0)))","v":0},null,{"$f":"IF(G272<80,0,IF(G272>179,200+(G272-179),VLOOKUP(G272,baza!$I$1:$J$65536,2,0)))","v":0},null,{"$f":"IF(I272<210,0,IF(I272>593,(200+(I272-593)*2),VLOOKUP(I272,baza!$B$3:$F$202,5,1)))","v":0},null,{"$f":"IF(K272=\"\",0,IF(K272>(-1*baza!$D$3),0,IF(K272<132.11,INT(200+(132.11-K272)*5),VLOOKUP(-K272,baza!$D$1:$F$203,3,1))))","v":0},0,0,{"$f":"IF(COUNT(N267:N271)<5,SUM(N267:N271),SUM(N267:N271)-MIN(N267:N271))","v":0},"II DZIEŃ"]
[{"$f":"szkoły!H74","v":0},"NAZWISKO/IMIĘ","60m","pkt","ppal","pkt","wzwyż","pkt","w dal","pkt","600m","pkt","I DZIEŃ","RAZEM"]
[null,{"$f":"szkoły!H75","v":0},null,{"$f":"IF(C274>=\"\",0,IF(C274>12.75,0,IF(C274<7.38,(200+(7.38-C274)*100),VLOOKUP(-C274,baza!$E$3:$F$202,2,1))))","v":0},null,{"$f":"IF(E274<8,0,IF(E274>77,(200+(E274-77)*2),VLOOKUP(E274,baza!$H$3:$J$202,3,0)))","v":0},null,{"$f":"IF(G274<80,0,IF(G274>179,200+(G274-179),VLOOKUP(G274,baza!$I$1:$J$65536,2,0)))","v":0},null,{"$f":"IF(I274<210,0,IF(I274>593,(200+(I274-593)*2),VLOOKUP(I274,baza!$B$3:$F$202,5,1)))","v":0},null,{"$f":"IF(K274=\"\",0,IF(K274>(-1*baza!$D$3),0,IF(K274<132.11,INT(200+(132.11-K274)*5),VLOOKUP(-K274,baza!$D$1:$F$203,3,1))))","v":0},{"$f":"(D274+F274+H274+J274)","v":0},{"$f":"M274+L274","v":0}]
[null,{"$f":"szkoły!H76","v":0},null,{"$f":"IF(C275>=\"\",0,IF(C275>12.75,0,IF(C275<7.38,(200+(7.38-C275)*100),VLOOKUP(-C275,baza!$E$3:$F$202,2,1))))","v":0},null,{"$f":"IF(E275<8,0,IF(E275>77,(200+(E275-77)*2),VLOOKUP(E275,baza!$H$3:$J$202,3,0)))","v":0},null,{"$f":"IF(G275<80,0,IF(G275>179,200+(G275-179),VLOOKUP(G275,baza!$I$1:$J$65536,2,0)))","v":0},null,{"$f":"IF(I275<210,0,IF(I275>593,(200+(I275-593)*2),VLOOKUP(I275,baza!$B$3:$F$202,5,1)))","v":0},null,{"$f":"IF(K275=\"\",0,IF(K275>(-1*baza!$D$3),0,IF(K275<132.11,INT(200+(132.11-K275)*5),VLOOKUP(-K275,baza!$D$1:$F$203,3,1))))","v":0},0,0]
[{"$f":"O279 & \" pkt.\"","v":"0 pkt."},{"$f":"szkoły!H77","v":0},null,{"$f":"IF(C276>=\"\",0,IF(C276>12.75,0,IF(C276<7.38,(200+(7.38-C276)*100),VLOOKUP(-C276,baza!$E$3:$F$202,2,1))))","v":0},null,{"$f":"IF(E276<8,0,IF(E276>77,(200+(E276-77)*2),VLOOKUP(E276,baza!$H$3:$J$202,3,0)))","v":0},null,{"$f":"IF(G276<80,0,IF(G276>179,200+(G276-179),VLOOKUP(G276,baza!$I$1:$J$65536,2,0)))","v":0},null,{"$f":"IF(I276<210,0,IF(I276>593,(200+(I276-593)*2),VLOOKUP(I276,baza!$B$3:$F$202,5,1)))","v":0},null,{"$f":"IF(K276=\"\",0,IF(K276>(-1*baza!$D$3),0,IF(K276<132.11,INT(200+(132.11-K276)*5),VLOOKUP(-K276,baza!$D$1:$F$203,3,1))))","v":0},0,0]
[null,{"$f":"szkoły!H78","v":0},null,{"$f":"IF(C277>=\"\",0,IF(C277>12.75,0,IF(C277<7.38,(200+(7.38-C277)*100),VLOOKUP(-C277,baza!$E$3:$F$202,2,1))))","v":0},null,{"$f":"IF(E277<8,0,IF(E277>77,(200+(E277-77)*2),VLOOKUP(E277,baza!$H$3:$J$202,3,0)))","v":0},null,{"$f":"IF(G277<80,0,IF(G277>179,200+(G277-179),VLOOKUP(G277,baza!$I$1:$J$65536,2,0)))","v":0},null,{"$f":"IF(I277<210,0,IF(I277>593,(200+(I277-593)*2),VLOOKUP(I277,baza!$B$3:$F$202,5,1)))","v":0},null,{"$f":"IF(K277=\"\",0,IF(K277>(-1*baza!$D$3),0,IF(K277<132.11,INT(200+(132.11-K277)*5),VLOOKUP(-K277,baza!$D$1:$F$203,3,1))))","v":0},0,0]
[null,{"$f":"szkoły!H79","v":0},null,{"$f":"IF(C278>=\"\",0,IF(C278>12.75,0,IF(C278<7.38,(200+(7.38-C278)*100),VLOOKUP(-C278,baza!$E$3:$F$202,2,1))))","v":0},null,{"$f":"IF(E278<8,0,IF(E278>77,(200+(E278-77)*2),VLOOKUP(E278,baza!$H$3:$J$202,3,0)))","v":0},null,{"$f":"IF(G278<80,0,IF(G278>179,200+(G278-179),VLOOKUP(G278,baza!$I$1:$J$65536,2,0)))","v":0},null,{"$f":"IF(I278<210,0,IF(I278>593,(200+(I278-593)*2),VLOOKUP(I278,baza!$B$3:$F$202,5,1)))","v":0},null,{"$f":"IF(K278=\"\",0,IF(K278>(-1*baza!$D$3),0,IF(K278<132.11,INT(200+(132.11-K278)*5),VLOOKUP(-K278,baza!$D$1:$F$203,3,1))))","v":0},0,0,{"$f":"SUM(M274:M278)","v":0},"I DZIEŃ"]
[null,{"$f":"szkoły!H80","v":0},null,{"$f":"IF(C279>=\"\",0,IF(C279>12.75,0,IF(C279<7.38,(200+(7.38-C279)*100),VLOOKUP(-C279,baza!$E$3:$F$202,2,1))))","v":0},null,{"$f":"IF(E279<8,0,IF(E279>77,(200+(E279-77)*2),VLOOKUP(E279,baza!$H$3:$J$202,3,0)))","v":0},null,{"$f":"IF(G279<80,0,IF(G279>179,200+(G279-179),VLOOKUP(G279,baza!$I$1:$J$65536,2,0)))","v":0},null,{"$f":"IF(I279<210,0,IF(I279>593,(200+(I279-593)*2),VLOOKUP(I279,baza!$B$3:$F$202,5,1)))","v":0},null,{"$f":"IF(K279=\"\",0,IF(K279>(-1*baza!$D$3),0,IF(K279<132.11,INT(200+(132.11-K279)*5),VLOOKUP(-K279,baza!$D$1:$F$203,3,1))))","v":0},0,0,{"$f":"IF(COUNT(N274:N278)<5,SUM(N274:N278),SUM(N274:N278)-MIN(N274:N278))","v":0},"II DZIEŃ"]
[{"$f":"szkoły!K74","v":0},"NAZWISKO/IMIĘ","60m","pkt","ppal","pkt","wzwyż","pkt","w dal","pkt","600m","pkt","I DZIEŃ","RAZEM"]
[null,{"$f":"szkoły!K75","v":0},null,{"$f":"IF(C281>=\"\",0,IF(C281>12.75,0,IF(C281<7.38,(200+(7.38-C281)*100),VLOOKUP(-C281,baza!$E$3:$F$202,2,1))))","v":0},null,{"$f":"IF(E281<8,0,IF(E281>77,(200+(E281-77)*2),VLOOKUP(E281,baza!$H$3:$J$202,3,0)))","v":0},null,{"$f":"IF(G281<80,0,IF(G281>179,200+(G281-179),VLOOKUP(G281,baza!$I$1:$J$65536,2,0)))","v":0},null,{"$f":"IF(I281<210,0,IF(I281>593,(200+(I281-593)*2),VLOOKUP(I281,baza!$B$3:$F$202,5,1)))","v":0},null,{"$f":"IF(K281=\"\",0,IF(K281>(-1*baza!$D$3),0,IF(K281<132.11,INT(200+(132.11-K281)*5),VLOOKUP(-K281,baza!$D$1:$F$203,3,1))))","v":0},{"$f":"(D281+F281+H281+J281)","v":0},{"$f":"M281+L281","v":0}]
[null,{"$f":"szkoły!K76","v":0},null,{"$f":"IF(C282>=\"\",0,IF(C282>12.75,0,IF(C282<7.38,(200+(7.38-C282)*100),VLOOKUP(-C282,baza!$E$3:$F$202,2,1))))","v":0},null,{"$f":"IF(E282<8,0,IF(E282>77,(200+(E282-77)*2),VLOOKUP(E282,baza!$H$3:$J$202,3,0)))","v":0},null,{"$f":"IF(G282<80,0,IF(G282>179,200+(G282-179),VLOOKUP(G282,baza!$I$1:$J$65536,2,0)))","v":0},null,{"$f":"IF(I282<210,0,IF(I282>593,(200+(I282-593)*2),VLOOKUP(I282,baza!$B$3:$F$202,5,1)))","v":0},null,{"$f":"IF(K282=\"\",0,IF(K282>(-1*baza!$D$3),0,IF(K282<132.11,INT(200+(132.11-K282)*5),VLOOKUP(-K282,baza!$D$1:$F$203,3,1))))","v":0},0,0]
[{"$f":"O286 & \" pkt.\"","v":"0 pkt."},{"$f":"szkoły!K77","v":0},null,{"$f":"IF(C283>=\"\",0,IF(C283>12.75,0,IF(C283<7.38,(200+(7.38-C283)*100),VLOOKUP(-C283,baza!$E$3:$F$202,2,1))))","v":0},null,{"$f":"IF(E283<8,0,IF(E283>77,(200+(E283-77)*2),VLOOKUP(E283,baza!$H$3:$J$202,3,0)))","v":0},null,{"$f":"IF(G283<80,0,IF(G283>179,200+(G283-179),VLOOKUP(G283,baza!$I$1:$J$65536,2,0)))","v":0},null,{"$f":"IF(I283<210,0,IF(I283>593,(200+(I283-593)*2),VLOOKUP(I283,baza!$B$3:$F$202,5,1)))","v":0},null,{"$f":"IF(K283=\"\",0,IF(K283>(-1*baza!$D$3),0,IF(K283<132.11,INT(200+(132.11-K283)*5),VLOOKUP(-K283,baza!$D$1:$F$203,3,1))))","v":0},0,0]
[null,{"$f":"szkoły!K78","v":0},null,{"$f":"IF(C284>=\"\",0,IF(C284>12.75,0,IF(C284<7.38,(200+(7.38-C284)*100),VLOOKUP(-C284,baza!$E$3:$F$202,2,1))))","v":0},null,{"$f":"IF(E284<8,0,IF(E284>77,(200+(E284-77)*2),VLOOKUP(E284,baza!$H$3:$J$202,3,0)))","v":0},null,{"$f":"IF(G284<80,0,IF(G284>179,200+(G284-179),VLOOKUP(G284,baza!$I$1:$J$65536,2,0)))","v":0},null,{"$f":"IF(I284<210,0,IF(I284>593,(200+(I284-593)*2),VLOOKUP(I284,baza!$B$3:$F$202,5,1)))","v":0},null,{"$f":"IF(K284=\"\",0,IF(K284>(-1*baza!$D$3),0,IF(K284<132.11,INT(200+(132.11-K284)*5),VLOOKUP(-K284,baza!$D$1:$F$203,3,1))))","v":0},0,0]
[null,{"$f":"szkoły!K79","v":0},null,{"$f":"IF(C285>=\"\",0,IF(C285>12.75,0,IF(C285<7.38,(200+(7.38-C285)*100),VLOOKUP(-C285,baza!$E$3:$F$202,2,1))))","v":0},null,{"$f":"IF(E285<8,0,IF(E285>77,(200+(E285-77)*2),VLOOKUP(E285,baza!$H$3:$J$202,3,0)))","v":0},null,{"$f":"IF(G285<80,0,IF(G285>179,200+(G285-179),VLOOKUP(G285,baza!$I$1:$J$65536,2,0)))","v":0},null,{"$f":"IF(I285<210,0,IF(I285>593,(200+(I285-593)*2),VLOOKUP(I285,baza!$B$3:$F$202,5,1)))","v":0},null,{"$f":"IF(K285=\"\",0,IF(K285>(-1*baza!$D$3),0,IF(K285<132.11,INT(200+(132.11-K285)*5),VLOOKUP(-K285,baza!$D$1:$F$203,3,1))))","v":0},0,0,{"$f":"SUM(M281:M285)","v":0},"I DZIEŃ"]
[null,{"$f":"szkoły!K80","v":0},null,{"$f":"IF(C286>=\"\",0,IF(C286>12.75,0,IF(C286<7.38,(200+(7.38-C286)*100),VLOOKUP(-C286,baza!$E$3:$F$202,2,1))))","v":0},null,{"$f":"IF(E286<8,0,IF(E286>77,(200+(E286-77)*2),VLOOKUP(E286,baza!$H$3:$J$202,3,0)))","v":0},null,{"$f":"IF(G286<80,0,IF(G286>179,200+(G286-179),VLOOKUP(G286,baza!$I$1:$J$65536,2,0)))","v":0},null,{"$f":"IF(I286<210,0,IF(I286>593,(200+(I286-593)*2),VLOOKUP(I286,baza!$B$3:$F$202,5,1)))","v":0},null,{"$f":"IF(K286=\"\",0,IF(K286>(-1*baza!$D$3),0,IF(K286<132.11,INT(200+(132.11-K286)*5),VLOOKUP(-K286,baza!$D$1:$F$203,3,1))))","v":0},0,0,{"$f":"IF(COUNT(N281:N285)<5,SUM(N281:N285),SUM(N281:N285)-MIN(N281:N285))","v":0},"II DZIEŃ"]

{"sheet":"60m","index":2,"n_rows":241,"n_cols":14,"rows_kept":241,"cut":false,"hidden":false,"merged":[]}
[null,null,null,null,null,null,null,null,null,"Nazwisko/imię","Wynik",null,"Szkoła","Miejsce"]
[null,{"$f":"wyniki!B8","v":"zawodnik 1"},{"$f":"wyniki!C8","v":11.2},-1.0000000000000001E-5,{"$f":"IF(C2>1,G2+D2)","v":-11.200009999999999},{"$f":"wyniki!$A$7","v":"SP 234 Kursk"},{"$f":"-C2","v":-11.2},null,null,{"$f":"INDEX($B$2:$E$241,L2,1)","v":"zawodnik 1"},{"$f":"-LARGE($E$2:$E$241,1)","v":11.200009999999999},{"$f":"MATCH(-K2,$E$2:$E$241,0)","v":1},{"$f":"INDEX($E$2:$F$241,L2,2)","v":"SP 234 Kursk"},1]
[null,{"$f":"wyniki!B9","v":"zawodnik 2"},{"$f":"wyniki!C9","v":0},-2.0000000000000002E-5,{"$f":"IF(C3>1,G3+D3)","v":false},{"$f":"wyniki!$A$7","v":"SP 234 Kursk"},{"$f":"-C3","v":0},null,null,{"$f":"INDEX($B$2:$E$241,L3,1)","v":0},{"$f":"-LARGE($E$2:$E$241,2)","v":12.000489999999999},{"$f":"MATCH(-K3,$E$2:$E$241,0)","v":49},{"$f":"INDEX($E$2:$F$241,L3,2)","v":0},2]
[null,{"$f":"wyniki!B10","v":"zawodnik 3"},{"$f":"wyniki!C10","v":0},-3.0000000000000001E-5,false,{"$f":"wyniki!$A$7","v":"SP 234 Kursk"},0,null,null,{"$error":"#NUM!"},{"$f":"-LARGE($E$2:$E$241,3)","v":{"$error":"#NUM!"}},{"$f":"MATCH(-K4,$E$2:$E$241,0)","v":{"$error":"#NUM!"}},{"$error":"#NUM!"},3]
[null,{"$f":"wyniki!B11","v":"zawodnik 4"},{"$f":"wyniki!C11","v":0},-4.0000000000000003E-5,false,{"$f":"wyniki!$A$7","v":"SP 234 Kursk"},0,null,null,{"$error":"#NUM!"},{"$f":"-LARGE($E$2:$E$241,4)","v":{"$error":"#NUM!"}},{"$error":"#NUM!"},{"$error":"#NUM!"},4]
[null,{"$f":"wyniki!B12","v":"zawodnik 5"},{"$f":"wyniki!C12","v":0},-5.0000000000000002E-5,false,{"$f":"wyniki!$A$7","v":"SP 234 Kursk"},0,null,null,{"$error":"#NUM!"},{"$f":"-LARGE($E$2:$E$241,5)","v":{"$error":"#NUM!"}},{"$error":"#NUM!"},{"$error":"#NUM!"},5]
[null,{"$f":"wyniki!B13","v":0},{"$f":"wyniki!C13","v":0},-6.0000000000000002E-5,false,{"$f":"wyniki!$A$7","v":"SP 234 Kursk"},0,null,null,{"$error":"#NUM!"},{"$f":"-LARGE($E$2:$E$241,6)","v":{"$error":"#NUM!"}},{"$error":"#NUM!"},{"$error":"#NUM!"},6]
[null,{"$f":"wyniki!B15","v":0},{"$f":"wyniki!C15","v":0},-6.9999999999999994E-5,false,{"$f":"wyniki!$A$14","v":0},0,null,null,{"$error":"#NUM!"},{"$f":"-LARGE($E$2:$E$241,7)","v":{"$error":"#NUM!"}},{"$error":"#NUM!"},{"$error":"#NUM!"},7]
[null,{"$f":"wyniki!B16","v":0},{"$f":"wyniki!C16","v":0},-8.0000000000000007E-5,false,{"$f":"wyniki!$A$14","v":0},0,null,null,{"$error":"#NUM!"},{"$f":"-LARGE($E$2:$E$241,8)","v":{"$error":"#NUM!"}},{"$error":"#NUM!"},{"$error":"#NUM!"},8]
[null,{"$f":"wyniki!B17","v":0},{"$f":"wyniki!C17","v":0},-9.0000000000000006E-5,false,{"$f":"wyniki!$A$14","v":0},0,null,null,{"$error":"#NUM!"},{"$f":"-LARGE($E$2:$E$241,9)","v":{"$error":"#NUM!"}},{"$error":"#NUM!"},{"$error":"#NUM!"},9]
[null,{"$f":"wyniki!B18","v":0},{"$f":"wyniki!C18","v":0},-1E-4,false,{"$f":"wyniki!$A$14","v":0},0,null,null,{"$error":"#NUM!"},{"$f":"-LARGE($E$2:$E$241,10)","v":{"$error":"#NUM!"}},{"$error":"#NUM!"},{"$error":"#NUM!"},10]
[null,{"$f":"wyniki!B19","v":0},{"$f":"wyniki!C19","v":0},-1.1E-4,false,{"$f":"wyniki!$A$14","v":0},0,null,null,{"$error":"#NUM!"},{"$f":"-LARGE($E$2:$E$241,11)","v":{"$error":"#NUM!"}},{"$error":"#NUM!"},{"$error":"#NUM!"},11]
[null,{"$f":"wyniki!B20","v":0},{"$f":"wyniki!C20","v":0},-1.2E-4,false,{"$f":"wyniki!$A$14","v":0},0,null,null,{"$error":"#NUM!"},{"$f":"-LARGE($E$2:$E$241,12)","v":{"$error":"#NUM!"}},{"$error":"#NUM!"},{"$error":"#NUM!"},12]
[null,{"$f":"wyniki!B22","v":0},{"$f":"wyniki!C22","v":0},-1.2999999999999999E-4,false,{"$f":"wyniki!$A$21","v":0},0,null,null,{"$error":"#NUM!"},{"$f":"-LARGE($E$2:$E$241,13)","v":{"$error":"#NUM!"}},{"$error":"#NUM!"},{"$error":"#NUM!"},13]
[null,{"$f":"wyniki!B23","v":0},{"$f":"wyniki!C23","v":0},-1.3999999999999999E-4,false,{"$f":"wyniki!$A$21","v":0},0,null,null,{"$error":"#NUM!"},{"$f":"-LARGE($E$2:$E$241,14)","v":{"$error":"#NUM!"}},{"$error":"#NUM!"},{"$error":"#NUM!"},14]
[null,{"$f":"wyniki!B24","v":0},{"$f":"wyniki!C24","v":0},-1.4999999999999999E-4,false,{"$f":"wyniki!$A$21","v":0},0,null,null,{"$error":"#NUM!"},{"$f":"-LARGE($E$2:$E$241,15)","v":{"$error":"#NUM!"}},{"$error":"#NUM!"},{"$error":"#NUM!"},15]
[null,{"$f":"wyniki!B25","v":0},{"$f":"wyniki!C25","v":0},-1.6000000000000001E-4,false,{"$f":"wyniki!$A$21","v":0},0,null,null,{"$error":"#NUM!"},{"$f":"-LARGE($E$2:$E$241,16)","v":{"$error":"#NUM!"}},{"$error":"#NUM!"},{"$error":"#NUM!"},16]
[null,{"$f":"wyniki!B26","v":0},{"$f":"wyniki!C26","v":0},-1.7000000000000001E-4,false,{"$f":"wyniki!$A$21","v":0},0,null,null,{"$error":"#NUM!"},{"$f":"-LARGE($E$2:$E$241,17)","v":{"$error":"#NUM!"}},{"$error":"#NUM!"},{"$error":"#NUM!"},17]
[null,{"$f":"wyniki!B27","v":0},{"$f":"wyniki!C27","v":0},-1.8000000000000001E-4,false,{"$f":"wyniki!$A$21","v":0},0,null,null,{"$error":"#NUM!"},{"$f":"-LARGE($E$2:$E$241,18)","v":{"$error":"#NUM!"}},{"$error":"#NUM!"},{"$error":"#NUM!"},18]
[null,{"$f":"wyniki!B29","v":0},{"$f":"wyniki!C29","v":0},-1.9000000000000001E-4,false,{"$f":"wyniki!$A$28","v":0},0,null,null,{"$error":"#NUM!"},{"$f":"-LARGE($E$2:$E$241,19)","v":{"$error":"#NUM!"}},{"$error":"#NUM!"},{"$error":"#NUM!"},19]
[null,{"$f":"wyniki!B30","v":0},{"$f":"wyniki!C30","v":0},-2.0000000000000001E-4,false,{"$f":"wyniki!$A$28","v":0},0,null,null,{"$error":"#NUM!"},{"$f":"-LARGE($E$2:$E$241,20)","v":{"$error":"#NUM!"}},{"$error":"#NUM!"},{"$error":"#NUM!"},20]
[null,{"$f":"wyniki!B31","v":0},{"$f":"wyniki!C31","v":0},-2.1000000000000001E-4,false,{"$f":"wyniki!$A$28","v":0},0,null,null,{"$error":"#NUM!"},{"$f":"-LARGE($E$2:$E$241,21)","v":{"$error":"#NUM!"}},{"$error":"#NUM!"},{"$error":"#NUM!"},21]
[null,{"$f":"wyniki!B32","v":0},{"$f":"wyniki!C32","v":0},-2.2000000000000001E-4,false,{"$f":"wyniki!$A$28","v":0},0,null,null,{"$error":"#NUM!"},{"$f":"-LARGE($E$2:$E$241,22)","v":{"$error":"#NUM!"}},{"$error":"#NUM!"},{"$error":"#NUM!"},22]
[null,{"$f":"wyniki!B33","v":0},{"$f":"wyniki!C33","v":0},-2.3000000000000001E-4,false,{"$f":"wyniki!$A$28","v":0},0,null,null,{"$error":"#NUM!"},{"$f":"-LARGE($E$2:$E$241,23)","v":{"$error":"#NUM!"}},{"$error":"#NUM!"},{"$error":"#NUM!"},23]
[null,{"$f":"wyniki!B34","v":0},{"$f":"wyniki!C34","v":0},-2.4000000000000001E-4,false,{"$f":"wyniki!$A$28","v":0},0,null,null,{"$error":"#NUM!"},{"$f":"-LARGE($E$2:$E$241,24)","v":{"$error":"#NUM!"}},{"$error":"#NUM!"},{"$error":"#NUM!"},24]
[null,{"$f":"wyniki!B36","v":0},{"$f":"wyniki!C36","v":0},-2.5000000000000001E-4,false,{"$f":"wyniki!$A$35","v":0},0,null,null,{"$error":"#NUM!"},{"$f":"-LARGE($E$2:$E$241,25)","v":{"$error":"#NUM!"}},{"$error":"#NUM!"},{"$error":"#NUM!"},25]
[null,{"$f":"wyniki!B37","v":0},{"$f":"wyniki!C37","v":0},-2.5999999999999998E-4,false,{"$f":"wyniki!$A$35","v":0},0,null,null,{"$error":"#NUM!"},{"$f":"-LARGE($E$2:$E$241,26)","v":{"$error":"#NUM!"}},{"$error":"#NUM!"},{"$error":"#NUM!"},26]
[null,{"$f":"wyniki!B38","v":0},{"$f":"wyniki!C38","v":0},-2.7E-4,false,{"$f":"wyniki!$A$35","v":0},0,null,null,{"$error":"#NUM!"},{"$f":"-LARGE($E$2:$E$241,27)","v":{"$error":"#NUM!"}},{"$error":"#NUM!"},{"$error":"#NUM!"},27]
[null,{"$f":"wyniki!B39","v":0},{"$f":"wyniki!C39","v":0},-2.7999999999999998E-4,false,{"$f":"wyniki!$A$35","v":0},0,null,null,{"$error":"#NUM!"},{"$f":"-LARGE($E$2:$E$241,28)","v":{"$error":"#NUM!"}},{"$error":"#NUM!"},{"$error":"#NUM!"},28]
[null,{"$f":"wyniki!B40","v":0},{"$f":"wyniki!C40","v":0},-2.9E-4,false,{"$f":"wyniki!$A$35","v":0},0,null,null,{"$error":"#NUM!"},{"$f":"-LARGE($E$2:$E$241,29)","v":{"$error":"#NUM!"}},{"$error":"#NUM!"},{"$error":"#NUM!"},29]
[null,{"$f":"wyniki!B41","v":0},{"$f":"wyniki!C41","v":0},-2.9999999999999997E-4,false,{"$f":"wyniki!$A$35","v":0},0,null,null,{"$error":"#NUM!"},{"$f":"-LARGE($E$2:$E$241,30)","v":{"$error":"#NUM!"}},{"$error":"#NUM!"},{"$error":"#NUM!"},30]
[null,{"$f":"wyniki!B43","v":0},{"$f":"wyniki!C43","v":0},-3.1E-4,false,{"$f":"wyniki!$A$42","v":0},0,null,null,{"$error":"#NUM!"},{"$f":"-LARGE($E$2:$E$241,31)","v":{"$error":"#NUM!"}},{"$error":"#NUM!"},{"$error":"#NUM!"},31]
[null,{"$f":"wyniki!B44","v":0},{"$f":"wyniki!C44","v":0},-3.2000000000000003E-4,false,{"$f":"wyniki!$A$42","v":0},0,null,null,{"$error":"#NUM!"},{"$f":"-LARGE($E$2:$E$241,32)","v":{"$error":"#NUM!"}},{"$error":"#NUM!"},{"$error":"#NUM!"},32]
[null,{"$f":"wyniki!B45","v":0},{"$f":"wyniki!C45","v":0},-3.3E-4,false,{"$f":"wyniki!$A$42","v":0},0,null,null,{"$error":"#NUM!"},{"$f":"-LARGE($E$2:$E$241,33)","v":{"$error":"#NUM!"}},{"$error":"#NUM!"},{"$error":"#NUM!"},33]
[null,{"$f":"wyniki!B46","v":0},{"$f":"wyniki!C46","v":0},-3.4000000000000002E-4,false,{"$f":"wyniki!$A$42","v":0},0,null,null,{"$error":"#NUM!"},{"$f":"-LARGE($E$2:$E$241,34)","v":{"$error":"#NUM!"}},{"$error":"#NUM!"},{"$error":"#NUM!"},34]
[null,{"$f":"wyniki!B47","v":0},{"$f":"wyniki!C47","v":0},-3.5E-4,false,{"$f":"wyniki!$A$42","v":0},0,null,null,{"$error":"#NUM!"},{"$f":"-LARGE($E$2:$E$241,35)","v":{"$error":"#NUM!"}},{"$error":"#NUM!"},{"$error":"#NUM!"},35]
[null,{"$f":"wyniki!B48","v":0},{"$f":"wyniki!C48","v":0},-3.6000000000000002E-4,false,{"$f":"wyniki!$A$42","v":0},0,null,null,{"$error":"#NUM!"},{"$f":"-LARGE($E$2:$E$241,36)","v":{"$error":"#NUM!"}},{"$error":"#NUM!"},{"$error":"#NUM!"},36]
[null,{"$f":"wyniki!B50","v":0},{"$f":"wyniki!C50","v":0},-3.6999999999999999E-4,false,{"$f":"wyniki!$A$49","v":0},0,null,null,{"$error":"#NUM!"},{"$f":"-LARGE($E$2:$E$241,37)","v":{"$error":"#NUM!"}},{"$error":"#NUM!"},{"$error":"#NUM!"},37]
[null,{"$f":"wyniki!B51","v":0},{"$f":"wyniki!C51","v":0},-3.8000000000000002E-4,false,{"$f":"wyniki!$A$49","v":0},0,null,null,{"$error":"#NUM!"},{"$f":"-LARGE($E$2:$E$241,38)","v":{"$error":"#NUM!"}},{"$error":"#NUM!"},{"$error":"#NUM!"},38]
[null,{"$f":"wyniki!B52","v":0},{"$f":"wyniki!C52","v":0},-3.8999999999999999E-4,false,{"$f":"wyniki!$A$49","v":0},0,null,null,{"$error":"#NUM!"},{"$f":"-LARGE($E$2:$E$241,39)","v":{"$error":"#NUM!"}},{"$error":"#NUM!"},{"$error":"#NUM!"},39]
[null,{"$f":"wyniki!B53","v":0},{"$f":"wyniki!C53","v":0},-4.0000000000000002E-4,false,{"$f":"wyniki!$A$49","v":0},0,null,null,{"$error":"#NUM!"},{"$f":"-LARGE($E$2:$E$241,40)","v":{"$error":"#NUM!"}},{"$error":"#NUM!"},{"$error":"#NUM!"},40]
[null,{"$f":"wyniki!B54","v":0},{"$f":"wyniki!C54","v":0},-4.0999999999999999E-4,false,{"$f":"wyniki!$A$49","v":0},0,null,null,{"$error":"#NUM!"},{"$f":"-LARGE($E$2:$E$241,41)","v":{"$error":"#NUM!"}},{"$error":"#NUM!"},{"$error":"#NUM!"},41]
[null,{"$f":"wyniki!B55","v":0},{"$f":"wyniki!C55","v":0},-4.2000000000000002E-4,false,{"$f":"wyniki!$A$49","v":0},0,null,null,{"$error":"#NUM!"},{"$f":"-LARGE($E$2:$E$241,42)","v":{"$error":"#NUM!"}},{"$error":"#NUM!"},{"$error":"#NUM!"},42]
[null,{"$f":"wyniki!B57","v":0},{"$f":"wyniki!C57","v":0},-4.2999999999999999E-4,false,{"$f":"wyniki!$A$56","v":0},0,null,null,{"$error":"#NUM!"},{"$f":"-LARGE($E$2:$E$241,43)","v":{"$error":"#NUM!"}},{"$error":"#NUM!"},{"$error":"#NUM!"},43]
[null,{"$f":"wyniki!B58","v":0},{"$f":"wyniki!C58","v":0},-4.4000000000000002E-4,false,{"$f":"wyniki!$A$56","v":0},0,null,null,{"$error":"#NUM!"},{"$f":"-LARGE($E$2:$E$241,44)","v":{"$error":"#NUM!"}},{"$error":"#NUM!"},{"$error":"#NUM!"},44]
[null,{"$f":"wyniki!B59","v":0},{"$f":"wyniki!C59","v":0},-4.4999999999999999E-4,false,{"$f":"wyniki!$A$56","v":0},0,null,null,{"$error":"#NUM!"},{"$f":"-LARGE($E$2:$E$241,45)","v":{"$error":"#NUM!"}},{"$error":"#NUM!"},{"$error":"#NUM!"},45]
[null,{"$f":"wyniki!B60","v":0},{"$f":"wyniki!C60","v":0},-4.6000000000000001E-4,false,{"$f":"wyniki!$A$56","v":0},0,null,null,{"$error":"#NUM!"},{"$f":"-LARGE($E$2:$E$241,46)","v":{"$error":"#NUM!"}},{"$error":"#NUM!"},{"$error":"#NUM!"},46]
[null,{"$f":"wyniki!B61","v":0},{"$f":"wyniki!C61","v":0},-4.6999999999999999E-4,false,{"$f":"wyniki!$A$56","v":0},0,null,null,{"$error":"#NUM!"},{"$f":"-LARGE($E$2:$E$241,47)","v":{"$error":"#NUM!"}},{"$error":"#NUM!"},{"$error":"#NUM!"},47]
[null,{"$f":"wyniki!B62","v":0},{"$f":"wyniki!C62","v":0},-4.8000000000000001E-4,false,{"$f":"wyniki!$A$56","v":0},0,null,null,{"$error":"#NUM!"},{"$f":"-LARGE($E$2:$E$241,48)","v":{"$error":"#NUM!"}},{"$error":"#NUM!"},{"$error":"#NUM!"},48]
[null,{"$f":"wyniki!B64","v":0},{"$f":"wyniki!C64","v":12},-4.8999999999999998E-4,-12.000489999999999,{"$f":"wyniki!$A$63","v":0},-12,null,null,{"$error":"#NUM!"},{"$f":"-LARGE($E$2:$E$241,49)","v":{"$error":"#NUM!"}},{"$error":"#NUM!"},{"$error":"#NUM!"},49]
[null,{"$f":"wyniki!B65","v":0},{"$f":"wyniki!C65","v":0},-5.0000000000000001E-4,false,{"$f":"wyniki!$A$63","v":0},0,null,null,{"$error":"#NUM!"},{"$f":"-LARGE($E$2:$E$241,50)","v":{"$error":"#NUM!"}},{"$error":"#NUM!"},{"$error":"#NUM!"},50]
[null,{"$f":"wyniki!B66","v":0},{"$f":"wyniki!C66","v":0},-5.1000000000000004E-4,false,{"$f":"wyniki!$A$63","v":0},0,null,null,{"$error":"#NUM!"},{"$f":"-LARGE($E$2:$E$241,51)","v":{"$error":"#NUM!"}},{"$error":"#NUM!"},{"$error":"#NUM!"},51]
[null,{"$f":"wyniki!B67","v":0},{"$f":"wyniki!C67","v":0},-5.1999999999999995E-4,false,{"$f":"wyniki!$A$63","v":0},0,null,null,{"$error":"#NUM!"},{"$f":"-LARGE($E$2:$E$241,52)","v":{"$error":"#NUM!"}},{"$error":"#NUM!"},{"$error":"#NUM!"},52]
[null,{"$f":"wyniki!B68","v":0},{"$f":"wyniki!C68","v":0},-5.2999999999999998E-4,false,{"$f":"wyniki!$A$63","v":0},0,null,null,{"$error":"#NUM!"},{"$f":"-LARGE($E$2:$E$241,53)","v":{"$error":"#NUM!"}},{"$error":"#NUM!"},{"$error":"#NUM!"},53]
[null,{"$f":"wyniki!B69","v":0},{"$f":"wyniki!C69","v":0},-5.4000000000000001E-4,false,{"$f":"wyniki!$A$63","v":0},0,null,null,{"$error":"#NUM!"},{"$f":"-LARGE($E$2:$E$241,54)","v":{"$error":"#NUM!"}},{"$error":"#NUM!"},{"$error":"#NUM!"},54]
[null,{"$f":"wyniki!B71","v":0},{"$f":"wyniki!C71","v":0},-5.5000000000000003E-4,false,{"$f":"wyniki!$A$70","v":0},0,null,null,{"$error":"#NUM!"},{"$f":"-LARGE($E$2:$E$241,55)","v":{"$error":"#NUM!"}},{"$error":"#NUM!"},{"$error":"#NUM!"},55]
[null,{"$f":"wyniki!B72","v":0},{"$f":"wyniki!C72","v":0},-5.5999999999999995E-4,false,{"$f":"wyniki!$A$70","v":0},0,null,null,{"$error":"#NUM!"},{"$f":"-LARGE($E$2:$E$241,56)","v":{"$error":"#NUM!"}},{"$error":"#NUM!"},{"$error":"#NUM!"},56]
[null,{"$f":"wyniki!B73","v":0},{"$f":"wyniki!C73","v":0},-5.6999999999999998E-4,false,{"$f":"wyniki!$A$70","v":0},0,null,null,{"$error":"#NUM!"},{"$f":"-LARGE($E$2:$E$241,57)","v":{"$error":"#NUM!"}},{"$error":"#NUM!"},{"$error":"#NUM!"},57]
[null,{"$f":"wyniki!B74","v":0},{"$f":"wyniki!C74","v":0},-5.8E-4,false,{"$f":"wyniki!$A$70","v":0},0,null,null,{"$error":"#NUM!"},{"$f":"-LARGE($E$2:$E$241,58)","v":{"$error":"#NUM!"}},{"$error":"#NUM!"},{"$error":"#NUM!"},58]
[null,{"$f":"wyniki!B75","v":0},{"$f":"wyniki!C75","v":0},-5.9000000000000003E-4,false,{"$f":"wyniki!$A$70","v":0},0,null,null,{"$error":"#NUM!"},{"$f":"-LARGE($E$2:$E$241,59)","v":{"$error":"#NUM!"}},{"$error":"#NUM!"},{"$error":"#NUM!"},59]
[null,{"$f":"wyniki!B76","v":0},{"$f":"wyniki!C76","v":0},-5.9999999999999995E-4,false,{"$f":"wyniki!$A$70","v":0},0,null,null,{"$error":"#NUM!"},{"$f":"-LARGE($E$2:$E$241,60)","v":{"$error":"#NUM!"}},{"$error":"#NUM!"},{"$error":"#NUM!"},60]
[null,{"$f":"wyniki!B78","v":0},{"$f":"wyniki!C78","v":0},-6.0999999999999997E-4,false,{"$f":"wyniki!$A$77","v":0},0,null,null,{"$error":"#NUM!"},{"$f":"-LARGE($E$2:$E$241,61)","v":{"$error":"#NUM!"}},{"$error":"#NUM!"},{"$error":"#NUM!"},61]
[null,{"$f":"wyniki!B79","v":0},{"$f":"wyniki!C79","v":0},-6.2E-4,false,{"$f":"wyniki!$A$77","v":0},0,null,null,{"$error":"#NUM!"},{"$f":"-LARGE($E$2:$E$241,62)","v":{"$error":"#NUM!"}},{"$error":"#NUM!"},{"$error":"#NUM!"},62]
[null,{"$f":"wyniki!B80","v":0},{"$f":"wyniki!C80","v":0},-6.3000000000000003E-4,false,{"$f":"wyniki!$A$77","v":0},0,null,null,{"$error":"#NUM!"},{"$f":"-LARGE($E$2:$E$241,63)","v":{"$error":"#NUM!"}},{"$error":"#NUM!"},{"$error":"#NUM!"},63]
[null,{"$f":"wyniki!B81","v":0},{"$f":"wyniki!C81","v":0},-6.4000000000000005E-4,false,{"$f":"wyniki!$A$77","v":0},0,null,null,{"$error":"#NUM!"},{"$f":"-LARGE($E$2:$E$241,64)","v":{"$error":"#NUM!"}},{"$error":"#NUM!"},{"$error":"#NUM!"},64]
[null,{"$f":"wyniki!B82","v":0},{"$f":"wyniki!C82","v":0},-6.4999999999999997E-4,false,{"$f":"wyniki!$A$77","v":0},0,null,null,{"$error":"#NUM!"},{"$f":"-LARGE($E$2:$E$241,65)","v":{"$error":"#NUM!"}},{"$error":"#NUM!"},{"$error":"#NUM!"},65]
[null,{"$f":"wyniki!B83","v":0},{"$f":"wyniki!C83","v":0},-6.6E-4,{"$f":"IF(C67>1,G67+D67)","v":false},{"$f":"wyniki!$A$77","v":0},{"$f":"-C67","v":0},null,null,{"$f":"INDEX($B$2:$E$241,L67,1)","v":{"$error":"#NUM!"}},{"$f":"-LARGE($E$2:$E$241,66)","v":{"$error":"#NUM!"}},{"$error":"#NUM!"},{"$f":"INDEX($E$2:$F$241,L67,2)","v":{"$error":"#NUM!"}},66]
[null,{"$f":"wyniki!B85","v":0},{"$f":"wyniki!C85","v":0},-6.7000000000000002E-4,false,{"$f":"wyniki!$A$84","v":0},0,null,null,{"$error":"#NUM!"},{"$f":"-LARGE($E$2:$E$241,67)","v":{"$error":"#NUM!"}},{"$f":"MATCH(-K68,$E$2:$E$241,0)","v":{"$error":"#NUM!"}},{"$error":"#NUM!"},67]
[null,{"$f":"wyniki!B86","v":0},{"$f":"wyniki!C86","v":0},-6.8000000000000005E-4,false,{"$f":"wyniki!$A$84","v":0},0,null,null,{"$error":"#NUM!"},{"$f":"-LARGE($E$2:$E$241,68)","v":{"$error":"#NUM!"}},{"$error":"#NUM!"},{"$error":"#NUM!"},68]
[null,{"$f":"wyniki!B87","v":0},{"$f":"wyniki!C87","v":0},-6.8999999999999997E-4,false,{"$f":"wyniki!$A$84","v":0},0,null,null,{"$error":"#NUM!"},{"$f":"-LARGE($E$2:$E$241,69)","v":{"$error":"#NUM!"}},{"$error":"#NUM!"},{"$error":"#NUM!"},69]
[null,{"$f":"wyniki!B88","v":0},{"$f":"wyniki!C88","v":0},-6.9999999999999999E-4,false,{"$f":"wyniki!$A$84","v":0},0,null,null,{"$error":"#NUM!"},{"$f":"-LARGE($E$2:$E$241,70)","v":{"$error":"#NUM!"}},{"$error":"#NUM!"},{"$error":"#NUM!"},70]
[null,{"$f":"wyniki!B89","v":0},{"$f":"wyniki!C89","v":0},-7.1000000000000002E-4,false,{"$f":"wyniki!$A$84","v":0},0,null,null,{"$error":"#NUM!"},{"$f":"-LARGE($E$2:$E$241,71)","v":{"$error":"#NUM!"}},{"$error":"#NUM!"},{"$error":"#NUM!"},71]
[null,{"$f":"wyniki!B90","v":0},{"$f":"wyniki!C90","v":0},-7.2000000000000005E-4,false,{"$f":"wyniki!$A$84","v":0},0,null,null,{"$error":"#NUM!"},{"$f":"-LARGE($E$2:$E$241,72)","v":{"$error":"#NUM!"}},{"$error":"#NUM!"},{"$error":"#NUM!"},72]
[null,{"$f":"wyniki!B92","v":0},{"$f":"wyniki!C92","v":0},-7.2999999999999996E-4,false,{"$f":"wyniki!$A$91","v":0},0,null,null,{"$error":"#NUM!"},{"$f":"-LARGE($E$2:$E$241,73)","v":{"$error":"#NUM!"}},{"$error":"#NUM!"},{"$error":"#NUM!"},73]
[null,{"$f":"wyniki!B93","v":0},{"$f":"wyniki!C93","v":0},-7.3999999999999999E-4,false,{"$f":"wyniki!$A$91","v":0},0,null,null,{"$error":"#NUM!"},{"$f":"-LARGE($E$2:$E$241,74)","v":{"$error":"#NUM!"}},{"$error":"#NUM!"},{"$error":"#NUM!"},74]
[null,{"$f":"wyniki!B94","v":0},{"$f":"wyniki!C94","v":0},-7.5000000000000002E-4,false,{"$f":"wyniki!$A$91","v":0},0,null,null,{"$error":"#NUM!"},{"$f":"-LARGE($E$2:$E$241,75)","v":{"$error":"#NUM!"}},{"$error":"#NUM!"},{"$error":"#NUM!"},75]
[null,{"$f":"wyniki!B95","v":0},{"$f":"wyniki!C95","v":0},-7.6000000000000004E-4,false,{"$f":"wyniki!$A$91","v":0},0,null,null,{"$error":"#NUM!"},{"$f":"-LARGE($E$2:$E$241,76)","v":{"$error":"#NUM!"}},{"$error":"#NUM!"},{"$error":"#NUM!"},76]
[null,{"$f":"wyniki!B96","v":0},{"$f":"wyniki!C96","v":0},-7.6999999999999996E-4,false,{"$f":"wyniki!$A$91","v":0},0,null,null,{"$error":"#NUM!"},{"$f":"-LARGE($E$2:$E$241,77)","v":{"$error":"#NUM!"}},{"$error":"#NUM!"},{"$error":"#NUM!"},77]
[null,{"$f":"wyniki!B97","v":0},{"$f":"wyniki!C97","v":0},-7.7999999999999999E-4,false,{"$f":"wyniki!$A$91","v":0},0,null,null,{"$error":"#NUM!"},{"$f":"-LARGE($E$2:$E$241,78)","v":{"$error":"#NUM!"}},{"$error":"#NUM!"},{"$error":"#NUM!"},78]
[null,{"$f":"wyniki!B99","v":0},{"$f":"wyniki!C99","v":0},-7.9000000000000001E-4,false,{"$f":"wyniki!$A$98","v":0},0,null,null,{"$error":"#NUM!"},{"$f":"-LARGE($E$2:$E$241,79)","v":{"$error":"#NUM!"}},{"$error":"#NUM!"},{"$error":"#NUM!"},79]
[null,{"$f":"wyniki!B100","v":0},{"$f":"wyniki!C100","v":0},-8.0000000000000004E-4,false,{"$f":"wyniki!$A$98","v":0},0,null,null,{"$error":"#NUM!"},{"$f":"-LARGE($E$2:$E$241,80)","v":{"$error":"#NUM!"}},{"$error":"#NUM!"},{"$error":"#NUM!"},80]
[null,{"$f":"wyniki!B101","v":0},{"$f":"wyniki!C101","v":0},-8.0999999999999996E-4,false,{"$f":"wyniki!$A$98","v":0},0,null,null,{"$error":"#NUM!"},{"$f":"-LARGE($E$2:$E$241,81)","v":{"$error":"#NUM!"}},{"$error":"#NUM!"},{"$error":"#NUM!"},81]
[null,{"$f":"wyniki!B102","v":0},{"$f":"wyniki!C102","v":0},-8.1999999999999998E-4,false,{"$f":"wyniki!$A$98","v":0},0,null,null,{"$error":"#NUM!"},{"$f":"-LARGE($E$2:$E$241,82)","v":{"$error":"#NUM!"}},{"$error":"#NUM!"},{"$error":"#NUM!"},82]
[null,{"$f":"wyniki!B103","v":0},{"$f":"wyniki!C103","v":0},-8.3000000000000001E-4,false,{"$f":"wyniki!$A$98","v":0},0,null,null,{"$error":"#NUM!"},{"$f":"-LARGE($E$2:$E$241,83)","v":{"$error":"#NUM!"}},{"$error":"#NUM!"},{"$error":"#NUM!"},83]
[null,{"$f":"wyniki!B104","v":0},{"$f":"wyniki!C104","v":0},-8.4000000000000003E-4,false,{"$f":"wyniki!$A$98","v":0},0,null,null,{"$error":"#NUM!"},{"$f":"-LARGE($E$2:$E$241,84)","v":{"$error":"#NUM!"}},{"$error":"#NUM!"},{"$error":"#NUM!"},84]
[null,{"$f":"wyniki!B106","v":0},{"$f":"wyniki!C106","v":0},-8.4999999999999995E-4,false,{"$f":"wyniki!$A$105","v":0},0,null,null,{"$error":"#NUM!"},{"$f":"-LARGE($E$2:$E$241,85)","v":{"$error":"#NUM!"}},{"$error":"#NUM!"},{"$error":"#NUM!"},85]
[null,{"$f":"wyniki!B107","v":0},{"$f":"wyniki!C107","v":0},-8.5999999999999998E-4,false,{"$f":"wyniki!$A$105","v":0},0,null,null,{"$error":"#NUM!"},{"$f":"-LARGE($E$2:$E$241,86)","v":{"$error":"#NUM!"}},{"$error":"#NUM!"},{"$error":"#NUM!"},86]
[null,{"$f":"wyniki!B108","v":0},{"$f":"wyniki!C108","v":0},-8.7000000000000001E-4,false,{"$f":"wyniki!$A$105","v":0},0,null,null,{"$error":"#NUM!"},{"$f":"-LARGE($E$2:$E$241,87)","v":{"$error":"#NUM!"}},{"$error":"#NUM!"},{"$error":"#NUM!"},87]
[null,{"$f":"wyniki!B109","v":0},{"$f":"wyniki!C109","v":0},-8.8000000000000003E-4,false,{"$f":"wyniki!$A$105","v":0},0,null,null,{"$error":"#NUM!"},{"$f":"-LARGE($E$2:$E$241,88)","v":{"$error":"#NUM!"}},{"$error":"#NUM!"},{"$error":"#NUM!"},88]
[null,{"$f":"wyniki!B110","v":0},{"$f":"wyniki!C110","v":0},-8.8999999999999995E-4,false,{"$f":"wyniki!$A$105","v":0},0,null,null,{"$error":"#NUM!"},{"$f":"-LARGE($E$2:$E$241,89)","v":{"$error":"#NUM!"}},{"$error":"#NUM!"},{"$error":"#NUM!"},89]
[null,{"$f":"wyniki!B111","v":0},{"$f":"wyniki!C111","v":0},-8.9999999999999998E-4,false,{"$f":"wyniki!$A$105","v":0},0,null,null,{"$error":"#NUM!"},{"$f":"-LARGE($E$2:$E$241,90)","v":{"$error":"#NUM!"}},{"$error":"#NUM!"},{"$error":"#NUM!"},90]
[null,{"$f":"wyniki!B113","v":0},{"$f":"wyniki!C113","v":0},-9.1E-4,false,{"$f":"wyniki!$A$112","v":0},0,null,null,{"$error":"#NUM!"},{"$f":"-LARGE($E$2:$E$241,91)","v":{"$error":"#NUM!"}},{"$error":"#NUM!"},{"$error":"#NUM!"},91]
[null,{"$f":"wyniki!B114","v":0},{"$f":"wyniki!C114","v":0},-9.2000000000000003E-4,false,{"$f":"wyniki!$A$112","v":0},0,null,null,{"$error":"#NUM!"},{"$f":"-LARGE($E$2:$E$241,92)","v":{"$error":"#NUM!"}},{"$error":"#NUM!"},{"$error":"#NUM!"},92]
[null,{"$f":"wyniki!B115","v":0},{"$f":"wyniki!C115","v":0},-9.3000000000000005E-4,false,{"$f":"wyniki!$A$112","v":0},0,null,null,{"$error":"#NUM!"},{"$f":"-LARGE($E$2:$E$241,93)","v":{"$error":"#NUM!"}},{"$error":"#NUM!"},{"$error":"#NUM!"},93]
[null,{"$f":"wyniki!B116","v":0},{"$f":"wyniki!C116","v":0},-9.3999999999999997E-4,false,{"$f":"wyniki!$A$112","v":0},0,null,null,{"$error":"#NUM!"},{"$f":"-LARGE($E$2:$E$241,94)","v":{"$error":"#NUM!"}},{"$error":"#NUM!"},{"$error":"#NUM!"},94]
[null,{"$f":"wyniki!B117","v":0},{"$f":"wyniki!C117","v":0},-9.5E-4,false,{"$f":"wyniki!$A$112","v":0},0,null,null,{"$error":"#NUM!"},{"$f":"-LARGE($E$2:$E$241,95)","v":{"$error":"#NUM!"}},{"$error":"#NUM!"},{"$error":"#NUM!"},95]
[null,{"$f":"wyniki!B118","v":0},{"$f":"wyniki!C118","v":0},-9.6000000000000002E-4,false,{"$f":"wyniki!$A$112","v":0},0,null,null,{"$error":"#NUM!"},{"$f":"-LARGE($E$2:$E$241,96)","v":{"$error":"#NUM!"}},{"$error":"#NUM!"},{"$error":"#NUM!"},96]
[null,{"$f":"wyniki!B120","v":0},{"$f":"wyniki!C120","v":0},-9.7000000000000005E-4,false,{"$f":"wyniki!$A$119","v":0},0,null,null,{"$error":"#NUM!"},{"$f":"-LARGE($E$2:$E$241,97)","v":{"$error":"#NUM!"}},{"$error":"#NUM!"},{"$error":"#NUM!"},97]
[null,{"$f":"wyniki!B121","v":0},{"$f":"wyniki!C121","v":0},-9.7999999999999997E-4,false,{"$f":"wyniki!$A$119","v":0},0,null,null,{"$error":"#NUM!"},{"$f":"-LARGE($E$2:$E$241,98)","v":{"$error":"#NUM!"}},{"$error":"#NUM!"},{"$error":"#NUM!"},98]
[null,{"$f":"wyniki!B122","v":0},{"$f":"wyniki!C122","v":0},-9.8999999999999999E-4,false,{"$f":"wyniki!$A$119","v":0},0,null,null,{"$error":"#NUM!"},{"$f":"-LARGE($E$2:$E$241,99)","v":{"$error":"#NUM!"}},{"$error":"#NUM!"},{"$error":"#NUM!"},99]
[null,{"$f":"wyniki!B123","v":0},{"$f":"wyniki!C123","v":0},-1E-3,false,{"$f":"wyniki!$A$119","v":0},0,null,null,{"$error":"#NUM!"},{"$f":"-LARGE($E$2:$E$241,100)","v":{"$error":"#NUM!"}},{"$error":"#NUM!"},{"$error":"#NUM!"},100]
[null,{"$f":"wyniki!B124","v":0},{"$f":"wyniki!C124","v":0},-1.01E-3,false,{"$f":"wyniki!$A$119","v":0},0,null,null,{"$error":"#NUM!"},{"$f":"-LARGE($E$2:$E$241,101)","v":{"$error":"#NUM!"}},{"$error":"#NUM!"},{"$error":"#NUM!"},101]
[null,{"$f":"wyniki!B125","v":0},{"$f":"wyniki!C125","v":0},-1.0200000000000001E-3,false,{"$f":"wyniki!$A$119","v":0},0,null,null,{"$error":"#NUM!"},{"$f":"-LARGE($E$2:$E$241,102)","v":{"$error":"#NUM!"}},{"$error":"#NUM!"},{"$error":"#NUM!"},102]
[null,{"$f":"wyniki!B127","v":0},{"$f":"wyniki!C127","v":0},-1.0300000000000001E-3,false,{"$f":"wyniki!$A$126","v":0},0,null,null,{"$error":"#NUM!"},{"$f":"-LARGE($E$2:$E$241,103)","v":{"$error":"#NUM!"}},{"$error":"#NUM!"},{"$error":"#NUM!"},103]
[null,{"$f":"wyniki!B128","v":0},{"$f":"wyniki!C128","v":0},-1.0399999999999999E-3,false,{"$f":"wyniki!$A$126","v":0},0,null,null,{"$error":"#NUM!"},{"$f":"-LARGE($E$2:$E$241,104)","v":{"$error":"#NUM!"}},{"$error":"#NUM!"},{"$error":"#NUM!"},104]
[null,{"$f":"wyniki!B129","v":0},{"$f":"wyniki!C129","v":0},-1.0499999999999999E-3,false,{"$f":"wyniki!$A$126","v":0},0,null,null,{"$error":"#NUM!"},{"$f":"-LARGE($E$2:$E$241,105)","v":{"$error":"#NUM!"}},{"$error":"#NUM!"},{"$error":"#NUM!"},105]
[null,{"$f":"wyniki!B130","v":0},{"$f":"wyniki!C130","v":0},-1.06E-3,false,{"$f":"wyniki!$A$126","v":0},0,null,null,{"$error":"#NUM!"},{"$f":"-LARGE($E$2:$E$241,106)","v":{"$error":"#NUM!"}},{"$error":"#NUM!"},{"$error":"#NUM!"},106]
[null,{"$f":"wyniki!B131","v":0},{"$f":"wyniki!C131","v":0},-1.07E-3,false,{"$f":"wyniki!$A$126","v":0},0,null,null,{"$error":"#NUM!"},{"$f":"-LARGE($E$2:$E$241,107)","v":{"$error":"#NUM!"}},{"$error":"#NUM!"},{"$error":"#NUM!"},107]
[null,{"$f":"wyniki!B132","v":0},{"$f":"wyniki!C132","v":0},-1.08E-3,false,{"$f":"wyniki!$A$126","v":0},0,null,null,{"$error":"#NUM!"},{"$f":"-LARGE($E$2:$E$241,108)","v":{"$error":"#NUM!"}},{"$error":"#NUM!"},{"$error":"#NUM!"},108]
[null,{"$f":"wyniki!B134","v":0},{"$f":"wyniki!C134","v":0},-1.09E-3,false,{"$f":"wyniki!$A$133","v":0},0,null,null,{"$error":"#NUM!"},{"$f":"-LARGE($E$2:$E$241,109)","v":{"$error":"#NUM!"}},{"$error":"#NUM!"},{"$error":"#NUM!"},109]
[null,{"$f":"wyniki!B135","v":0},{"$f":"wyniki!C135","v":0},-1.1000000000000001E-3,false,{"$f":"wyniki!$A$133","v":0},0,null,null,{"$error":"#NUM!"},{"$f":"-LARGE($E$2:$E$241,110)","v":{"$error":"#NUM!"}},{"$error":"#NUM!"},{"$error":"#NUM!"},110]
[null,{"$f":"wyniki!B136","v":0},{"$f":"wyniki!C136","v":0},-1.1100000000000001E-3,false,{"$f":"wyniki!$A$133","v":0},0,null,null,{"$error":"#NUM!"},{"$f":"-LARGE($E$2:$E$241,111)","v":{"$error":"#NUM!"}},{"$error":"#NUM!"},{"$error":"#NUM!"},111]
[null,{"$f":"wyniki!B137","v":0},{"$f":"wyniki!C137","v":0},-1.1199999999999999E-3,false,{"$f":"wyniki!$A$133","v":0},0,null,null,{"$error":"#NUM!"},{"$f":"-LARGE($E$2:$E$241,112)","v":{"$error":"#NUM!"}},{"$error":"#NUM!"},{"$error":"#NUM!"},112]
[null,{"$f":"wyniki!B138","v":0},{"$f":"wyniki!C138","v":0},-1.1299999999999999E-3,false,{"$f":"wyniki!$A$133","v":0},0,null,null,{"$error":"#NUM!"},{"$f":"-LARGE($E$2:$E$241,113)","v":{"$error":"#NUM!"}},{"$error":"#NUM!"},{"$error":"#NUM!"},113]
[null,{"$f":"wyniki!B139","v":0},{"$f":"wyniki!C139","v":0},-1.14E-3,false,{"$f":"wyniki!$A$133","v":0},0,null,null,{"$error":"#NUM!"},{"$f":"-LARGE($E$2:$E$241,114)","v":{"$error":"#NUM!"}},{"$error":"#NUM!"},{"$error":"#NUM!"},114]
[null,{"$f":"wyniki!B141","v":0},{"$f":"wyniki!C141","v":0},-1.15E-3,false,{"$f":"wyniki!$A$140","v":0},0,null,null,{"$error":"#NUM!"},{"$f":"-LARGE($E$2:$E$241,115)","v":{"$error":"#NUM!"}},{"$error":"#NUM!"},{"$error":"#NUM!"},115]
[null,{"$f":"wyniki!B142","v":0},{"$f":"wyniki!C142","v":0},-1.16E-3,false,{"$f":"wyniki!$A$140","v":0},0,null,null,{"$error":"#NUM!"},{"$f":"-LARGE($E$2:$E$241,116)","v":{"$error":"#NUM!"}},{"$error":"#NUM!"},{"$error":"#NUM!"},116]
[null,{"$f":"wyniki!B143","v":0},{"$f":"wyniki!C143","v":0},-1.17E-3,false,{"$f":"wyniki!$A$140","v":0},0,null,null,{"$error":"#NUM!"},{"$f":"-LARGE($E$2:$E$241,117)","v":{"$error":"#NUM!"}},{"$error":"#NUM!"},{"$error":"#NUM!"},117]
[null,{"$f":"wyniki!B144","v":0},{"$f":"wyniki!C144","v":0},-1.1800000000000001E-3,false,{"$f":"wyniki!$A$140","v":0},0,null,null,{"$error":"#NUM!"},{"$f":"-LARGE($E$2:$E$241,118)","v":{"$error":"#NUM!"}},{"$error":"#NUM!"},{"$error":"#NUM!"},118]
[null,{"$f":"wyniki!B145","v":0},{"$f":"wyniki!C145","v":0},-1.1900000000000001E-3,false,{"$f":"wyniki!$A$140","v":0},0,null,null,{"$error":"#NUM!"},{"$f":"-LARGE($E$2:$E$241,119)","v":{"$error":"#NUM!"}},{"$error":"#NUM!"},{"$error":"#NUM!"},119]
[null,{"$f":"wyniki!B146","v":0},{"$f":"wyniki!C146","v":0},-1.1999999999999999E-3,false,{"$f":"wyniki!$A$140","v":0},0,null,null,{"$error":"#NUM!"},{"$f":"-LARGE($E$2:$E$241,120)","v":{"$error":"#NUM!"}},{"$error":"#NUM!"},{"$error":"#NUM!"},120]
[null,{"$f":"wyniki!B148","v":0},{"$f":"wyniki!C148","v":0},-1.2099999999999999E-3,false,{"$f":"wyniki!$A$147","v":0},0,null,null,{"$error":"#NUM!"},{"$f":"-LARGE($E$2:$E$241,121)","v":{"$error":"#NUM!"}},{"$error":"#NUM!"},{"$error":"#NUM!"},121]
[null,{"$f":"wyniki!B149","v":0},{"$f":"wyniki!C149","v":0},-1.2199999999999999E-3,false,{"$f":"wyniki!$A$147","v":0},0,null,null,{"$error":"#NUM!"},{"$f":"-LARGE($E$2:$E$241,122)","v":{"$error":"#NUM!"}},{"$error":"#NUM!"},{"$error":"#NUM!"},122]
[null,{"$f":"wyniki!B150","v":0},{"$f":"wyniki!C150","v":0},-1.23E-3,false,{"$f":"wyniki!$A$147","v":0},0,null,null,{"$error":"#NUM!"},{"$f":"-LARGE($E$2:$E$241,123)","v":{"$error":"#NUM!"}},{"$error":"#NUM!"},{"$error":"#NUM!"},123]
[null,{"$f":"wyniki!B151","v":0},{"$f":"wyniki!C151","v":0},-1.24E-3,false,{"$f":"wyniki!$A$147","v":0},0,null,null,{"$error":"#NUM!"},{"$f":"-LARGE($E$2:$E$241,124)","v":{"$error":"#NUM!"}},{"$error":"#NUM!"},{"$error":"#NUM!"},124]
[null,{"$f":"wyniki!B152","v":0},{"$f":"wyniki!C152","v":0},-1.25E-3,false,{"$f":"wyniki!$A$147","v":0},0,null,null,{"$error":"#NUM!"},{"$f":"-LARGE($E$2:$E$241,125)","v":{"$error":"#NUM!"}},{"$error":"#NUM!"},{"$error":"#NUM!"},125]
[null,{"$f":"wyniki!B153","v":0},{"$f":"wyniki!C153","v":0},-1.2600000000000001E-3,false,{"$f":"wyniki!$A$147","v":0},0,null,null,{"$error":"#NUM!"},{"$f":"-LARGE($E$2:$E$241,126)","v":{"$error":"#NUM!"}},{"$error":"#NUM!"},{"$error":"#NUM!"},126]
[null,{"$f":"wyniki!B155","v":0},{"$f":"wyniki!C155","v":0},-1.2700000000000001E-3,false,{"$f":"wyniki!$A$154","v":0},0,null,null,{"$error":"#NUM!"},{"$f":"-LARGE($E$2:$E$241,127)","v":{"$error":"#NUM!"}},{"$error":"#NUM!"},{"$error":"#NUM!"},127]
[null,{"$f":"wyniki!B156","v":0},{"$f":"wyniki!C156","v":0},-1.2800000000000001E-3,false,{"$f":"wyniki!$A$154","v":0},0,null,null,{"$error":"#NUM!"},{"$f":"-LARGE($E$2:$E$241,128)","v":{"$error":"#NUM!"}},{"$error":"#NUM!"},{"$error":"#NUM!"},128]
[null,{"$f":"wyniki!B157","v":0},{"$f":"wyniki!C157","v":0},-1.2899999999999999E-3,false,{"$f":"wyniki!$A$154","v":0},0,null,null,{"$error":"#NUM!"},{"$f":"-LARGE($E$2:$E$241,129)","v":{"$error":"#NUM!"}},{"$error":"#NUM!"},{"$error":"#NUM!"},129]
[null,{"$f":"wyniki!B158","v":0},{"$f":"wyniki!C158","v":0},-1.2999999999999999E-3,{"$f":"IF(C131>1,G131+D131)","v":false},{"$f":"wyniki!$A$154","v":0},{"$f":"-C131","v":0},null,null,{"$f":"INDEX($B$2:$E$241,L131,1)","v":{"$error":"#NUM!"}},{"$f":"-LARGE($E$2:$E$241,130)","v":{"$error":"#NUM!"}},{"$error":"#NUM!"},{"$f":"INDEX($E$2:$F$241,L131,2)","v":{"$error":"#NUM!"}},130]
[null,{"$f":"wyniki!B159","v":0},{"$f":"wyniki!C159","v":0},-1.31E-3,false,{"$f":"wyniki!$A$154","v":0},0,null,null,{"$error":"#NUM!"},{"$f":"-LARGE($E$2:$E$241,131)","v":{"$error":"#NUM!"}},{"$f":"MATCH(-K132,$E$2:$E$241,0)","v":{"$error":"#NUM!"}},{"$error":"#NUM!"},131]
[null,{"$f":"wyniki!B160","v":0},{"$f":"wyniki!C160","v":0},-1.32E-3,false,{"$f":"wyniki!$A$154","v":0},0,null,null,{"$error":"#NUM!"},{"$f":"-LARGE($E$2:$E$241,132)","v":{"$error":"#NUM!"}},{"$error":"#NUM!"},{"$error":"#NUM!"},132]
[null,{"$f":"wyniki!B162","v":0},{"$f":"wyniki!C162","v":0},-1.33E-3,false,{"$f":"wyniki!$A$161","v":0},0,null,null,{"$error":"#NUM!"},{"$f":"-LARGE($E$2:$E$241,133)","v":{"$error":"#NUM!"}},{"$error":"#NUM!"},{"$error":"#NUM!"},133]
[null,{"$f":"wyniki!B163","v":0},{"$f":"wyniki!C163","v":0},-1.34E-3,false,{"$f":"wyniki!$A$161","v":0},0,null,null,{"$error":"#NUM!"},{"$f":"-LARGE($E$2:$E$241,134)","v":{"$error":"#NUM!"}},{"$error":"#NUM!"},{"$error":"#NUM!"},134]
[null,{"$f":"wyniki!B164","v":0},{"$f":"wyniki!C164","v":0},-1.3500000000000001E-3,false,{"$f":"wyniki!$A$161","v":0},0,null,null,{"$error":"#NUM!"},{"$f":"-LARGE($E$2:$E$241,135)","v":{"$error":"#NUM!"}},{"$error":"#NUM!"},{"$error":"#NUM!"},135]
[null,{"$f":"wyniki!B165","v":0},{"$f":"wyniki!C165","v":0},-1.3600000000000001E-3,false,{"$f":"wyniki!$A$161","v":0},0,null,null,{"$error":"#NUM!"},{"$f":"-LARGE($E$2:$E$241,136)","v":{"$error":"#NUM!"}},{"$error":"#NUM!"},{"$error":"#NUM!"},136]
[null,{"$f":"wyniki!B166","v":0},{"$f":"wyniki!C166","v":0},-1.3699999999999999E-3,false,{"$f":"wyniki!$A$161","v":0},0,null,null,{"$error":"#NUM!"},{"$f":"-LARGE($E$2:$E$241,137)","v":{"$error":"#NUM!"}},{"$error":"#NUM!"},{"$error":"#NUM!"},137]
[null,{"$f":"wyniki!B167","v":0},{"$f":"wyniki!C167","v":0},-1.3799999999999999E-3,false,{"$f":"wyniki!$A$161","v":0},0,null,null,{"$error":"#NUM!"},{"$f":"-LARGE($E$2:$E$241,138)","v":{"$error":"#NUM!"}},{"$error":"#NUM!"},{"$error":"#NUM!"},138]
[null,{"$f":"wyniki!B169","v":0},{"$f":"wyniki!C169","v":0},-1.39E-3,false,{"$f":"wyniki!$A$168","v":0},0,null,null,{"$error":"#NUM!"},{"$f":"-LARGE($E$2:$E$241,139)","v":{"$error":"#NUM!"}},{"$error":"#NUM!"},{"$error":"#NUM!"},139]
[null,{"$f":"wyniki!B170","v":0},{"$f":"wyniki!C170","v":0},-1.4E-3,false,{"$f":"wyniki!$A$168","v":0},0,null,null,{"$error":"#NUM!"},{"$f":"-LARGE($E$2:$E$241,140)","v":{"$error":"#NUM!"}},{"$error":"#NUM!"},{"$error":"#NUM!"},140]
[null,{"$f":"wyniki!B171","v":0},{"$f":"wyniki!C171","v":0},-1.41E-3,false,{"$f":"wyniki!$A$168","v":0},0,null,null,{"$error":"#NUM!"},{"$f":"-LARGE($E$2:$E$241,141)","v":{"$error":"#NUM!"}},{"$error":"#NUM!"},{"$error":"#NUM!"},141]
[null,{"$f":"wyniki!B172","v":0},{"$f":"wyniki!C172","v":0},-1.42E-3,false,{"$f":"wyniki!$A$168","v":0},0,null,null,{"$error":"#NUM!"},{"$f":"-LARGE($E$2:$E$241,142)","v":{"$error":"#NUM!"}},{"$error":"#NUM!"},{"$error":"#NUM!"},142]
[null,{"$f":"wyniki!B173","v":0},{"$f":"wyniki!C173","v":0},-1.4300000000000001E-3,false,{"$f":"wyniki!$A$168","v":0},0,null,null,{"$error":"#NUM!"},{"$f":"-LARGE($E$2:$E$241,143)","v":{"$error":"#NUM!"}},{"$error":"#NUM!"},{"$error":"#NUM!"},143]
[null,{"$f":"wyniki!B174","v":0},{"$f":"wyniki!C174","v":0},-1.4400000000000001E-3,false,{"$f":"wyniki!$A$168","v":0},0,null,null,{"$error":"#NUM!"},{"$f":"-LARGE($E$2:$E$241,144)","v":{"$error":"#NUM!"}},{"$error":"#NUM!"},{"$error":"#NUM!"},144]
[null,{"$f":"wyniki!B176","v":0},{"$f":"wyniki!C176","v":0},-1.4499999999999999E-3,false,{"$f":"wyniki!$A$175","v":0},0,null,null,{"$error":"#NUM!"},{"$f":"-LARGE($E$2:$E$241,145)","v":{"$error":"#NUM!"}},{"$error":"#NUM!"},{"$error":"#NUM!"},145]
[null,{"$f":"wyniki!B177","v":0},{"$f":"wyniki!C177","v":0},-1.4599999999999999E-3,false,{"$f":"wyniki!$A$175","v":0},0,null,null,{"$error":"#NUM!"},{"$f":"-LARGE($E$2:$E$241,146)","v":{"$error":"#NUM!"}},{"$error":"#NUM!"},{"$error":"#NUM!"},146]
[null,{"$f":"wyniki!B178","v":0},{"$f":"wyniki!C178","v":0},-1.47E-3,false,{"$f":"wyniki!$A$175","v":0},0,null,null,{"$error":"#NUM!"},{"$f":"-LARGE($E$2:$E$241,147)","v":{"$error":"#NUM!"}},{"$error":"#NUM!"},{"$error":"#NUM!"},147]
[null,{"$f":"wyniki!B179","v":0},{"$f":"wyniki!C179","v":0},-1.48E-3,false,{"$f":"wyniki!$A$175","v":0},0,null,null,{"$error":"#NUM!"},{"$f":"-LARGE($E$2:$E$241,148)","v":{"$error":"#NUM!"}},{"$error":"#NUM!"},{"$error":"#NUM!"},148]
[null,{"$f":"wyniki!B180","v":0},{"$f":"wyniki!C180","v":0},-1.49E-3,false,{"$f":"wyniki!$A$175","v":0},0,null,null,{"$error":"#NUM!"},{"$f":"-LARGE($E$2:$E$241,149)","v":{"$error":"#NUM!"}},{"$error":"#NUM!"},{"$error":"#NUM!"},149]
[null,{"$f":"wyniki!B181","v":0},{"$f":"wyniki!C181","v":0},-1.5E-3,false,{"$f":"wyniki!$A$175","v":0},0,null,null,{"$error":"#NUM!"},{"$f":"-LARGE($E$2:$E$241,150)","v":{"$error":"#NUM!"}},{"$error":"#NUM!"},{"$error":"#NUM!"},150]
[null,{"$f":"wyniki!B183","v":0},{"$f":"wyniki!C183","v":0},-1.5100000000000001E-3,false,{"$f":"wyniki!$A$182","v":0},0,null,null,{"$error":"#NUM!"},{"$f":"-LARGE($E$2:$E$241,151)","v":{"$error":"#NUM!"}},{"$error":"#NUM!"},{"$error":"#NUM!"},151]
[null,{"$f":"wyniki!B184","v":0},{"$f":"wyniki!C184","v":0},-1.5200000000000001E-3,false,{"$f":"wyniki!$A$182","v":0},0,null,null,{"$error":"#NUM!"},{"$f":"-LARGE($E$2:$E$241,152)","v":{"$error":"#NUM!"}},{"$error":"#NUM!"},{"$error":"#NUM!"},152]
[null,{"$f":"wyniki!B185","v":0},{"$f":"wyniki!C185","v":0},-1.5299999999999999E-3,false,{"$f":"wyniki!$A$182","v":0},0,null,null,{"$error":"#NUM!"},{"$f":"-LARGE($E$2:$E$241,153)","v":{"$error":"#NUM!"}},{"$error":"#NUM!"},{"$error":"#NUM!"},153]
[null,{"$f":"wyniki!B186","v":0},{"$f":"wyniki!C186","v":0},-1.5399999999999999E-3,false,{"$f":"wyniki!$A$182","v":0},0,null,null,{"$error":"#NUM!"},{"$f":"-LARGE($E$2:$E$241,154)","v":{"$error":"#NUM!"}},{"$error":"#NUM!"},{"$error":"#NUM!"},154]
[null,{"$f":"wyniki!B187","v":0},{"$f":"wyniki!C187","v":0},-1.5499999999999999E-3,false,{"$f":"wyniki!$A$182","v":0},0,null,null,{"$error":"#NUM!"},{"$f":"-LARGE($E$2:$E$241,155)","v":{"$error":"#NUM!"}},{"$error":"#NUM!"},{"$error":"#NUM!"},155]
[null,{"$f":"wyniki!B188","v":0},{"$f":"wyniki!C188","v":0},-1.56E-3,false,{"$f":"wyniki!$A$182","v":0},0,null,null,{"$error":"#NUM!"},{"$f":"-LARGE($E$2:$E$241,156)","v":{"$error":"#NUM!"}},{"$error":"#NUM!"},{"$error":"#NUM!"},156]
[null,{"$f":"wyniki!B190","v":0},{"$f":"wyniki!C190","v":0},-1.57E-3,false,{"$f":"wyniki!$A$189","v":0},0,null,null,{"$error":"#NUM!"},{"$f":"-LARGE($E$2:$E$241,157)","v":{"$error":"#NUM!"}},{"$error":"#NUM!"},{"$error":"#NUM!"},157]
[null,{"$f":"wyniki!B191","v":0},{"$f":"wyniki!C191","v":0},-1.58E-3,false,{"$f":"wyniki!$A$189","v":0},0,null,null,{"$error":"#NUM!"},{"$f":"-LARGE($E$2:$E$241,158)","v":{"$error":"#NUM!"}},{"$error":"#NUM!"},{"$error":"#NUM!"},158]
[null,{"$f":"wyniki!B192","v":0},{"$f":"wyniki!C192","v":0},-1.5900000000000001E-3,false,{"$f":"wyniki!$A$189","v":0},0,null,null,{"$error":"#NUM!"},{"$f":"-LARGE($E$2:$E$241,159)","v":{"$error":"#NUM!"}},{"$error":"#NUM!"},{"$error":"#NUM!"},159]
[null,{"$f":"wyniki!B193","v":0},{"$f":"wyniki!C193","v":0},-1.6000000000000001E-3,false,{"$f":"wyniki!$A$189","v":0},0,null,null,{"$error":"#NUM!"},{"$f":"-LARGE($E$2:$E$241,160)","v":{"$error":"#NUM!"}},{"$error":"#NUM!"},{"$error":"#NUM!"},160]
[null,{"$f":"wyniki!B194","v":0},{"$f":"wyniki!C194","v":0},-1.6100000000000001E-3,false,{"$f":"wyniki!$A$189","v":0},0,null,null,{"$error":"#NUM!"},{"$f":"-LARGE($E$2:$E$241,161)","v":{"$error":"#NUM!"}},{"$error":"#NUM!"},{"$error":"#NUM!"},161]
[null,{"$f":"wyniki!B195","v":0},{"$f":"wyniki!C195","v":0},-1.6199999999999999E-3,false,{"$f":"wyniki!$A$189","v":0},0,null,null,{"$error":"#NUM!"},{"$f":"-LARGE($E$2:$E$241,162)","v":{"$error":"#NUM!"}},{"$error":"#NUM!"},{"$error":"#NUM!"},162]
[null,{"$f":"wyniki!B197","v":0},{"$f":"wyniki!C197","v":0},-1.6299999999999999E-3,false,{"$f":"wyniki!$A$196","v":0},0,null,null,{"$error":"#NUM!"},{"$f":"-LARGE($E$2:$E$241,163)","v":{"$error":"#NUM!"}},{"$error":"#NUM!"},{"$error":"#NUM!"},163]
[null,{"$f":"wyniki!B198","v":0},{"$f":"wyniki!C198","v":0},-1.64E-3,false,{"$f":"wyniki!$A$196","v":0},0,null,null,{"$error":"#NUM!"},{"$f":"-LARGE($E$2:$E$241,164)","v":{"$error":"#NUM!"}},{"$error":"#NUM!"},{"$error":"#NUM!"},164]
[null,{"$f":"wyniki!B199","v":0},{"$f":"wyniki!C199","v":0},-1.65E-3,false,{"$f":"wyniki!$A$196","v":0},0,null,null,{"$error":"#NUM!"},{"$f":"-LARGE($E$2:$E$241,165)","v":{"$error":"#NUM!"}},{"$error":"#NUM!"},{"$error":"#NUM!"},165]
[null,{"$f":"wyniki!B200","v":0},{"$f":"wyniki!C200","v":0},-1.66E-3,false,{"$f":"wyniki!$A$196","v":0},0,null,null,{"$error":"#NUM!"},{"$f":"-LARGE($E$2:$E$241,166)","v":{"$error":"#NUM!"}},{"$error":"#NUM!"},{"$error":"#NUM!"},166]
[null,{"$f":"wyniki!B201","v":0},{"$f":"wyniki!C201","v":0},-1.67E-3,false,{"$f":"wyniki!$A$196","v":0},0,null,null,{"$error":"#NUM!"},{"$f":"-LARGE($E$2:$E$241,167)","v":{"$error":"#NUM!"}},{"$error":"#NUM!"},{"$error":"#NUM!"},167]
[null,{"$f":"wyniki!B202","v":0},{"$f":"wyniki!C202","v":0},-1.6800000000000001E-3,false,{"$f":"wyniki!$A$196","v":0},0,null,null,{"$error":"#NUM!"},{"$f":"-LARGE($E$2:$E$241,168)","v":{"$error":"#NUM!"}},{"$error":"#NUM!"},{"$error":"#NUM!"},168]
[null,{"$f":"wyniki!B204","v":0},{"$f":"wyniki!C204","v":0},-1.6900000000000001E-3,false,{"$f":"wyniki!$A$203","v":0},0,null,null,{"$error":"#NUM!"},{"$f":"-LARGE($E$2:$E$241,169)","v":{"$error":"#NUM!"}},{"$error":"#NUM!"},{"$error":"#NUM!"},169]
[null,{"$f":"wyniki!B205","v":0},{"$f":"wyniki!C205","v":0},-1.6999999999999999E-3,false,{"$f":"wyniki!$A$203","v":0},0,null,null,{"$error":"#NUM!"},{"$f":"-LARGE($E$2:$E$241,170)","v":{"$error":"#NUM!"}},{"$error":"#NUM!"},{"$error":"#NUM!"},170]
[null,{"$f":"wyniki!B206","v":0},{"$f":"wyniki!C206","v":0},-1.7099999999999999E-3,false,{"$f":"wyniki!$A$203","v":0},0,null,null,{"$error":"#NUM!"},{"$f":"-LARGE($E$2:$E$241,171)","v":{"$error":"#NUM!"}},{"$error":"#NUM!"},{"$error":"#NUM!"},171]
[null,{"$f":"wyniki!B207","v":0},{"$f":"wyniki!C207","v":0},-1.72E-3,false,{"$f":"wyniki!$A$203","v":0},0,null,null,{"$error":"#NUM!"},{"$f":"-LARGE($E$2:$E$241,172)","v":{"$error":"#NUM!"}},{"$error":"#NUM!"},{"$error":"#NUM!"},172]
[null,{"$f":"wyniki!B208","v":0},{"$f":"wyniki!C208","v":0},-1.73E-3,false,{"$f":"wyniki!$A$203","v":0},0,null,null,{"$error":"#NUM!"},{"$f":"-LARGE($E$2:$E$241,173)","v":{"$error":"#NUM!"}},{"$error":"#NUM!"},{"$error":"#NUM!"},173]
[null,{"$f":"wyniki!B209","v":0},{"$f":"wyniki!C209","v":0},-1.74E-3,false,{"$f":"wyniki!$A$203","v":0},0,null,null,{"$error":"#NUM!"},{"$f":"-LARGE($E$2:$E$241,174)","v":{"$error":"#NUM!"}},{"$error":"#NUM!"},{"$error":"#NUM!"},174]
[null,{"$f":"wyniki!B211","v":0},{"$f":"wyniki!C211","v":0},-1.75E-3,false,{"$f":"wyniki!$A$210","v":0},0,null,null,{"$error":"#NUM!"},{"$f":"-LARGE($E$2:$E$241,175)","v":{"$error":"#NUM!"}},{"$error":"#NUM!"},{"$error":"#NUM!"},175]
[null,{"$f":"wyniki!B212","v":0},{"$f":"wyniki!C212","v":0},-1.7600000000000001E-3,false,{"$f":"wyniki!$A$210","v":0},0,null,null,{"$error":"#NUM!"},{"$f":"-LARGE($E$2:$E$241,176)","v":{"$error":"#NUM!"}},{"$error":"#NUM!"},{"$error":"#NUM!"},176]
[null,{"$f":"wyniki!B213","v":0},{"$f":"wyniki!C213","v":0},-1.7700000000000001E-3,false,{"$f":"wyniki!$A$210","v":0},0,null,null,{"$error":"#NUM!"},{"$f":"-LARGE($E$2:$E$241,177)","v":{"$error":"#NUM!"}},{"$error":"#NUM!"},{"$error":"#NUM!"},177]
[null,{"$f":"wyniki!B214","v":0},{"$f":"wyniki!C214","v":0},-1.7799999999999999E-3,false,{"$f":"wyniki!$A$210","v":0},0,null,null,{"$error":"#NUM!"},{"$f":"-LARGE($E$2:$E$241,178)","v":{"$error":"#NUM!"}},{"$error":"#NUM!"},{"$error":"#NUM!"},178]
[null,{"$f":"wyniki!B215","v":0},{"$f":"wyniki!C215","v":0},-1.7899999999999999E-3,false,{"$f":"wyniki!$A$210","v":0},0,null,null,{"$error":"#NUM!"},{"$f":"-LARGE($E$2:$E$241,179)","v":{"$error":"#NUM!"}},{"$error":"#NUM!"},{"$error":"#NUM!"},179]
[null,{"$f":"wyniki!B216","v":0},{"$f":"wyniki!C216","v":0},-1.8E-3,false,{"$f":"wyniki!$A$210","v":0},0,null,null,{"$error":"#NUM!"},{"$f":"-LARGE($E$2:$E$241,180)","v":{"$error":"#NUM!"}},{"$error":"#NUM!"},{"$error":"#NUM!"},180]
[null,{"$f":"wyniki!B218","v":0},{"$f":"wyniki!C218","v":0},-1.81E-3,false,{"$f":"wyniki!$A$217","v":0},0,null,null,{"$error":"#NUM!"},{"$f":"-LARGE($E$2:$E$241,181)","v":{"$error":"#NUM!"}},{"$error":"#NUM!"},{"$error":"#NUM!"},181]
[null,{"$f":"wyniki!B219","v":0},{"$f":"wyniki!C219","v":0},-1.82E-3,false,{"$f":"wyniki!$A$217","v":0},0,null,null,{"$error":"#NUM!"},{"$f":"-LARGE($E$2:$E$241,182)","v":{"$error":"#NUM!"}},{"$error":"#NUM!"},{"$error":"#NUM!"},182]
[null,{"$f":"wyniki!B220","v":0},{"$f":"wyniki!C220","v":0},-1.83E-3,false,{"$f":"wyniki!$A$217","v":0},0,null,null,{"$error":"#NUM!"},{"$f":"-LARGE($E$2:$E$241,183)","v":{"$error":"#NUM!"}},{"$error":"#NUM!"},{"$error":"#NUM!"},183]
[null,{"$f":"wyniki!B221","v":0},{"$f":"wyniki!C221","v":0},-1.8400000000000001E-3,false,{"$f":"wyniki!$A$217","v":0},0,null,null,{"$error":"#NUM!"},{"$f":"-LARGE($E$2:$E$241,184)","v":{"$error":"#NUM!"}},{"$error":"#NUM!"},{"$error":"#NUM!"},184]
[null,{"$f":"wyniki!B222","v":0},{"$f":"wyniki!C222","v":0},-1.8500000000000001E-3,false,{"$f":"wyniki!$A$217","v":0},0,null,null,{"$error":"#NUM!"},{"$f":"-LARGE($E$2:$E$241,185)","v":{"$error":"#NUM!"}},{"$error":"#NUM!"},{"$error":"#NUM!"},185]
[null,{"$f":"wyniki!B223","v":0},{"$f":"wyniki!C223","v":0},-1.8600000000000001E-3,false,{"$f":"wyniki!$A$217","v":0},0,null,null,{"$error":"#NUM!"},{"$f":"-LARGE($E$2:$E$241,186)","v":{"$error":"#NUM!"}},{"$error":"#NUM!"},{"$error":"#NUM!"},186]
[null,{"$f":"wyniki!B225","v":0},{"$f":"wyniki!C225","v":0},-1.8699999999999999E-3,false,{"$f":"wyniki!$A$224","v":0},0,null,null,{"$error":"#NUM!"},{"$f":"-LARGE($E$2:$E$241,187)","v":{"$error":"#NUM!"}},{"$error":"#NUM!"},{"$error":"#NUM!"},187]
[null,{"$f":"wyniki!B226","v":0},{"$f":"wyniki!C226","v":0},-1.8799999999999999E-3,false,{"$f":"wyniki!$A$224","v":0},0,null,null,{"$error":"#NUM!"},{"$f":"-LARGE($E$2:$E$241,188)","v":{"$error":"#NUM!"}},{"$error":"#NUM!"},{"$error":"#NUM!"},188]
[null,{"$f":"wyniki!B227","v":0},{"$f":"wyniki!C227","v":0},-1.89E-3,false,{"$f":"wyniki!$A$224","v":0},0,null,null,{"$error":"#NUM!"},{"$f":"-LARGE($E$2:$E$241,189)","v":{"$error":"#NUM!"}},{"$error":"#NUM!"},{"$error":"#NUM!"},189]
[null,{"$f":"wyniki!B228","v":0},{"$f":"wyniki!C228","v":0},-1.9E-3,false,{"$f":"wyniki!$A$224","v":0},0,null,null,{"$error":"#NUM!"},{"$f":"-LARGE($E$2:$E$241,190)","v":{"$error":"#NUM!"}},{"$error":"#NUM!"},{"$error":"#NUM!"},190]
[null,{"$f":"wyniki!B229","v":0},{"$f":"wyniki!C229","v":0},-1.91E-3,false,{"$f":"wyniki!$A$224","v":0},0,null,null,{"$error":"#NUM!"},{"$f":"-LARGE($E$2:$E$241,191)","v":{"$error":"#NUM!"}},{"$error":"#NUM!"},{"$error":"#NUM!"},191]
[null,{"$f":"wyniki!B230","v":0},{"$f":"wyniki!C230","v":0},-1.92E-3,false,{"$f":"wyniki!$A$224","v":0},0,null,null,{"$error":"#NUM!"},{"$f":"-LARGE($E$2:$E$241,192)","v":{"$error":"#NUM!"}},{"$error":"#NUM!"},{"$error":"#NUM!"},192]
[null,{"$f":"wyniki!B232","v":0},{"$f":"wyniki!C232","v":0},-1.9300000000000001E-3,false,{"$f":"wyniki!$A$231","v":0},0,null,null,{"$error":"#NUM!"},{"$f":"-LARGE($E$2:$E$241,193)","v":{"$error":"#NUM!"}},{"$error":"#NUM!"},{"$error":"#NUM!"},193]
[null,{"$f":"wyniki!B233","v":0},{"$f":"wyniki!C233","v":0},-1.9400000000000001E-3,{"$f":"IF(C195>1,G195+D195)","v":false},{"$f":"wyniki!$A$231","v":0},{"$f":"-C195","v":0},null,null,{"$f":"INDEX($B$2:$E$241,L195,1)","v":{"$error":"#NUM!"}},{"$f":"-LARGE($E$2:$E$241,194)","v":{"$error":"#NUM!"}},{"$error":"#NUM!"},{"$f":"INDEX($E$2:$F$241,L195,2)","v":{"$error":"#NUM!"}},194]
[null,{"$f":"wyniki!B234","v":0},{"$f":"wyniki!C234","v":0},-1.9499999999999999E-3,false,{"$f":"wyniki!$A$231","v":0},0,null,null,{"$error":"#NUM!"},{"$f":"-LARGE($E$2:$E$241,195)","v":{"$error":"#NUM!"}},{"$f":"MATCH(-K196,$E$2:$E$241,0)","v":{"$error":"#NUM!"}},{"$error":"#NUM!"},195]
[null,{"$f":"wyniki!B235","v":0},{"$f":"wyniki!C235","v":0},-1.9599999999999999E-3,false,{"$f":"wyniki!$A$231","v":0},0,null,null,{"$error":"#NUM!"},{"$f":"-LARGE($E$2:$E$241,196)","v":{"$error":"#NUM!"}},{"$error":"#NUM!"},{"$error":"#NUM!"},196]
[null,{"$f":"wyniki!B236","v":0},{"$f":"wyniki!C236","v":0},-1.97E-3,false,{"$f":"wyniki!$A$231","v":0},0,null,null,{"$error":"#NUM!"},{"$f":"-LARGE($E$2:$E$241,197)","v":{"$error":"#NUM!"}},{"$error":"#NUM!"},{"$error":"#NUM!"},197]
[null,{"$f":"wyniki!B237","v":0},{"$f":"wyniki!C237","v":0},-1.98E-3,false,{"$f":"wyniki!$A$231","v":0},0,null,null,{"$error":"#NUM!"},{"$f":"-LARGE($E$2:$E$241,198)","v":{"$error":"#NUM!"}},{"$error":"#NUM!"},{"$error":"#NUM!"},198]
[null,{"$f":"wyniki!B239","v":0},{"$f":"wyniki!C239","v":0},-1.99E-3,false,{"$f":"wyniki!$A$238","v":0},0,null,null,{"$error":"#NUM!"},{"$f":"-LARGE($E$2:$E$241,199)","v":{"$error":"#NUM!"}},{"$error":"#NUM!"},{"$error":"#NUM!"},199]
[null,{"$f":"wyniki!B240","v":0},{"$f":"wyniki!C240","v":0},-2E-3,false,{"$f":"wyniki!$A$238","v":0},0,null,null,{"$error":"#NUM!"},{"$f":"-LARGE($E$2:$E$241,200)","v":{"$error":"#NUM!"}},{"$error":"#NUM!"},{"$error":"#NUM!"},200]
[null,{"$f":"wyniki!B241","v":0},{"$f":"wyniki!C241","v":0},-2.0100000000000001E-3,false,{"$f":"wyniki!$A$238","v":0},0,null,null,{"$error":"#NUM!"},{"$f":"-LARGE($E$2:$E$241,201)","v":{"$error":"#NUM!"}},{"$error":"#NUM!"},{"$error":"#NUM!"},201]
[null,{"$f":"wyniki!B242","v":0},{"$f":"wyniki!C242","v":0},-2.0200000000000001E-3,false,{"$f":"wyniki!$A$238","v":0},0,null,null,{"$error":"#NUM!"},{"$f":"-LARGE($E$2:$E$241,202)","v":{"$error":"#NUM!"}},{"$error":"#NUM!"},{"$error":"#NUM!"},202]
[null,{"$f":"wyniki!B243","v":0},{"$f":"wyniki!C243","v":0},-2.0300000000000001E-3,false,{"$f":"wyniki!$A$238","v":0},0,null,null,{"$error":"#NUM!"},{"$f":"-LARGE($E$2:$E$241,203)","v":{"$error":"#NUM!"}},{"$error":"#NUM!"},{"$error":"#NUM!"},203]
[null,{"$f":"wyniki!B244","v":0},{"$f":"wyniki!C244","v":0},-2.0400000000000001E-3,false,{"$f":"wyniki!$A$238","v":0},0,null,null,{"$error":"#NUM!"},{"$f":"-LARGE($E$2:$E$241,204)","v":{"$error":"#NUM!"}},{"$error":"#NUM!"},{"$error":"#NUM!"},204]
[null,{"$f":"wyniki!B246","v":0},{"$f":"wyniki!C246","v":0},-2.0500000000000002E-3,false,{"$f":"wyniki!$A$245","v":0},0,null,null,{"$error":"#NUM!"},{"$f":"-LARGE($E$2:$E$241,205)","v":{"$error":"#NUM!"}},{"$error":"#NUM!"},{"$error":"#NUM!"},205]
[null,{"$f":"wyniki!B247","v":0},{"$f":"wyniki!C247","v":0},-2.0600000000000002E-3,false,{"$f":"wyniki!$A$245","v":0},0,null,null,{"$error":"#NUM!"},{"$f":"-LARGE($E$2:$E$241,206)","v":{"$error":"#NUM!"}},{"$error":"#NUM!"},{"$error":"#NUM!"},206]
[null,{"$f":"wyniki!B248","v":0},{"$f":"wyniki!C248","v":0},-2.0699999999999998E-3,false,{"$f":"wyniki!$A$245","v":0},0,null,null,{"$error":"#NUM!"},{"$f":"-LARGE($E$2:$E$241,207)","v":{"$error":"#NUM!"}},{"$error":"#NUM!"},{"$error":"#NUM!"},207]
[null,{"$f":"wyniki!B249","v":0},{"$f":"wyniki!C249","v":0},-2.0799999999999998E-3,false,{"$f":"wyniki!$A$245","v":0},0,null,null,{"$error":"#NUM!"},{"$f":"-LARGE($E$2:$E$241,208)","v":{"$error":"#NUM!"}},{"$error":"#NUM!"},{"$error":"#NUM!"},208]
[null,{"$f":"wyniki!B250","v":0},{"$f":"wyniki!C250","v":0},-2.0899999999999998E-3,false,{"$f":"wyniki!$A$245","v":0},0,null,null,{"$error":"#NUM!"},{"$f":"-LARGE($E$2:$E$241,209)","v":{"$error":"#NUM!"}},{"$error":"#NUM!"},{"$error":"#NUM!"},209]
[null,{"$f":"wyniki!B251","v":0},{"$f":"wyniki!C251","v":0},-2.0999999999999999E-3,false,{"$f":"wyniki!$A$245","v":0},0,null,null,{"$error":"#NUM!"},{"$f":"-LARGE($E$2:$E$241,210)","v":{"$error":"#NUM!"}},{"$error":"#NUM!"},{"$error":"#NUM!"},210]
[null,{"$f":"wyniki!B253","v":0},{"$f":"wyniki!C253","v":0},-2.1099999999999999E-3,false,{"$f":"wyniki!$A$252","v":0},0,null,null,{"$error":"#NUM!"},{"$f":"-LARGE($E$2:$E$241,211)","v":{"$error":"#NUM!"}},{"$error":"#NUM!"},{"$error":"#NUM!"},211]
[null,{"$f":"wyniki!B254","v":0},{"$f":"wyniki!C254","v":0},-2.1199999999999999E-3,false,{"$f":"wyniki!$A$252","v":0},0,null,null,{"$error":"#NUM!"},{"$f":"-LARGE($E$2:$E$241,212)","v":{"$error":"#NUM!"}},{"$error":"#NUM!"},{"$error":"#NUM!"},212]
[null,{"$f":"wyniki!B255","v":0},{"$f":"wyniki!C255","v":0},-2.1299999999999999E-3,false,{"$f":"wyniki!$A$252","v":0},0,null,null,{"$error":"#NUM!"},{"$f":"-LARGE($E$2:$E$241,213)","v":{"$error":"#NUM!"}},{"$error":"#NUM!"},{"$error":"#NUM!"},213]
[null,{"$f":"wyniki!B256","v":0},{"$f":"wyniki!C256","v":0},-2.14E-3,false,{"$f":"wyniki!$A$252","v":0},0,null,null,{"$error":"#NUM!"},{"$f":"-LARGE($E$2:$E$241,214)","v":{"$error":"#NUM!"}},{"$error":"#NUM!"},{"$error":"#NUM!"},214]
[null,{"$f":"wyniki!B257","v":0},{"$f":"wyniki!C257","v":0},-2.15E-3,false,{"$f":"wyniki!$A$252","v":0},0,null,null,{"$error":"#NUM!"},{"$f":"-LARGE($E$2:$E$241,215)","v":{"$error":"#NUM!"}},{"$error":"#NUM!"},{"$error":"#NUM!"},215]
[null,{"$f":"wyniki!B258","v":0},{"$f":"wyniki!C258","v":0},-2.16E-3,false,{"$f":"wyniki!$A$252","v":0},0,null,null,{"$error":"#NUM!"},{"$f":"-LARGE($E$2:$E$241,216)","v":{"$error":"#NUM!"}},{"$error":"#NUM!"},{"$error":"#NUM!"},216]
[null,{"$f":"wyniki!B260","v":0},{"$f":"wyniki!C260","v":0},-2.1700000000000001E-3,false,{"$f":"wyniki!$A$259","v":0},0,null,null,{"$error":"#NUM!"},{"$f":"-LARGE($E$2:$E$241,217)","v":{"$error":"#NUM!"}},{"$error":"#NUM!"},{"$error":"#NUM!"},217]
[null,{"$f":"wyniki!B261","v":0},{"$f":"wyniki!C261","v":0},-2.1800000000000001E-3,false,{"$f":"wyniki!$A$259","v":0},0,null,null,{"$error":"#NUM!"},{"$f":"-LARGE($E$2:$E$241,218)","v":{"$error":"#NUM!"}},{"$error":"#NUM!"},{"$error":"#NUM!"},218]
[null,{"$f":"wyniki!B262","v":0},{"$f":"wyniki!C262","v":0},-2.1900000000000001E-3,false,{"$f":"wyniki!$A$259","v":0},0,null,null,{"$error":"#NUM!"},{"$f":"-LARGE($E$2:$E$241,219)","v":{"$error":"#NUM!"}},{"$error":"#NUM!"},{"$error":"#NUM!"},219]
[null,{"$f":"wyniki!B263","v":0},{"$f":"wyniki!C263","v":0},-2.2000000000000001E-3,false,{"$f":"wyniki!$A$259","v":0},0,null,null,{"$error":"#NUM!"},{"$f":"-LARGE($E$2:$E$241,220)","v":{"$error":"#NUM!"}},{"$error":"#NUM!"},{"$error":"#NUM!"},220]
[null,{"$f":"wyniki!B264","v":0},{"$f":"wyniki!C264","v":0},-2.2100000000000002E-3,false,{"$f":"wyniki!$A$259","v":0},0,null,null,{"$error":"#NUM!"},{"$f":"-LARGE($E$2:$E$241,221)","v":{"$error":"#NUM!"}},{"$error":"#NUM!"},{"$error":"#NUM!"},221]
[null,{"$f":"wyniki!B265","v":0},{"$f":"wyniki!C265","v":0},-2.2200000000000002E-3,false,{"$f":"wyniki!$A$259","v":0},0,null,null,{"$error":"#NUM!"},{"$f":"-LARGE($E$2:$E$241,222)","v":{"$error":"#NUM!"}},{"$error":"#NUM!"},{"$error":"#NUM!"},222]
[null,{"$f":"wyniki!B267","v":0},{"$f":"wyniki!C267","v":0},-2.2300000000000002E-3,false,{"$f":"wyniki!$A$266","v":0},0,null,null,{"$error":"#NUM!"},{"$f":"-LARGE($E$2:$E$241,223)","v":{"$error":"#NUM!"}},{"$error":"#NUM!"},{"$error":"#NUM!"},223]
[null,{"$f":"wyniki!B268","v":0},{"$f":"wyniki!C268","v":0},-2.2399999999999998E-3,false,{"$f":"wyniki!$A$266","v":0},0,null,null,{"$error":"#NUM!"},{"$f":"-LARGE($E$2:$E$241,224)","v":{"$error":"#NUM!"}},{"$error":"#NUM!"},{"$error":"#NUM!"},224]
[null,{"$f":"wyniki!B269","v":0},{"$f":"wyniki!C269","v":0},-2.2499999999999998E-3,false,{"$f":"wyniki!$A$266","v":0},0,null,null,{"$error":"#NUM!"},{"$f":"-LARGE($E$2:$E$241,225)","v":{"$error":"#NUM!"}},{"$error":"#NUM!"},{"$error":"#NUM!"},225]
[null,{"$f":"wyniki!B270","v":0},{"$f":"wyniki!C270","v":0},-2.2599999999999999E-3,false,{"$f":"wyniki!$A$266","v":0},0,null,null,{"$error":"#NUM!"},{"$f":"-LARGE($E$2:$E$241,226)","v":{"$error":"#NUM!"}},{"$error":"#NUM!"},{"$error":"#NUM!"},226]
[null,{"$f":"wyniki!B271","v":0},{"$f":"wyniki!C271","v":0},-2.2699999999999999E-3,false,{"$f":"wyniki!$A$266","v":0},0,null,null,{"$error":"#NUM!"},{"$f":"-LARGE($E$2:$E$241,227)","v":{"$error":"#NUM!"}},{"$error":"#NUM!"},{"$error":"#NUM!"},227]
[null,{"$f":"wyniki!B272","v":0},{"$f":"wyniki!C272","v":0},-2.2799999999999999E-3,false,{"$f":"wyniki!$A$266","v":0},0,null,null,{"$error":"#NUM!"},{"$f":"-LARGE($E$2:$E$241,228)","v":{"$error":"#NUM!"}},{"$error":"#NUM!"},{"$error":"#NUM!"},228]
[null,{"$f":"wyniki!B274","v":0},{"$f":"wyniki!C274","v":0},-2.2899999999999999E-3,false,{"$f":"wyniki!$A$273","v":0},0,null,null,{"$error":"#NUM!"},{"$f":"-LARGE($E$2:$E$241,229)","v":{"$error":"#NUM!"}},{"$error":"#NUM!"},{"$error":"#NUM!"},229]
[null,{"$f":"wyniki!B275","v":0},{"$f":"wyniki!C275","v":0},-2.3E-3,false,{"$f":"wyniki!$A$273","v":0},0,null,null,{"$error":"#NUM!"},{"$f":"-LARGE($E$2:$E$241,230)","v":{"$error":"#NUM!"}},{"$error":"#NUM!"},{"$error":"#NUM!"},230]
[null,{"$f":"wyniki!B276","v":0},{"$f":"wyniki!C276","v":0},-2.31E-3,false,{"$f":"wyniki!$A$273","v":0},0,null,null,{"$error":"#NUM!"},{"$f":"-LARGE($E$2:$E$241,231)","v":{"$error":"#NUM!"}},{"$error":"#NUM!"},{"$error":"#NUM!"},231]
[null,{"$f":"wyniki!B277","v":0},{"$f":"wyniki!C277","v":0},-2.32E-3,false,{"$f":"wyniki!$A$273","v":0},0,null,null,{"$error":"#NUM!"},{"$f":"-LARGE($E$2:$E$241,232)","v":{"$error":"#NUM!"}},{"$error":"#NUM!"},{"$error":"#NUM!"},232]
[null,{"$f":"wyniki!B278","v":0},{"$f":"wyniki!C278","v":0},-2.33E-3,false,{"$f":"wyniki!$A$273","v":0},0,null,null,{"$error":"#NUM!"},{"$f":"-LARGE($E$2:$E$241,233)","v":{"$error":"#NUM!"}},{"$error":"#NUM!"},{"$error":"#NUM!"},233]
[null,{"$f":"wyniki!B279","v":0},{"$f":"wyniki!C279","v":0},-2.3400000000000001E-3,false,{"$f":"wyniki!$A$273","v":0},0,null,null,{"$error":"#NUM!"},{"$f":"-LARGE($E$2:$E$241,234)","v":{"$error":"#NUM!"}},{"$error":"#NUM!"},{"$error":"#NUM!"},234]
[null,{"$f":"wyniki!B281","v":0},{"$f":"wyniki!C281","v":0},-2.3500000000000001E-3,false,{"$f":"wyniki!$A$280","v":0},0,null,null,{"$error":"#NUM!"},{"$f":"-LARGE($E$2:$E$241,235)","v":{"$error":"#NUM!"}},{"$error":"#NUM!"},{"$error":"#NUM!"},235]
[null,{"$f":"wyniki!B282","v":0},{"$f":"wyniki!C282","v":0},-2.3600000000000001E-3,false,{"$f":"wyniki!$A$280","v":0},0,null,null,{"$error":"#NUM!"},{"$f":"-LARGE($E$2:$E$241,236)","v":{"$error":"#NUM!"}},{"$error":"#NUM!"},{"$error":"#NUM!"},236]
[null,{"$f":"wyniki!B283","v":0},{"$f":"wyniki!C283","v":0},-2.3700000000000001E-3,false,{"$f":"wyniki!$A$280","v":0},0,null,null,{"$error":"#NUM!"},{"$f":"-LARGE($E$2:$E$241,237)","v":{"$error":"#NUM!"}},{"$error":"#NUM!"},{"$error":"#NUM!"},237]
[null,{"$f":"wyniki!B284","v":0},{"$f":"wyniki!C284","v":0},-2.3800000000000002E-3,false,{"$f":"wyniki!$A$280","v":0},0,null,null,{"$error":"#NUM!"},{"$f":"-LARGE($E$2:$E$241,238)","v":{"$error":"#NUM!"}},{"$error":"#NUM!"},{"$error":"#NUM!"},238]
[null,{"$f":"wyniki!B285","v":0},{"$f":"wyniki!C285","v":0},-2.3900000000000002E-3,false,{"$f":"wyniki!$A$280","v":0},0,null,null,{"$error":"#NUM!"},{"$f":"-LARGE($E$2:$E$241,239)","v":{"$error":"#NUM!"}},{"$error":"#NUM!"},{"$error":"#NUM!"},239]
[null,{"$f":"wyniki!B286","v":0},{"$f":"wyniki!C286","v":0},-2.3999999999999998E-3,false,{"$f":"wyniki!$A$280","v":0},0,null,null,{"$error":"#NUM!"},{"$f":"-LARGE($E$2:$E$241,240)","v":{"$error":"#NUM!"}},{"$error":"#NUM!"},{"$error":"#NUM!"},240]

{"sheet":"p.pal","index":3,"n_rows":241,"n_cols":14,"rows_kept":241,"cut":false,"hidden":false,"merged":[]}
[null,null,null,null,null,null,null,null,null,"Nazwisko/imię","Wynik",null,"Szkoła","Miejsce"]
[null,{"$f":"wyniki!B8","v":"zawodnik 1"},{"$f":"wyniki!E8","v":23.5},1.0000000000000001E-5,{"$f":"C2+D2","v":23.50001},{"$f":"wyniki!$A$7","v":"SP 234 Kursk"},null,null,null,{"$f":"INDEX($B$2:$E$241,L2,1)","v":"zawodnik 1"},{"$f":"LARGE($E$2:$E$241,1)","v":23.50001},{"$f":"MATCH(K2,$E$2:$E$241,0)","v":1},{"$f":"INDEX($E$2:$F$241,L2,2)","v":"SP 234 Kursk"},1]
[null,{"$f":"wyniki!B9","v":"zawodnik 2"},{"$f":"wyniki!E9","v":0},2.0000000000000002E-5,{"$f":"C3+D3","v":2.0000000000000002E-5},{"$f":"wyniki!$A$7","v":"SP 234 Kursk"},null,null,null,{"$f":"INDEX($B$2:$E$241,L3,1)","v":0},{"$f":"LARGE($E$2:$E$241,2)","v":2.3999999999999998E-3},{"$f":"MATCH(K3,$E$2:$E$241,0)","v":240},{"$f":"INDEX($E$2:$F$241,L3,2)","v":0},2]
[null,{"$f":"wyniki!B10","v":"zawodnik 3"},{"$f":"wyniki!E10","v":0},3.0000000000000001E-5,3.0000000000000001E-5,{"$f":"wyniki!$A$7","v":"SP 234 Kursk"},null,null,null,0,{"$f":"LARGE($E$2:$E$241,3)","v":2.3900000000000002E-3},239,0,3]
[null,{"$f":"wyniki!B11","v":"zawodnik 4"},{"$f":"wyniki!E11","v":0},4.0000000000000003E-5,4.0000000000000003E-5,{"$f":"wyniki!$A$7","v":"SP 234 Kursk"},null,null,null,0,{"$f":"LARGE($E$2:$E$241,4)","v":2.3800000000000002E-3},238,0,4]
[null,{"$f":"wyniki!B12","v":"zawodnik 5"},{"$f":"wyniki!E12","v":0},5.0000000000000002E-5,5.0000000000000002E-5,{"$f":"wyniki!$A$7","v":"SP 234 Kursk"},null,null,null,0,{"$f":"LARGE($E$2:$E$241,5)","v":2.3700000000000001E-3},237,0,5]
[null,{"$f":"wyniki!B13","v":0},{"$f":"wyniki!E13","v":0},6.0000000000000002E-5,6.0000000000000002E-5,{"$f":"wyniki!$A$7","v":"SP 234 Kursk"},null,null,null,0,{"$f":"LARGE($E$2:$E$241,6)","v":2.3600000000000001E-3},236,0,6]
[null,{"$f":"wyniki!B15","v":0},{"$f":"wyniki!E15","v":0},6.9999999999999994E-5,6.9999999999999994E-5,{"$f":"wyniki!$A$14","v":0},null,null,null,0,{"$f":"LARGE($E$2:$E$241,7)","v":2.3500000000000001E-3},235,0,7]
[null,{"$f":"wyniki!B16","v":0},{"$f":"wyniki!E16","v":0},8.0000000000000007E-5,8.0000000000000007E-5,{"$f":"wyniki!$A$14","v":0},null,null,null,0,{"$f":"LARGE($E$2:$E$241,8)","v":2.3400000000000001E-3},234,0,8]
[null,{"$f":"wyniki!B17","v":0},{"$f":"wyniki!E17","v":0},9.0000000000000006E-5,9.0000000000000006E-5,{"$f":"wyniki!$A$14","v":0},null,null,null,0,{"$f":"LARGE($E$2:$E$241,9)","v":2.33E-3},233,0,9]
[null,{"$f":"wyniki!B18","v":0},{"$f":"wyniki!E18","v":0},1E-4,1E-4,{"$f":"wyniki!$A$14","v":0},null,null,null,0,{"$f":"LARGE($E$2:$E$241,10)","v":2.32E-3},232,0,10]
[null,{"$f":"wyniki!B19","v":0},{"$f":"wyniki!E19","v":0},1.1E-4,1.1E-4,{"$f":"wyniki!$A$14","v":0},null,null,null,0,{"$f":"LARGE($E$2:$E$241,11)","v":2.31E-3},231,0,11]
[null,{"$f":"wyniki!B20","v":0},{"$f":"wyniki!E20","v":0},1.2E-4,1.2E-4,{"$f":"wyniki!$A$14","v":0},null,null,null,0,{"$f":"LARGE($E$2:$E$241,12)","v":2.3E-3},230,0,12]
[null,{"$f":"wyniki!B22","v":0},{"$f":"wyniki!E22","v":0},1.2999999999999999E-4,1.2999999999999999E-4,{"$f":"wyniki!$A$21","v":0},null,null,null,0,{"$f":"LARGE($E$2:$E$241,13)","v":2.2899999999999999E-3},229,0,13]
[null,{"$f":"wyniki!B23","v":0},{"$f":"wyniki!E23","v":0},1.3999999999999999E-4,1.3999999999999999E-4,{"$f":"wyniki!$A$21","v":0},null,null,null,0,{"$f":"LARGE($E$2:$E$241,14)","v":2.2799999999999999E-3},228,0,14]
[null,{"$f":"wyniki!B24","v":0},{"$f":"wyniki!E24","v":0},1.4999999999999999E-4,1.4999999999999999E-4,{"$f":"wyniki!$A$21","v":0},null,null,null,0,{"$f":"LARGE($E$2:$E$241,15)","v":2.2699999999999999E-3},227,0,15]
[null,{"$f":"wyniki!B25","v":0},{"$f":"wyniki!E25","v":0},1.6000000000000001E-4,1.6000000000000001E-4,{"$f":"wyniki!$A$21","v":0},null,null,null,0,{"$f":"LARGE($E$2:$E$241,16)","v":2.2599999999999999E-3},226,0,16]
[null,{"$f":"wyniki!B26","v":0},{"$f":"wyniki!E26","v":0},1.7000000000000001E-4,1.7000000000000001E-4,{"$f":"wyniki!$A$21","v":0},null,null,null,0,{"$f":"LARGE($E$2:$E$241,17)","v":2.2499999999999998E-3},225,0,17]
[null,{"$f":"wyniki!B27","v":0},{"$f":"wyniki!E27","v":0},1.8000000000000001E-4,1.8000000000000001E-4,{"$f":"wyniki!$A$21","v":0},null,null,null,0,{"$f":"LARGE($E$2:$E$241,18)","v":2.2399999999999998E-3},224,0,18]
[null,{"$f":"wyniki!B29","v":0},{"$f":"wyniki!E29","v":0},1.9000000000000001E-4,1.9000000000000001E-4,{"$f":"wyniki!$A$28","v":0},null,null,null,0,{"$f":"LARGE($E$2:$E$241,19)","v":2.2300000000000002E-3},223,0,19]
[null,{"$f":"wyniki!B30","v":0},{"$f":"wyniki!E30","v":0},2.0000000000000001E-4,2.0000000000000001E-4,{"$f":"wyniki!$A$28","v":0},null,null,null,0,{"$f":"LARGE($E$2:$E$241,20)","v":2.2200000000000002E-3},222,0,20]
[null,{"$f":"wyniki!B31","v":0},{"$f":"wyniki!E31","v":0},2.1000000000000001E-4,2.1000000000000001E-4,{"$f":"wyniki!$A$28","v":0},null,null,null,0,{"$f":"LARGE($E$2:$E$241,21)","v":2.2100000000000002E-3},221,0,21]
[null,{"$f":"wyniki!B32","v":0},{"$f":"wyniki!E32","v":0},2.2000000000000001E-4,2.2000000000000001E-4,{"$f":"wyniki!$A$28","v":0},null,null,null,0,{"$f":"LARGE($E$2:$E$241,22)","v":2.2000000000000001E-3},220,0,22]
[null,{"$f":"wyniki!B33","v":0},{"$f":"wyniki!E33","v":0},2.3000000000000001E-4,2.3000000000000001E-4,{"$f":"wyniki!$A$28","v":0},null,null,null,0,{"$f":"LARGE($E$2:$E$241,23)","v":2.1900000000000001E-3},219,0,23]
[null,{"$f":"wyniki!B34","v":0},{"$f":"wyniki!E34","v":0},2.4000000000000001E-4,2.4000000000000001E-4,{"$f":"wyniki!$A$28","v":0},null,null,null,0,{"$f":"LARGE($E$2:$E$241,24)","v":2.1800000000000001E-3},218,0,24]
[null,{"$f":"wyniki!B36","v":0},{"$f":"wyniki!E36","v":0},2.5000000000000001E-4,2.5000000000000001E-4,{"$f":"wyniki!$A$35","v":0},null,null,null,0,{"$f":"LARGE($E$2:$E$241,25)","v":2.1700000000000001E-3},217,0,25]
[null,{"$f":"wyniki!B37","v":0},{"$f":"wyniki!E37","v":0},2.5999999999999998E-4,2.5999999999999998E-4,{"$f":"wyniki!$A$35","v":0},null,null,null,0,{"$f":"LARGE($E$2:$E$241,26)","v":2.16E-3},216,0,26]
[null,{"$f":"wyniki!B38","v":0},{"$f":"wyniki!E38","v":0},2.7E-4,2.7E-4,{"$f":"wyniki!$A$35","v":0},null,null,null,0,{"$f":"LARGE($E$2:$E$241,27)","v":2.15E-3},215,0,27]
[null,{"$f":"wyniki!B39","v":0},{"$f":"wyniki!E39","v":0},2.7999999999999998E-4,2.7999999999999998E-4,{"$f":"wyniki!$A$35","v":0},null,null,null,0,{"$f":"LARGE($E$2:$E$241,28)","v":2.14E-3},214,0,28]
[null,{"$f":"wyniki!B40","v":0},{"$f":"wyniki!E40","v":0},2.9E-4,2.9E-4,{"$f":"wyniki!$A$35","v":0},null,null,null,0,{"$f":"LARGE($E$2:$E$241,29)","v":2.1299999999999999E-3},213,0,29]
[null,{"$f":"wyniki!B41","v":0},{"$f":"wyniki!E41","v":0},2.9999999999999997E-4,2.9999999999999997E-4,{"$f":"wyniki!$A$35","v":0},null,null,null,0,{"$f":"LARGE($E$2:$E$241,30)","v":2.1199999999999999E-3},212,0,30]
[null,{"$f":"wyniki!B43","v":0},{"$f":"wyniki!E43","v":0},3.1E-4,3.1E-4,{"$f":"wyniki!$A$42","v":0},null,null,null,0,{"$f":"LARGE($E$2:$E$241,31)","v":2.1099999999999999E-3},211,0,31]
[null,{"$f":"wyniki!B44","v":0},{"$f":"wyniki!E44","v":0},3.2000000000000003E-4,3.2000000000000003E-4,{"$f":"wyniki!$A$42","v":0},null,null,null,0,{"$f":"LARGE($E$2:$E$241,32)","v":2.0999999999999999E-3},210,0,32]
[null,{"$f":"wyniki!B45","v":0},{"$f":"wyniki!E45","v":0},3.3E-4,3.3E-4,{"$f":"wyniki!$A$42","v":0},null,null,null,0,{"$f":"LARGE($E$2:$E$241,33)","v":2.0899999999999998E-3},209,0,33]
[null,{"$f":"wyniki!B46","v":0},{"$f":"wyniki!E46","v":0},3.4000000000000002E-4,3.4000000000000002E-4,{"$f":"wyniki!$A$42","v":0},null,null,null,0,{"$f":"LARGE($E$2:$E$241,34)","v":2.0799999999999998E-3},208,0,34]
[null,{"$f":"wyniki!B47","v":0},{"$f":"wyniki!E47","v":0},3.5E-4,3.5E-4,{"$f":"wyniki!$A$42","v":0},null,null,null,0,{"$f":"LARGE($E$2:$E$241,35)","v":2.0699999999999998E-3},207,0,35]
[null,{"$f":"wyniki!B48","v":0},{"$f":"wyniki!E48","v":0},3.6000000000000002E-4,3.6000000000000002E-4,{"$f":"wyniki!$A$42","v":0},null,null,null,0,{"$f":"LARGE($E$2:$E$241,36)","v":2.0600000000000002E-3},206,0,36]
[null,{"$f":"wyniki!B50","v":0},{"$f":"wyniki!E50","v":0},3.6999999999999999E-4,3.6999999999999999E-4,{"$f":"wyniki!$A$49","v":0},null,null,null,0,{"$f":"LARGE($E$2:$E$241,37)","v":2.0500000000000002E-3},205,0,37]
[null,{"$f":"wyniki!B51","v":0},{"$f":"wyniki!E51","v":0},3.8000000000000002E-4,3.8000000000000002E-4,{"$f":"wyniki!$A$49","v":0},null,null,null,0,{"$f":"LARGE($E$2:$E$241,38)","v":2.0400000000000001E-3},204,0,38]
[null,{"$f":"wyniki!B52","v":0},{"$f":"wyniki!E52","v":0},3.8999999999999999E-4,3.8999999999999999E-4,{"$f":"wyniki!$A$49","v":0},null,null,null,0,{"$f":"LARGE($E$2:$E$241,39)","v":2.0300000000000001E-3},203,0,39]
[null,{"$f":"wyniki!B53","v":0},{"$f":"wyniki!E53","v":0},4.0000000000000002E-4,4.0000000000000002E-4,{"$f":"wyniki!$A$49","v":0},null,null,null,0,{"$f":"LARGE($E$2:$E$241,40)","v":2.0200000000000001E-3},202,0,40]
[null,{"$f":"wyniki!B54","v":0},{"$f":"wyniki!E54","v":0},4.0999999999999999E-4,4.0999999999999999E-4,{"$f":"wyniki!$A$49","v":0},null,null,null,0,{"$f":"LARGE($E$2:$E$241,41)","v":2.0100000000000001E-3},201,0,41]
[null,{"$f":"wyniki!B55","v":0},{"$f":"wyniki!E55","v":0},4.2000000000000002E-4,4.2000000000000002E-4,{"$f":"wyniki!$A$49","v":0},null,null,null,0,{"$f":"LARGE($E$2:$E$241,42)","v":2E-3},200,0,42]
[null,{"$f":"wyniki!B57","v":0},{"$f":"wyniki!E57","v":0},4.2999999999999999E-4,4.2999999999999999E-4,{"$f":"wyniki!$A$56","v":0},null,null,null,0,{"$f":"LARGE($E$2:$E$241,43)","v":1.99E-3},199,0,43]
[null,{"$f":"wyniki!B58","v":0},{"$f":"wyniki!E58","v":0},4.4000000000000002E-4,4.4000000000000002E-4,{"$f":"wyniki!$A$56","v":0},null,null,null,0,{"$f":"LARGE($E$2:$E$241,44)","v":1.98E-3},198,0,44]
[null,{"$f":"wyniki!B59","v":0},{"$f":"wyniki!E59","v":0},4.4999999999999999E-4,4.4999999999999999E-4,{"$f":"wyniki!$A$56","v":0},null,null,null,0,{"$f":"LARGE($E$2:$E$241,45)","v":1.97E-3},197,0,45]
[null,{"$f":"wyniki!B60","v":0},{"$f":"wyniki!E60","v":0},4.6000000000000001E-4,4.6000000000000001E-4,{"$f":"wyniki!$A$56","v":0},null,null,null,0,{"$f":"LARGE($E$2:$E$241,46)","v":1.9599999999999999E-3},196,0,46]
[null,{"$f":"wyniki!B61","v":0},{"$f":"wyniki!E61","v":0},4.6999999999999999E-4,4.6999999999999999E-4,{"$f":"wyniki!$A$56","v":0},null,null,null,0,{"$f":"LARGE($E$2:$E$241,47)","v":1.9499999999999999E-3},195,0,47]
[null,{"$f":"wyniki!B62","v":0},{"$f":"wyniki!E62","v":0},4.8000000000000001E-4,4.8000000000000001E-4,{"$f":"wyniki!$A$56","v":0},null,null,null,0,{"$f":"LARGE($E$2:$E$241,48)","v":1.9400000000000001E-3},194,0,48]
[null,{"$f":"wyniki!B64","v":0},{"$f":"wyniki!E64","v":0},4.8999999999999998E-4,4.8999999999999998E-4,{"$f":"wyniki!$A$63","v":0},null,null,null,0,{"$f":"LARGE($E$2:$E$241,49)","v":1.9300000000000001E-3},193,0,49]
[null,{"$f":"wyniki!B65","v":0},{"$f":"wyniki!E65","v":0},5.0000000000000001E-4,5.0000000000000001E-4,{"$f":"wyniki!$A$63","v":0},null,null,null,0,{"$f":"LARGE($E$2:$E$241,50)","v":1.92E-3},192,0,50]
[null,{"$f":"wyniki!B66","v":0},{"$f":"wyniki!E66","v":0},5.1000000000000004E-4,5.1000000000000004E-4,{"$f":"wyniki!$A$63","v":0},null,null,null,0,{"$f":"LARGE($E$2:$E$241,51)","v":1.91E-3},191,0,51]
[null,{"$f":"wyniki!B67","v":0},{"$f":"wyniki!E67","v":0},5.1999999999999995E-4,5.1999999999999995E-4,{"$f":"wyniki!$A$63","v":0},null,null,null,0,{"$f":"LARGE($E$2:$E$241,52)","v":1.9E-3},190,0,52]
[null,{"$f":"wyniki!B68","v":0},{"$f":"wyniki!E68","v":0},5.2999999999999998E-4,5.2999999999999998E-4,{"$f":"wyniki!$A$63","v":0},null,null,null,0,{"$f":"LARGE($E$2:$E$241,53)","v":1.89E-3},189,0,53]
[null,{"$f":"wyniki!B69","v":0},{"$f":"wyniki!E69","v":0},5.4000000000000001E-4,5.4000000000000001E-4,{"$f":"wyniki!$A$63","v":0},null,null,null,0,{"$f":"LARGE($E$2:$E$241,54)","v":1.8799999999999999E-3},188,0,54]
[null,{"$f":"wyniki!B71","v":0},{"$f":"wyniki!E71","v":0},5.5000000000000003E-4,5.5000000000000003E-4,{"$f":"wyniki!$A$70","v":0},null,null,null,0,{"$f":"LARGE($E$2:$E$241,55)","v":1.8699999999999999E-3},187,0,55]
[null,{"$f":"wyniki!B72","v":0},{"$f":"wyniki!E72","v":0},5.5999999999999995E-4,5.5999999999999995E-4,{"$f":"wyniki!$A$70","v":0},null,null,null,0,{"$f":"LARGE($E$2:$E$241,56)","v":1.8600000000000001E-3},186,0,56]
[null,{"$f":"wyniki!B73","v":0},{"$f":"wyniki!E73","v":0},5.6999999999999998E-4,5.6999999999999998E-4,{"$f":"wyniki!$A$70","v":0},null,null,null,0,{"$f":"LARGE($E$2:$E$241,57)","v":1.8500000000000001E-3},185,0,57]
[null,{"$f":"wyniki!B74","v":0},{"$f":"wyniki!E74","v":0},5.8E-4,5.8E-4,{"$f":"wyniki!$A$70","v":0},null,null,null,0,{"$f":"LARGE($E$2:$E$241,58)","v":1.8400000000000001E-3},184,0,58]
[null,{"$f":"wyniki!B75","v":0},{"$f":"wyniki!E75","v":0},5.9000000000000003E-4,5.9000000000000003E-4,{"$f":"wyniki!$A$70","v":0},null,null,null,0,{"$f":"LARGE($E$2:$E$241,59)","v":1.83E-3},183,0,59]
[null,{"$f":"wyniki!B76","v":0},{"$f":"wyniki!E76","v":0},5.9999999999999995E-4,5.9999999999999995E-4,{"$f":"wyniki!$A$70","v":0},null,null,null,0,{"$f":"LARGE($E$2:$E$241,60)","v":1.82E-3},182,0,60]
[null,{"$f":"wyniki!B78","v":0},{"$f":"wyniki!E78","v":0},6.0999999999999997E-4,6.0999999999999997E-4,{"$f":"wyniki!$A$77","v":0},null,null,null,0,{"$f":"LARGE($E$2:$E$241,61)","v":1.81E-3},181,0,61]
[null,{"$f":"wyniki!B79","v":0},{"$f":"wyniki!E79","v":0},6.2E-4,6.2E-4,{"$f":"wyniki!$A$77","v":0},null,null,null,0,{"$f":"LARGE($E$2:$E$241,62)","v":1.8E-3},180,0,62]
[null,{"$f":"wyniki!B80","v":0},{"$f":"wyniki!E80","v":0},6.3000000000000003E-4,6.3000000000000003E-4,{"$f":"wyniki!$A$77","v":0},null,null,null,0,{"$f":"LARGE($E$2:$E$241,63)","v":1.7899999999999999E-3},179,0,63]
[null,{"$f":"wyniki!B81","v":0},{"$f":"wyniki!E81","v":0},6.4000000000000005E-4,6.4000000000000005E-4,{"$f":"wyniki!$A$77","v":0},null,null,null,0,{"$f":"LARGE($E$2:$E$241,64)","v":1.7799999999999999E-3},178,0,64]
[null,{"$f":"wyniki!B82","v":0},{"$f":"wyniki!E82","v":0},6.4999999999999997E-4,6.4999999999999997E-4,{"$f":"wyniki!$A$77","v":0},null,null,null,0,{"$f":"LARGE($E$2:$E$241,65)","v":1.7700000000000001E-3},177,0,65]
[null,{"$f":"wyniki!B83","v":0},{"$f":"wyniki!E83","v":0},6.6E-4,{"$f":"C67+D67","v":6.6E-4},{"$f":"wyniki!$A$77","v":0},null,null,null,{"$f":"INDEX($B$2:$E$241,L67,1)","v":0},{"$f":"LARGE($E$2:$E$241,66)","v":1.7600000000000001E-3},{"$f":"MATCH(K67,$E$2:$E$241,0)","v":176},{"$f":"INDEX($E$2:$F$241,L67,2)","v":0},66]
[null,{"$f":"wyniki!B85","v":0},{"$f":"wyniki!E85","v":0},6.7000000000000002E-4,6.7000000000000002E-4,{"$f":"wyniki!$A$84","v":0},null,null,null,0,{"$f":"LARGE($E$2:$E$241,67)","v":1.75E-3},175,0,67]
[null,{"$f":"wyniki!B86","v":0},{"$f":"wyniki!E86","v":0},6.8000000000000005E-4,6.8000000000000005E-4,{"$f":"wyniki!$A$84","v":0},null,null,null,0,{"$f":"LARGE($E$2:$E$241,68)","v":1.74E-3},174,0,68]
[null,{"$f":"wyniki!B87","v":0},{"$f":"wyniki!E87","v":0},6.8999999999999997E-4,6.8999999999999997E-4,{"$f":"wyniki!$A$84","v":0},null,null,null,0,{"$f":"LARGE($E$2:$E$241,69)","v":1.73E-3},173,0,69]
[null,{"$f":"wyniki!B88","v":0},{"$f":"wyniki!E88","v":0},6.9999999999999999E-4,6.9999999999999999E-4,{"$f":"wyniki!$A$84","v":0},null,null,null,0,{"$f":"LARGE($E$2:$E$241,70)","v":1.72E-3},172,0,70]
[null,{"$f":"wyniki!B89","v":0},{"$f":"wyniki!E89","v":0},7.1000000000000002E-4,7.1000000000000002E-4,{"$f":"wyniki!$A$84","v":0},null,null,null,0,{"$f":"LARGE($E$2:$E$241,71)","v":1.7099999999999999E-3},171,0,71]
[null,{"$f":"wyniki!B90","v":0},{"$f":"wyniki!E90","v":0},7.2000000000000005E-4,7.2000000000000005E-4,{"$f":"wyniki!$A$84","v":0},null,null,null,0,{"$f":"LARGE($E$2:$E$241,72)","v":1.6999999999999999E-3},170,0,72]
[null,{"$f":"wyniki!B92","v":0},{"$f":"wyniki!E92","v":0},7.2999999999999996E-4,7.2999999999999996E-4,{"$f":"wyniki!$A$91","v":0},null,null,null,0,{"$f":"LARGE($E$2:$E$241,73)","v":1.6900000000000001E-3},169,0,73]
[null,{"$f":"wyniki!B93","v":0},{"$f":"wyniki!E93","v":0},7.3999999999999999E-4,7.3999999999999999E-4,{"$f":"wyniki!$A$91","v":0},null,null,null,0,{"$f":"LARGE($E$2:$E$241,74)","v":1.6800000000000001E-3},168,0,74]
[null,{"$f":"wyniki!B94","v":0},{"$f":"wyniki!E94","v":0},7.5000000000000002E-4,7.5000000000000002E-4,{"$f":"wyniki!$A$91","v":0},null,null,null,0,{"$f":"LARGE($E$2:$E$241,75)","v":1.67E-3},167,0,75]
[null,{"$f":"wyniki!B95","v":0},{"$f":"wyniki!E95","v":0},7.6000000000000004E-4,7.6000000000000004E-4,{"$f":"wyniki!$A$91","v":0},null,null,null,0,{"$f":"LARGE($E$2:$E$241,76)","v":1.66E-3},166,0,76]
[null,{"$f":"wyniki!B96","v":0},{"$f":"wyniki!E96","v":0},7.6999999999999996E-4,7.6999999999999996E-4,{"$f":"wyniki!$A$91","v":0},null,null,null,0,{"$f":"LARGE($E$2:$E$241,77)","v":1.65E-3},165,0,77]
[null,{"$f":"wyniki!B97","v":0},{"$f":"wyniki!E97","v":0},7.7999999999999999E-4,7.7999999999999999E-4,{"$f":"wyniki!$A$91","v":0},null,null,null,0,{"$f":"LARGE($E$2:$E$241,78)","v":1.64E-3},164,0,78]
[null,{"$f":"wyniki!B99","v":0},{"$f":"wyniki!E99","v":0},7.9000000000000001E-4,7.9000000000000001E-4,{"$f":"wyniki!$A$98","v":0},null,null,null,0,{"$f":"LARGE($E$2:$E$241,79)","v":1.6299999999999999E-3},163,0,79]
[null,{"$f":"wyniki!B100","v":0},{"$f":"wyniki!E100","v":0},8.0000000000000004E-4,8.0000000000000004E-4,{"$f":"wyniki!$A$98","v":0},null,null,null,0,{"$f":"LARGE($E$2:$E$241,80)","v":1.6199999999999999E-3},162,0,80]
[null,{"$f":"wyniki!B101","v":0},{"$f":"wyniki!E101","v":0},8.0999999999999996E-4,8.0999999999999996E-4,{"$f":"wyniki!$A$98","v":0},null,null,null,0,{"$f":"LARGE($E$2:$E$241,81)","v":1.6100000000000001E-3},161,0,81]
[null,{"$f":"wyniki!B102","v":0},{"$f":"wyniki!E102","v":0},8.1999999999999998E-4,8.1999999999999998E-4,{"$f":"wyniki!$A$98","v":0},null,null,null,0,{"$f":"LARGE($E$2:$E$241,82)","v":1.6000000000000001E-3},160,0,82]
[null,{"$f":"wyniki!B103","v":0},{"$f":"wyniki!E103","v":0},8.3000000000000001E-4,8.3000000000000001E-4,{"$f":"wyniki!$A$98","v":0},null,null,null,0,{"$f":"LARGE($E$2:$E$241,83)","v":1.5900000000000001E-3},159,0,83]
[null,{"$f":"wyniki!B104","v":0},{"$f":"wyniki!E104","v":0},8.4000000000000003E-4,8.4000000000000003E-4,{"$f":"wyniki!$A$98","v":0},null,null,null,0,{"$f":"LARGE($E$2:$E$241,84)","v":1.58E-3},158,0,84]
[null,{"$f":"wyniki!B106","v":0},{"$f":"wyniki!E106","v":0},8.4999999999999995E-4,8.4999999999999995E-4,{"$f":"wyniki!$A$105","v":0},null,null,null,0,{"$f":"LARGE($E$2:$E$241,85)","v":1.57E-3},157,0,85]
[null,{"$f":"wyniki!B107","v":0},{"$f":"wyniki!E107","v":0},8.5999999999999998E-4,8.5999999999999998E-4,{"$f":"wyniki!$A$105","v":0},null,null,null,0,{"$f":"LARGE($E$2:$E$241,86)","v":1.56E-3},156,0,86]
[null,{"$f":"wyniki!B108","v":0},{"$f":"wyniki!E108","v":0},8.7000000000000001E-4,8.7000000000000001E-4,{"$f":"wyniki!$A$105","v":0},null,null,null,0,{"$f":"LARGE($E$2:$E$241,87)","v":1.5499999999999999E-3},155,0,87]
[null,{"$f":"wyniki!B109","v":0},{"$f":"wyniki!E109","v":0},8.8000000000000003E-4,8.8000000000000003E-4,{"$f":"wyniki!$A$105","v":0},null,null,null,0,{"$f":"LARGE($E$2:$E$241,88)","v":1.5399999999999999E-3},154,0,88]
[null,{"$f":"wyniki!B110","v":0},{"$f":"wyniki!E110","v":0},8.8999999999999995E-4,8.8999999999999995E-4,{"$f":"wyniki!$A$105","v":0},null,null,null,0,{"$f":"LARGE($E$2:$E$241,89)","v":1.5299999999999999E-3},153,0,89]
[null,{"$f":"wyniki!B111","v":0},{"$f":"wyniki!E111","v":0},8.9999999999999998E-4,8.9999999999999998E-4,{"$f":"wyniki!$A$105","v":0},null,null,null,0,{"$f":"LARGE($E$2:$E$241,90)","v":1.5200000000000001E-3},152,0,90]
[null,{"$f":"wyniki!B113","v":0},{"$f":"wyniki!E113","v":0},9.1E-4,9.1E-4,{"$f":"wyniki!$A$112","v":0},null,null,null,0,{"$f":"LARGE($E$2:$E$241,91)","v":1.5100000000000001E-3},151,0,91]
[null,{"$f":"wyniki!B114","v":0},{"$f":"wyniki!E114","v":0},9.2000000000000003E-4,9.2000000000000003E-4,{"$f":"wyniki!$A$112","v":0},null,null,null,0,{"$f":"LARGE($E$2:$E$241,92)","v":1.5E-3},150,0,92]
[null,{"$f":"wyniki!B115","v":0},{"$f":"wyniki!E115","v":0},9.3000000000000005E-4,9.3000000000000005E-4,{"$f":"wyniki!$A$112","v":0},null,null,null,0,{"$f":"LARGE($E$2:$E$241,93)","v":1.49E-3},149,0,93]
[null,{"$f":"wyniki!B116","v":0},{"$f":"wyniki!E116","v":0},9.3999999999999997E-4,9.3999999999999997E-4,{"$f":"wyniki!$A$112","v":0},null,null,null,0,{"$f":"LARGE($E$2:$E$241,94)","v":1.48E-3},148,0,94]
[null,{"$f":"wyniki!B117","v":0},{"$f":"wyniki!E117","v":0},9.5E-4,9.5E-4,{"$f":"wyniki!$A$112","v":0},null,null,null,0,{"$f":"LARGE($E$2:$E$241,95)","v":1.47E-3},147,0,95]
[null,{"$f":"wyniki!B118","v":0},{"$f":"wyniki!E118","v":0},9.6000000000000002E-4,9.6000000000000002E-4,{"$f":"wyniki!$A$112","v":0},null,null,null,0,{"$f":"LARGE($E$2:$E$241,96)","v":1.4599999999999999E-3},146,0,96]
[null,{"$f":"wyniki!B120","v":0},{"$f":"wyniki!E120","v":0},9.7000000000000005E-4,9.7000000000000005E-4,{"$f":"wyniki!$A$119","v":0},null,null,null,0,{"$f":"LARGE($E$2:$E$241,97)","v":1.4499999999999999E-3},145,0,97]
[null,{"$f":"wyniki!B121","v":0},{"$f":"wyniki!E121","v":0},9.7999999999999997E-4,9.7999999999999997E-4,{"$f":"wyniki!$A$119","v":0},null,null,null,0,{"$f":"LARGE($E$2:$E$241,98)","v":1.4400000000000001E-3},144,0,98]
[null,{"$f":"wyniki!B122","v":0},{"$f":"wyniki!E122","v":0},9.8999999999999999E-4,9.8999999999999999E-4,{"$f":"wyniki!$A$119","v":0},null,null,null,0,{"$f":"LARGE($E$2:$E$241,99)","v":1.4300000000000001E-3},143,0,99]
[null,{"$f":"wyniki!B123","v":0},{"$f":"wyniki!E123","v":0},1E-3,1E-3,{"$f":"wyniki!$A$119","v":0},null,null,null,0,{"$f":"LARGE($E$2:$E$241,100)","v":1.42E-3},142,0,100]
[null,{"$f":"wyniki!B124","v":0},{"$f":"wyniki!E124","v":0},1.01E-3,1.01E-3,{"$f":"wyniki!$A$119","v":0},null,null,null,0,{"$f":"LARGE($E$2:$E$241,101)","v":1.41E-3},141,0,101]
[null,{"$f":"wyniki!B125","v":0},{"$f":"wyniki!E125","v":0},1.0200000000000001E-3,1.0200000000000001E-3,{"$f":"wyniki!$A$119","v":0},null,null,null,0,{"$f":"LARGE($E$2:$E$241,102)","v":1.4E-3},140,0,102]
[null,{"$f":"wyniki!B127","v":0},{"$f":"wyniki!E127","v":0},1.0300000000000001E-3,1.0300000000000001E-3,{"$f":"wyniki!$A$126","v":0},null,null,null,0,{"$f":"LARGE($E$2:$E$241,103)","v":1.39E-3},139,0,103]
[null,{"$f":"wyniki!B128","v":0},{"$f":"wyniki!E128","v":0},1.0399999999999999E-3,1.0399999999999999E-3,{"$f":"wyniki!$A$126","v":0},null,null,null,0,{"$f":"LARGE($E$2:$E$241,104)","v":1.3799999999999999E-3},138,0,104]
[null,{"$f":"wyniki!B129","v":0},{"$f":"wyniki!E129","v":0},1.0499999999999999E-3,1.0499999999999999E-3,{"$f":"wyniki!$A$126","v":0},null,null,null,0,{"$f":"LARGE($E$2:$E$241,105)","v":1.3699999999999999E-3},137,0,105]
[null,{"$f":"wyniki!B130","v":0},{"$f":"wyniki!E130","v":0},1.06E-3,1.06E-3,{"$f":"wyniki!$A$126","v":0},null,null,null,0,{"$f":"LARGE($E$2:$E$241,106)","v":1.3600000000000001E-3},136,0,106]
[null,{"$f":"wyniki!B131","v":0},{"$f":"wyniki!E131","v":0},1.07E-3,1.07E-3,{"$f":"wyniki!$A$126","v":0},null,null,null,0,{"$f":"LARGE($E$2:$E$241,107)","v":1.3500000000000001E-3},135,0,107]
[null,{"$f":"wyniki!B132","v":0},{"$f":"wyniki!E132","v":0},1.08E-3,1.08E-3,{"$f":"wyniki!$A$126","v":0},null,null,null,0,{"$f":"LARGE($E$2:$E$241,108)","v":1.34E-3},134,0,108]
[null,{"$f":"wyniki!B134","v":0},{"$f":"wyniki!E134","v":0},1.09E-3,1.09E-3,{"$f":"wyniki!$A$133","v":0},null,null,null,0,{"$f":"LARGE($E$2:$E$241,109)","v":1.33E-3},133,0,109]
[null,{"$f":"wyniki!B135","v":0},{"$f":"wyniki!E135","v":0},1.1000000000000001E-3,1.1000000000000001E-3,{"$f":"wyniki!$A$133","v":0},null,null,null,0,{"$f":"LARGE($E$2:$E$241,110)","v":1.32E-3},132,0,110]
[null,{"$f":"wyniki!B136","v":0},{"$f":"wyniki!E136","v":0},1.1100000000000001E-3,1.1100000000000001E-3,{"$f":"wyniki!$A$133","v":0},null,null,null,0,{"$f":"LARGE($E$2:$E$241,111)","v":1.31E-3},131,0,111]
[null,{"$f":"wyniki!B137","v":0},{"$f":"wyniki!E137","v":0},1.1199999999999999E-3,1.1199999999999999E-3,{"$f":"wyniki!$A$133","v":0},null,null,null,0,{"$f":"LARGE($E$2:$E$241,112)","v":1.2999999999999999E-3},130,0,112]
[null,{"$f":"wyniki!B138","v":0},{"$f":"wyniki!E138","v":0},1.1299999999999999E-3,1.1299999999999999E-3,{"$f":"wyniki!$A$133","v":0},null,null,null,0,{"$f":"LARGE($E$2:$E$241,113)","v":1.2899999999999999E-3},129,0,113]
[null,{"$f":"wyniki!B139","v":0},{"$f":"wyniki!E139","v":0},1.14E-3,1.14E-3,{"$f":"wyniki!$A$133","v":0},null,null,null,0,{"$f":"LARGE($E$2:$E$241,114)","v":1.2800000000000001E-3},128,0,114]
[null,{"$f":"wyniki!B141","v":0},{"$f":"wyniki!E141","v":0},1.15E-3,1.15E-3,{"$f":"wyniki!$A$140","v":0},null,null,null,0,{"$f":"LARGE($E$2:$E$241,115)","v":1.2700000000000001E-3},127,0,115]
[null,{"$f":"wyniki!B142","v":0},{"$f":"wyniki!E142","v":0},1.16E-3,1.16E-3,{"$f":"wyniki!$A$140","v":0},null,null,null,0,{"$f":"LARGE($E$2:$E$241,116)","v":1.2600000000000001E-3},126,0,116]
[null,{"$f":"wyniki!B143","v":0},{"$f":"wyniki!E143","v":0},1.17E-3,1.17E-3,{"$f":"wyniki!$A$140","v":0},null,null,null,0,{"$f":"LARGE($E$2:$E$241,117)","v":1.25E-3},125,0,117]
[null,{"$f":"wyniki!B144","v":0},{"$f":"wyniki!E144","v":0},1.1800000000000001E-3,1.1800000000000001E-3,{"$f":"wyniki!$A$140","v":0},null,null,null,0,{"$f":"LARGE($E$2:$E$241,118)","v":1.24E-3},124,0,118]
[null,{"$f":"wyniki!B145","v":0},{"$f":"wyniki!E145","v":0},1.1900000000000001E-3,1.1900000000000001E-3,{"$f":"wyniki!$A$140","v":0},null,null,null,0,{"$f":"LARGE($E$2:$E$241,119)","v":1.23E-3},123,0,119]
[null,{"$f":"wyniki!B146","v":0},{"$f":"wyniki!E146","v":0},1.1999999999999999E-3,1.1999999999999999E-3,{"$f":"wyniki!$A$140","v":0},null,null,null,0,{"$f":"LARGE($E$2:$E$241,120)","v":1.2199999999999999E-3},122,0,120]
[null,{"$f":"wyniki!B148","v":0},{"$f":"wyniki!E148","v":0},1.2099999999999999E-3,1.2099999999999999E-3,{"$f":"wyniki!$A$147","v":0},null,null,null,0,{"$f":"LARGE($E$2:$E$241,121)","v":1.2099999999999999E-3},121,0,121]
[null,{"$f":"wyniki!B149","v":0},{"$f":"wyniki!E149","v":0},1.2199999999999999E-3,1.2199999999999999E-3,{"$f":"wyniki!$A$147","v":0},null,null,null,0,{"$f":"LARGE($E$2:$E$241,122)","v":1.1999999999999999E-3},120,0,122]
[null,{"$f":"wyniki!B150","v":0},{"$f":"wyniki!E150","v":0},1.23E-3,1.23E-3,{"$f":"wyniki!$A$147","v":0},null,null,null,0,{"$f":"LARGE($E$2:$E$241,123)","v":1.1900000000000001E-3},119,0,123]
[null,{"$f":"wyniki!B151","v":0},{"$f":"wyniki!E151","v":0},1.24E-3,1.24E-3,{"$f":"wyniki!$A$147","v":0},null,null,null,0,{"$f":"LARGE($E$2:$E$241,124)","v":1.1800000000000001E-3},118,0,124]
[null,{"$f":"wyniki!B152","v":0},{"$f":"wyniki!E152","v":0},1.25E-3,1.25E-3,{"$f":"wyniki!$A$147","v":0},null,null,null,0,{"$f":"LARGE($E$2:$E$241,125)","v":1.17E-3},117,0,125]
[null,{"$f":"wyniki!B153","v":0},{"$f":"wyniki!E153","v":0},1.2600000000000001E-3,1.2600000000000001E-3,{"$f":"wyniki!$A$147","v":0},null,null,null,0,{"$f":"LARGE($E$2:$E$241,126)","v":1.16E-3},116,0,126]
[null,{"$f":"wyniki!B155","v":0},{"$f":"wyniki!E155","v":0},1.2700000000000001E-3,1.2700000000000001E-3,{"$f":"wyniki!$A$154","v":0},null,null,null,0,{"$f":"LARGE($E$2:$E$241,127)","v":1.15E-3},115,0,127]
[null,{"$f":"wyniki!B156","v":0},{"$f":"wyniki!E156","v":0},1.2800000000000001E-3,1.2800000000000001E-3,{"$f":"wyniki!$A$154","v":0},null,null,null,0,{"$f":"LARGE($E$2:$E$241,128)","v":1.14E-3},114,0,128]
[null,{"$f":"wyniki!B157","v":0},{"$f":"wyniki!E157","v":0},1.2899999999999999E-3,1.2899999999999999E-3,{"$f":"wyniki!$A$154","v":0},null,null,null,0,{"$f":"LARGE($E$2:$E$241,129)","v":1.1299999999999999E-3},113,0,129]
[null,{"$f":"wyniki!B158","v":0},{"$f":"wyniki!E158","v":0},1.2999999999999999E-3,{"$f":"C131+D131","v":1.2999999999999999E-3},{"$f":"wyniki!$A$154","v":0},null,null,null,{"$f":"INDEX($B$2:$E$241,L131,1)","v":0},{"$f":"LARGE($E$2:$E$241,130)","v":1.1199999999999999E-3},{"$f":"MATCH(K131,$E$2:$E$241,0)","v":112},{"$f":"INDEX($E$2:$F$241,L131,2)","v":0},130]
[null,{"$f":"wyniki!B159","v":0},{"$f":"wyniki!E159","v":0},1.31E-3,1.31E-3,{"$f":"wyniki!$A$154","v":0},null,null,null,0,{"$f":"LARGE($E$2:$E$241,131)","v":1.1100000000000001E-3},111,0,131]
[null,{"$f":"wyniki!B160","v":0},{"$f":"wyniki!E160","v":0},1.32E-3,1.32E-3,{"$f":"wyniki!$A$154","v":0},null,null,null,0,{"$f":"LARGE($E$2:$E$241,132)","v":1.1000000000000001E-3},110,0,132]
[null,{"$f":"wyniki!B162","v":0},{"$f":"wyniki!E162","v":0},1.33E-3,1.33E-3,{"$f":"wyniki!$A$161","v":0},null,null,null,0,{"$f":"LARGE($E$2:$E$241,133)","v":1.09E-3},109,0,133]
[null,{"$f":"wyniki!B163","v":0},{"$f":"wyniki!E163","v":0},1.34E-3,1.34E-3,{"$f":"wyniki!$A$161","v":0},null,null,null,0,{"$f":"LARGE($E$2:$E$241,134)","v":1.08E-3},108,0,134]
[null,{"$f":"wyniki!B164","v":0},{"$f":"wyniki!E164","v":0},1.3500000000000001E-3,1.3500000000000001E-3,{"$f":"wyniki!$A$161","v":0},null,null,null,0,{"$f":"LARGE($E$2:$E$241,135)","v":1.07E-3},107,0,135]
[null,{"$f":"wyniki!B165","v":0},{"$f":"wyniki!E165","v":0},1.3600000000000001E-3,1.3600000000000001E-3,{"$f":"wyniki!$A$161","v":0},null,null,null,0,{"$f":"LARGE($E$2:$E$241,136)","v":1.06E-3},106,0,136]
[null,{"$f":"wyniki!B166","v":0},{"$f":"wyniki!E166","v":0},1.3699999999999999E-3,1.3699999999999999E-3,{"$f":"wyniki!$A$161","v":0},null,null,null,0,{"$f":"LARGE($E$2:$E$241,137)","v":1.0499999999999999E-3},105,0,137]
[null,{"$f":"wyniki!B167","v":0},{"$f":"wyniki!E167","v":0},1.3799999999999999E-3,1.3799999999999999E-3,{"$f":"wyniki!$A$161","v":0},null,null,null,0,{"$f":"LARGE($E$2:$E$241,138)","v":1.0399999999999999E-3},104,0,138]
[null,{"$f":"wyniki!B169","v":0},{"$f":"wyniki!E169","v":0},1.39E-3,1.39E-3,{"$f":"wyniki!$A$168","v":0},null,null,null,0,{"$f":"LARGE($E$2:$E$241,139)","v":1.0300000000000001E-3},103,0,139]
[null,{"$f":"wyniki!B170","v":0},{"$f":"wyniki!E170","v":0},1.4E-3,1.4E-3,{"$f":"wyniki!$A$168","v":0},null,null,null,0,{"$f":"LARGE($E$2:$E$241,140)","v":1.0200000000000001E-3},102,0,140]
[null,{"$f":"wyniki!B171","v":0},{"$f":"wyniki!E171","v":0},1.41E-3,1.41E-3,{"$f":"wyniki!$A$168","v":0},null,null,null,0,{"$f":"LARGE($E$2:$E$241,141)","v":1.01E-3},101,0,141]
[null,{"$f":"wyniki!B172","v":0},{"$f":"wyniki!E172","v":0},1.42E-3,1.42E-3,{"$f":"wyniki!$A$168","v":0},null,null,null,0,{"$f":"LARGE($E$2:$E$241,142)","v":1E-3},100,0,142]
[null,{"$f":"wyniki!B173","v":0},{"$f":"wyniki!E173","v":0},1.4300000000000001E-3,1.4300000000000001E-3,{"$f":"wyniki!$A$168","v":0},null,null,null,0,{"$f":"LARGE($E$2:$E$241,143)","v":9.8999999999999999E-4},99,0,143]
[null,{"$f":"wyniki!B174","v":0},{"$f":"wyniki!E174","v":0},1.4400000000000001E-3,1.4400000000000001E-3,{"$f":"wyniki!$A$168","v":0},null,null,null,0,{"$f":"LARGE($E$2:$E$241,144)","v":9.7999999999999997E-4},98,0,144]
[null,{"$f":"wyniki!B176","v":0},{"$f":"wyniki!E176","v":0},1.4499999999999999E-3,1.4499999999999999E-3,{"$f":"wyniki!$A$175","v":0},null,null,null,0,{"$f":"LARGE($E$2:$E$241,145)","v":9.7000000000000005E-4},97,0,145]
[null,{"$f":"wyniki!B177","v":0},{"$f":"wyniki!E177","v":0},1.4599999999999999E-3,1.4599999999999999E-3,{"$f":"wyniki!$A$175","v":0},null,null,null,0,{"$f":"LARGE($E$2:$E$241,146)","v":9.6000000000000002E-4},96,0,146]
[null,{"$f":"wyniki!B178","v":0},{"$f":"wyniki!E178","v":0},1.47E-3,1.47E-3,{"$f":"wyniki!$A$175","v":0},null,null,null,0,{"$f":"LARGE($E$2:$E$241,147)","v":9.5E-4},95,0,147]
[null,{"$f":"wyniki!B179","v":0},{"$f":"wyniki!E179","v":0},1.48E-3,1.48E-3,{"$f":"wyniki!$A$175","v":0},null,null,null,0,{"$f":"LARGE($E$2:$E$241,148)","v":9.3999999999999997E-4},94,0,148]
[null,{"$f":"wyniki!B180","v":0},{"$f":"wyniki!E180","v":0},1.49E-3,1.49E-3,{"$f":"wyniki!$A$175","v":0},null,null,null,0,{"$f":"LARGE($E$2:$E$241,149)","v":9.3000000000000005E-4},93,0,149]
[null,{"$f":"wyniki!B181","v":0},{"$f":"wyniki!E181","v":0},1.5E-3,1.5E-3,{"$f":"wyniki!$A$175","v":0},null,null,null,0,{"$f":"LARGE($E$2:$E$241,150)","v":9.2000000000000003E-4},92,0,150]
[null,{"$f":"wyniki!B183","v":0},{"$f":"wyniki!E183","v":0},1.5100000000000001E-3,1.5100000000000001E-3,{"$f":"wyniki!$A$182","v":0},null,null,null,0,{"$f":"LARGE($E$2:$E$241,151)","v":9.1E-4},91,0,151]
[null,{"$f":"wyniki!B184","v":0},{"$f":"wyniki!E184","v":0},1.5200000000000001E-3,1.5200000000000001E-3,{"$f":"wyniki!$A$182","v":0},null,null,null,0,{"$f":"LARGE($E$2:$E$241,152)","v":8.9999999999999998E-4},90,0,152]
[null,{"$f":"wyniki!B185","v":0},{"$f":"wyniki!E185","v":0},1.5299999999999999E-3,1.5299999999999999E-3,{"$f":"wyniki!$A$182","v":0},null,null,null,0,{"$f":"LARGE($E$2:$E$241,153)","v":8.8999999999999995E-4},89,0,153]
[null,{"$f":"wyniki!B186","v":0},{"$f":"wyniki!E186","v":0},1.5399999999999999E-3,1.5399999999999999E-3,{"$f":"wyniki!$A$182","v":0},null,null,null,0,{"$f":"LARGE($E$2:$E$241,154)","v":8.8000000000000003E-4},88,0,154]
[null,{"$f":"wyniki!B187","v":0},{"$f":"wyniki!E187","v":0},1.5499999999999999E-3,1.5499999999999999E-3,{"$f":"wyniki!$A$182","v":0},null,null,null,0,{"$f":"LARGE($E$2:$E$241,155)","v":8.7000000000000001E-4},87,0,155]
[null,{"$f":"wyniki!B188","v":0},{"$f":"wyniki!E188","v":0},1.56E-3,1.56E-3,{"$f":"wyniki!$A$182","v":0},null,null,null,0,{"$f":"LARGE($E$2:$E$241,156)","v":8.5999999999999998E-4},86,0,156]
[null,{"$f":"wyniki!B190","v":0},{"$f":"wyniki!E190","v":0},1.57E-3,1.57E-3,{"$f":"wyniki!$A$189","v":0},null,null,null,0,{"$f":"LARGE($E$2:$E$241,157)","v":8.4999999999999995E-4},85,0,157]
[null,{"$f":"wyniki!B191","v":0},{"$f":"wyniki!E191","v":0},1.58E-3,1.58E-3,{"$f":"wyniki!$A$189","v":0},null,null,null,0,{"$f":"LARGE($E$2:$E$241,158)","v":8.4000000000000003E-4},84,0,158]
[null,{"$f":"wyniki!B192","v":0},{"$f":"wyniki!E192","v":0},1.5900000000000001E-3,1.5900000000000001E-3,{"$f":"wyniki!$A$189","v":0},null,null,null,0,{"$f":"LARGE($E$2:$E$241,159)","v":8.3000000000000001E-4},83,0,159]
[null,{"$f":"wyniki!B193","v":0},{"$f":"wyniki!E193","v":0},1.6000000000000001E-3,1.6000000000000001E-3,{"$f":"wyniki!$A$189","v":0},null,null,null,0,{"$f":"LARGE($E$2:$E$241,160)","v":8.1999999999999998E-4},82,0,160]
[null,{"$f":"wyniki!B194","v":0},{"$f":"wyniki!E194","v":0},1.6100000000000001E-3,1.6100000000000001E-3,{"$f":"wyniki!$A$189","v":0},null,null,null,0,{"$f":"LARGE($E$2:$E$241,161)","v":8.0999999999999996E-4},81,0,161]
[null,{"$f":"wyniki!B195","v":0},{"$f":"wyniki!E195","v":0},1.6199999999999999E-3,1.6199999999999999E-3,{"$f":"wyniki!$A$189","v":0},null,null,null,0,{"$f":"LARGE($E$2:$E$241,162)","v":8.0000000000000004E-4},80,0,162]
[null,{"$f":"wyniki!B197","v":0},{"$f":"wyniki!E197","v":0},1.6299999999999999E-3,1.6299999999999999E-3,{"$f":"wyniki!$A$196","v":0},null,null,null,0,{"$f":"LARGE($E$2:$E$241,163)","v":7.9000000000000001E-4},79,0,163]
[null,{"$f":"wyniki!B198","v":0},{"$f":"wyniki!E198","v":0},1.64E-3,1.64E-3,{"$f":"wyniki!$A$196","v":0},null,null,null,0,{"$f":"LARGE($E$2:$E$241,164)","v":7.7999999999999999E-4},78,0,164]
[null,{"$f":"wyniki!B199","v":0},{"$f":"wyniki!E199","v":0},1.65E-3,1.65E-3,{"$f":"wyniki!$A$196","v":0},null,null,null,0,{"$f":"LARGE($E$2:$E$241,165)","v":7.6999999999999996E-4},77,0,165]
[null,{"$f":"wyniki!B200","v":0},{"$f":"wyniki!E200","v":0},1.66E-3,1.66E-3,{"$f":"wyniki!$A$196","v":0},null,null,null,0,{"$f":"LARGE($E$2:$E$241,166)","v":7.6000000000000004E-4},76,0,166]
[null,{"$f":"wyniki!B201","v":0},{"$f":"wyniki!E201","v":0},1.67E-3,1.67E-3,{"$f":"wyniki!$A$196","v":0},null,null,null,0,{"$f":"LARGE($E$2:$E$241,167)","v":7.5000000000000002E-4},75,0,167]
[null,{"$f":"wyniki!B202","v":0},{"$f":"wyniki!E202","v":0},1.6800000000000001E-3,1.6800000000000001E-3,{"$f":"wyniki!$A$196","v":0},null,null,null,0,{"$f":"LARGE($E$2:$E$241,168)","v":7.3999999999999999E-4},74,0,168]
[null,{"$f":"wyniki!B204","v":0},{"$f":"wyniki!E204","v":0},1.6900000000000001E-3,1.6900000000000001E-3,{"$f":"wyniki!$A$203","v":0},null,null,null,0,{"$f":"LARGE($E$2:$E$241,169)","v":7.2999999999999996E-4},73,0,169]
[null,{"$f":"wyniki!B205","v":0},{"$f":"wyniki!E205","v":0},1.6999999999999999E-3,1.6999999999999999E-3,{"$f":"wyniki!$A$203","v":0},null,null,null,0,{"$f":"LARGE($E$2:$E$241,170)","v":7.2000000000000005E-4},72,0,170]
[null,{"$f":"wyniki!B206","v":0},{"$f":"wyniki!E206","v":0},1.7099999999999999E-3,1.7099999999999999E-3,{"$f":"wyniki!$A$203","v":0},null,null,null,0,{"$f":"LARGE($E$2:$E$241,171)","v":7.1000000000000002E-4},71,0,171]
[null,{"$f":"wyniki!B207","v":0},{"$f":"wyniki!E207","v":0},1.72E-3,1.72E-3,{"$f":"wyniki!$A$203","v":0},null,null,null,0,{"$f":"LARGE($E$2:$E$241,172)","v":6.9999999999999999E-4},70,0,172]
[null,{"$f":"wyniki!B208","v":0},{"$f":"wyniki!E208","v":0},1.73E-3,1.73E-3,{"$f":"wyniki!$A$203","v":0},null,null,null,0,{"$f":"LARGE($E$2:$E$241,173)","v":6.8999999999999997E-4},69,0,173]
[null,{"$f":"wyniki!B209","v":0},{"$f":"wyniki!E209","v":0},1.74E-3,1.74E-3,{"$f":"wyniki!$A$203","v":0},null,null,null,0,{"$f":"LARGE($E$2:$E$241,174)","v":6.8000000000000005E-4},68,0,174]
[null,{"$f":"wyniki!B211","v":0},{"$f":"wyniki!E211","v":0},1.75E-3,1.75E-3,{"$f":"wyniki!$A$210","v":0},null,null,null,0,{"$f":"LARGE($E$2:$E$241,175)","v":6.7000000000000002E-4},67,0,175]
[null,{"$f":"wyniki!B212","v":0},{"$f":"wyniki!E212","v":0},1.7600000000000001E-3,1.7600000000000001E-3,{"$f":"wyniki!$A$210","v":0},null,null,null,0,{"$f":"LARGE($E$2:$E$241,176)","v":6.6E-4},66,0,176]
[null,{"$f":"wyniki!B213","v":0},{"$f":"wyniki!E213","v":0},1.7700000000000001E-3,1.7700000000000001E-3,{"$f":"wyniki!$A$210","v":0},null,null,null,0,{"$f":"LARGE($E$2:$E$241,177)","v":6.4999999999999997E-4},65,0,177]
[null,{"$f":"wyniki!B214","v":0},{"$f":"wyniki!E214","v":0},1.7799999999999999E-3,1.7799999999999999E-3,{"$f":"wyniki!$A$210","v":0},null,null,null,0,{"$f":"LARGE($E$2:$E$241,178)","v":6.4000000000000005E-4},64,0,178]
[null,{"$f":"wyniki!B215","v":0},{"$f":"wyniki!E215","v":0},1.7899999999999999E-3,1.7899999999999999E-3,{"$f":"wyniki!$A$210","v":0},null,null,null,0,{"$f":"LARGE($E$2:$E$241,179)","v":6.3000000000000003E-4},63,0,179]
[null,{"$f":"wyniki!B216","v":0},{"$f":"wyniki!E216","v":0},1.8E-3,1.8E-3,{"$f":"wyniki!$A$210","v":0},null,null,null,0,{"$f":"LARGE($E$2:$E$241,180)","v":6.2E-4},62,0,180]
[null,{"$f":"wyniki!B218","v":0},{"$f":"wyniki!E218","v":0},1.81E-3,1.81E-3,{"$f":"wyniki!$A$217","v":0},null,null,null,0,{"$f":"LARGE($E$2:$E$241,181)","v":6.0999999999999997E-4},61,0,181]
[null,{"$f":"wyniki!B219","v":0},{"$f":"wyniki!E219","v":0},1.82E-3,1.82E-3,{"$f":"wyniki!$A$217","v":0},null,null,null,0,{"$f":"LARGE($E$2:$E$241,182)","v":5.9999999999999995E-4},60,0,182]
[null,{"$f":"wyniki!B220","v":0},{"$f":"wyniki!E220","v":0},1.83E-3,1.83E-3,{"$f":"wyniki!$A$217","v":0},null,null,null,0,{"$f":"LARGE($E$2:$E$241,183)","v":5.9000000000000003E-4},59,0,183]
[null,{"$f":"wyniki!B221","v":0},{"$f":"wyniki!E221","v":0},1.8400000000000001E-3,1.8400000000000001E-3,{"$f":"wyniki!$A$217","v":0},null,null,null,0,{"$f":"LARGE($E$2:$E$241,184)","v":5.8E-4},58,0,184]
[null,{"$f":"wyniki!B222","v":0},{"$f":"wyniki!E222","v":0},1.8500000000000001E-3,1.8500000000000001E-3,{"$f":"wyniki!$A$217","v":0},null,null,null,0,{"$f":"LARGE($E$2:$E$241,185)","v":5.6999999999999998E-4},57,0,185]
[null,{"$f":"wyniki!B223","v":0},{"$f":"wyniki!E223","v":0},1.8600000000000001E-3,1.8600000000000001E-3,{"$f":"wyniki!$A$217","v":0},null,null,null,0,{"$f":"LARGE($E$2:$E$241,186)","v":5.5999999999999995E-4},56,0,186]
[null,{"$f":"wyniki!B225","v":0},{"$f":"wyniki!E225","v":0},1.8699999999999999E-3,1.8699999999999999E-3,{"$f":"wyniki!$A$224","v":0},null,null,null,0,{"$f":"LARGE($E$2:$E$241,187)","v":5.5000000000000003E-4},55,0,187]
[null,{"$f":"wyniki!B226","v":0},{"$f":"wyniki!E226","v":0},1.8799999999999999E-3,1.8799999999999999E-3,{"$f":"wyniki!$A$224","v":0},null,null,null,0,{"$f":"LARGE($E$2:$E$241,188)","v":5.4000000000000001E-4},54,0,188]
[null,{"$f":"wyniki!B227","v":0},{"$f":"wyniki!E227","v":0},1.89E-3,1.89E-3,{"$f":"wyniki!$A$224","v":0},null,null,null,0,{"$f":"LARGE($E$2:$E$241,189)","v":5.2999999999999998E-4},53,0,189]
[null,{"$f":"wyniki!B228","v":0},{"$f":"wyniki!E228","v":0},1.9E-3,1.9E-3,{"$f":"wyniki!$A$224","v":0},null,null,null,0,{"$f":"LARGE($E$2:$E$241,190)","v":5.1999999999999995E-4},52,0,190]
[null,{"$f":"wyniki!B229","v":0},{"$f":"wyniki!E229","v":0},1.91E-3,1.91E-3,{"$f":"wyniki!$A$224","v":0},null,null,null,0,{"$f":"LARGE($E$2:$E$241,191)","v":5.1000000000000004E-4},51,0,191]
[null,{"$f":"wyniki!B230","v":0},{"$f":"wyniki!E230","v":0},1.92E-3,1.92E-3,{"$f":"wyniki!$A$224","v":0},null,null,null,0,{"$f":"LARGE($E$2:$E$241,192)","v":5.0000000000000001E-4},50,0,192]
[null,{"$f":"wyniki!B232","v":0},{"$f":"wyniki!E232","v":0},1.9300000000000001E-3,1.9300000000000001E-3,{"$f":"wyniki!$A$231","v":0},null,null,null,0,{"$f":"LARGE($E$2:$E$241,193)","v":4.8999999999999998E-4},49,0,193]
[null,{"$f":"wyniki!B233","v":0},{"$f":"wyniki!E233","v":0},1.9400000000000001E-3,{"$f":"C195+D195","v":1.9400000000000001E-3},{"$f":"wyniki!$A$231","v":0},null,null,null,{"$f":"INDEX($B$2:$E$241,L195,1)","v":0},{"$f":"LARGE($E$2:$E$241,194)","v":4.8000000000000001E-4},{"$f":"MATCH(K195,$E$2:$E$241,0)","v":48},{"$f":"INDEX($E$2:$F$241,L195,2)","v":0},194]
[null,{"$f":"wyniki!B234","v":0},{"$f":"wyniki!E234","v":0},1.9499999999999999E-3,1.9499999999999999E-3,{"$f":"wyniki!$A$231","v":0},null,null,null,0,{"$f":"LARGE($E$2:$E$241,195)","v":4.6999999999999999E-4},47,0,195]
[null,{"$f":"wyniki!B235","v":0},{"$f":"wyniki!E235","v":0},1.9599999999999999E-3,1.9599999999999999E-3,{"$f":"wyniki!$A$231","v":0},null,null,null,0,{"$f":"LARGE($E$2:$E$241,196)","v":4.6000000000000001E-4},46,0,196]
[null,{"$f":"wyniki!B236","v":0},{"$f":"wyniki!E236","v":0},1.97E-3,1.97E-3,{"$f":"wyniki!$A$231","v":0},null,null,null,0,{"$f":"LARGE($E$2:$E$241,197)","v":4.4999999999999999E-4},45,0,197]
[null,{"$f":"wyniki!B237","v":0},{"$f":"wyniki!E237","v":0},1.98E-3,1.98E-3,{"$f":"wyniki!$A$231","v":0},null,null,null,0,{"$f":"LARGE($E$2:$E$241,198)","v":4.4000000000000002E-4},44,0,198]
[null,{"$f":"wyniki!B239","v":0},{"$f":"wyniki!E239","v":0},1.99E-3,1.99E-3,{"$f":"wyniki!$A$238","v":0},null,null,null,0,{"$f":"LARGE($E$2:$E$241,199)","v":4.2999999999999999E-4},43,0,199]
[null,{"$f":"wyniki!B240","v":0},{"$f":"wyniki!E240","v":0},2E-3,2E-3,{"$f":"wyniki!$A$238","v":0},null,null,null,0,{"$f":"LARGE($E$2:$E$241,200)","v":4.2000000000000002E-4},42,0,200]
[null,{"$f":"wyniki!B241","v":0},{"$f":"wyniki!E241","v":0},2.0100000000000001E-3,2.0100000000000001E-3,{"$f":"wyniki!$A$238","v":0},null,null,null,0,{"$f":"LARGE($E$2:$E$241,201)","v":4.0999999999999999E-4},41,0,201]
[null,{"$f":"wyniki!B242","v":0},{"$f":"wyniki!E242","v":0},2.0200000000000001E-3,2.0200000000000001E-3,{"$f":"wyniki!$A$238","v":0},null,null,null,0,{"$f":"LARGE($E$2:$E$241,202)","v":4.0000000000000002E-4},40,0,202]
[null,{"$f":"wyniki!B243","v":0},{"$f":"wyniki!E243","v":0},2.0300000000000001E-3,2.0300000000000001E-3,{"$f":"wyniki!$A$238","v":0},null,null,null,0,{"$f":"LARGE($E$2:$E$241,203)","v":3.8999999999999999E-4},39,0,203]
[null,{"$f":"wyniki!B244","v":0},{"$f":"wyniki!E244","v":0},2.0400000000000001E-3,2.0400000000000001E-3,{"$f":"wyniki!$A$238","v":0},null,null,null,0,{"$f":"LARGE($E$2:$E$241,204)","v":3.8000000000000002E-4},38,0,204]
[null,{"$f":"wyniki!B246","v":0},{"$f":"wyniki!E246","v":0},2.0500000000000002E-3,2.0500000000000002E-3,{"$f":"wyniki!$A$245","v":0},null,null,null,0,{"$f":"LARGE($E$2:$E$241,205)","v":3.6999999999999999E-4},37,0,205]
[null,{"$f":"wyniki!B247","v":0},{"$f":"wyniki!E247","v":0},2.0600000000000002E-3,2.0600000000000002E-3,{"$f":"wyniki!$A$245","v":0},null,null,null,0,{"$f":"LARGE($E$2:$E$241,206)","v":3.6000000000000002E-4},36,0,206]
[null,{"$f":"wyniki!B248","v":0},{"$f":"wyniki!E248","v":0},2.0699999999999998E-3,2.0699999999999998E-3,{"$f":"wyniki!$A$245","v":0},null,null,null,0,{"$f":"LARGE($E$2:$E$241,207)","v":3.5E-4},35,0,207]
[null,{"$f":"wyniki!B249","v":0},{"$f":"wyniki!E249","v":0},2.0799999999999998E-3,2.0799999999999998E-3,{"$f":"wyniki!$A$245","v":0},null,null,null,0,{"$f":"LARGE($E$2:$E$241,208)","v":3.4000000000000002E-4},34,0,208]
[null,{"$f":"wyniki!B250","v":0},{"$f":"wyniki!E250","v":0},2.0899999999999998E-3,2.0899999999999998E-3,{"$f":"wyniki!$A$245","v":0},null,null,null,0,{"$f":"LARGE($E$2:$E$241,209)","v":3.3E-4},33,0,209]
[null,{"$f":"wyniki!B251","v":0},{"$f":"wyniki!E251","v":0},2.0999999999999999E-3,2.0999999999999999E-3,{"$f":"wyniki!$A$245","v":0},null,null,null,0,{"$f":"LARGE($E$2:$E$241,210)","v":3.2000000000000003E-4},32,0,210]
[null,{"$f":"wyniki!B253","v":0},{"$f":"wyniki!E253","v":0},2.1099999999999999E-3,2.1099999999999999E-3,{"$f":"wyniki!$A$252","v":0},null,null,null,0,{"$f":"LARGE($E$2:$E$241,211)","v":3.1E-4},31,0,211]
[null,{"$f":"wyniki!B254","v":0},{"$f":"wyniki!E254","v":0},2.1199999999999999E-3,2.1199999999999999E-3,{"$f":"wyniki!$A$252","v":0},null,null,null,0,{"$f":"LARGE($E$2:$E$241,212)","v":2.9999999999999997E-4},30,0,212]
[null,{"$f":"wyniki!B255","v":0},{"$f":"wyniki!E255","v":0},2.1299999999999999E-3,2.1299999999999999E-3,{"$f":"wyniki!$A$252","v":0},null,null,null,0,{"$f":"LARGE($E$2:$E$241,213)","v":2.9E-4},29,0,213]
[null,{"$f":"wyniki!B256","v":0},{"$f":"wyniki!E256","v":0},2.14E-3,2.14E-3,{"$f":"wyniki!$A$252","v":0},null,null,null,0,{"$f":"LARGE($E$2:$E$241,214)","v":2.7999999999999998E-4},28,0,214]
[null,{"$f":"wyniki!B257","v":0},{"$f":"wyniki!E257","v":0},2.15E-3,2.15E-3,{"$f":"wyniki!$A$252","v":0},null,null,null,0,{"$f":"LARGE($E$2:$E$241,215)","v":2.7E-4},27,0,215]
[null,{"$f":"wyniki!B258","v":0},{"$f":"wyniki!E258","v":0},2.16E-3,2.16E-3,{"$f":"wyniki!$A$252","v":0},null,null,null,0,{"$f":"LARGE($E$2:$E$241,216)","v":2.5999999999999998E-4},26,0,216]
[null,{"$f":"wyniki!B260","v":0},{"$f":"wyniki!E260","v":0},2.1700000000000001E-3,2.1700000000000001E-3,{"$f":"wyniki!$A$259","v":0},null,null,null,0,{"$f":"LARGE($E$2:$E$241,217)","v":2.5000000000000001E-4},25,0,217]
[null,{"$f":"wyniki!B261","v":0},{"$f":"wyniki!E261","v":0},2.1800000000000001E-3,2.1800000000000001E-3,{"$f":"wyniki!$A$259","v":0},null,null,null,0,{"$f":"LARGE($E$2:$E$241,218)","v":2.4000000000000001E-4},24,0,218]
[null,{"$f":"wyniki!B262","v":0},{"$f":"wyniki!E262","v":0},2.1900000000000001E-3,2.1900000000000001E-3,{"$f":"wyniki!$A$259","v":0},null,null,null,0,{"$f":"LARGE($E$2:$E$241,219)","v":2.3000000000000001E-4},23,0,219]
[null,{"$f":"wyniki!B263","v":0},{"$f":"wyniki!E263","v":0},2.2000000000000001E-3,2.2000000000000001E-3,{"$f":"wyniki!$A$259","v":0},null,null,null,0,{"$f":"LARGE($E$2:$E$241,220)","v":2.2000000000000001E-4},22,0,220]
[null,{"$f":"wyniki!B264","v":0},{"$f":"wyniki!E264","v":0},2.2100000000000002E-3,2.2100000000000002E-3,{"$f":"wyniki!$A$259","v":0},null,null,null,0,{"$f":"LARGE($E$2:$E$241,221)","v":2.1000000000000001E-4},21,0,221]
[null,{"$f":"wyniki!B265","v":0},{"$f":"wyniki!E265","v":0},2.2200000000000002E-3,2.2200000000000002E-3,{"$f":"wyniki!$A$259","v":0},null,null,null,0,{"$f":"LARGE($E$2:$E$241,222)","v":2.0000000000000001E-4},20,0,222]
[null,{"$f":"wyniki!B267","v":0},{"$f":"wyniki!E267","v":0},2.2300000000000002E-3,2.2300000000000002E-3,{"$f":"wyniki!$A$266","v":0},null,null,null,0,{"$f":"LARGE($E$2:$E$241,223)","v":1.9000000000000001E-4},19,0,223]
[null,{"$f":"wyniki!B268","v":0},{"$f":"wyniki!E268","v":0},2.2399999999999998E-3,2.2399999999999998E-3,{"$f":"wyniki!$A$266","v":0},null,null,null,0,{"$f":"LARGE($E$2:$E$241,224)","v":1.8000000000000001E-4},18,0,224]
[null,{"$f":"wyniki!B269","v":0},{"$f":"wyniki!E269","v":0},2.2499999999999998E-3,2.2499999999999998E-3,{"$f":"wyniki!$A$266","v":0},null,null,null,0,{"$f":"LARGE($E$2:$E$241,225)","v":1.7000000000000001E-4},17,0,225]
[null,{"$f":"wyniki!B270","v":0},{"$f":"wyniki!E270","v":0},2.2599999999999999E-3,2.2599999999999999E-3,{"$f":"wyniki!$A$266","v":0},null,null,null,0,{"$f":"LARGE($E$2:$E$241,226)","v":1.6000000000000001E-4},16,0,226]
[null,{"$f":"wyniki!B271","v":0},{"$f":"wyniki!E271","v":0},2.2699999999999999E-3,2.2699999999999999E-3,{"$f":"wyniki!$A$266","v":0},null,null,null,0,{"$f":"LARGE($E$2:$E$241,227)","v":1.4999999999999999E-4},15,0,227]
[null,{"$f":"wyniki!B272","v":0},{"$f":"wyniki!E272","v":0},2.2799999999999999E-3,2.2799999999999999E-3,{"$f":"wyniki!$A$266","v":0},null,null,null,0,{"$f":"LARGE($E$2:$E$241,228)","v":1.3999999999999999E-4},14,0,228]
[null,{"$f":"wyniki!B274","v":0},{"$f":"wyniki!E274","v":0},2.2899999999999999E-3,2.2899999999999999E-3,{"$f":"wyniki!$A$273","v":0},null,null,null,0,{"$f":"LARGE($E$2:$E$241,229)","v":1.2999999999999999E-4},13,0,229]
[null,{"$f":"wyniki!B275","v":0},{"$f":"wyniki!E275","v":0},2.3E-3,2.3E-3,{"$f":"wyniki!$A$273","v":0},null,null,null,0,{"$f":"LARGE($E$2:$E$241,230)","v":1.2E-4},12,0,230]
[null,{"$f":"wyniki!B276","v":0},{"$f":"wyniki!E276","v":0},2.31E-3,2.31E-3,{"$f":"wyniki!$A$273","v":0},null,null,null,0,{"$f":"LARGE($E$2:$E$241,231)","v":1.1E-4},11,0,231]
[null,{"$f":"wyniki!B277","v":0},{"$f":"wyniki!E277","v":0},2.32E-3,2.32E-3,{"$f":"wyniki!$A$273","v":0},null,null,null,0,{"$f":"LARGE($E$2:$E$241,232)","v":1E-4},10,0,232]
[null,{"$f":"wyniki!B278","v":0},{"$f":"wyniki!E278","v":0},2.33E-3,2.33E-3,{"$f":"wyniki!$A$273","v":0},null,null,null,0,{"$f":"LARGE($E$2:$E$241,233)","v":9.0000000000000006E-5},9,0,233]
[null,{"$f":"wyniki!B279","v":0},{"$f":"wyniki!E279","v":0},2.3400000000000001E-3,2.3400000000000001E-3,{"$f":"wyniki!$A$273","v":0},null,null,null,0,{"$f":"LARGE($E$2:$E$241,234)","v":8.0000000000000007E-5},8,0,234]
[null,{"$f":"wyniki!B281","v":0},{"$f":"wyniki!E281","v":0},2.3500000000000001E-3,2.3500000000000001E-3,{"$f":"wyniki!$A$280","v":0},null,null,null,0,{"$f":"LARGE($E$2:$E$241,235)","v":6.9999999999999994E-5},7,0,235]
[null,{"$f":"wyniki!B282","v":0},{"$f":"wyniki!E282","v":0},2.3600000000000001E-3,2.3600000000000001E-3,{"$f":"wyniki!$A$280","v":0},null,null,null,0,{"$f":"LARGE($E$2:$E$241,236)","v":6.0000000000000002E-5},6,"SP 234 Kursk",236]
[null,{"$f":"wyniki!B283","v":0},{"$f":"wyniki!E283","v":0},2.3700000000000001E-3,2.3700000000000001E-3,{"$f":"wyniki!$A$280","v":0},null,null,null,"zawodnik 5",{"$f":"LARGE($E$2:$E$241,237)","v":5.0000000000000002E-5},5,"SP 234 Kursk",237]
[null,{"$f":"wyniki!B284","v":0},{"$f":"wyniki!E284","v":0},2.3800000000000002E-3,2.3800000000000002E-3,{"$f":"wyniki!$A$280","v":0},null,null,null,"zawodnik 4",{"$f":"LARGE($E$2:$E$241,238)","v":4.0000000000000003E-5},4,"SP 234 Kursk",238]
[null,{"$f":"wyniki!B285","v":0},{"$f":"wyniki!E285","v":0},2.3900000000000002E-3,2.3900000000000002E-3,{"$f":"wyniki!$A$280","v":0},null,null,null,"zawodnik 3",{"$f":"LARGE($E$2:$E$241,239)","v":3.0000000000000001E-5},3,"SP 234 Kursk",239]
[null,{"$f":"wyniki!B286","v":0},{"$f":"wyniki!E286","v":0},2.3999999999999998E-3,2.3999999999999998E-3,{"$f":"wyniki!$A$280","v":0},null,null,null,"zawodnik 2",{"$f":"LARGE($E$2:$E$241,240)","v":2.0000000000000002E-5},2,"SP 234 Kursk",240]

{"sheet":"wzwyż","index":4,"n_rows":241,"n_cols":14,"rows_kept":241,"cut":false,"hidden":true,"merged":[]}
[null,null,null,null,null,null,null,null,null,"Nazwisko/imię","Wynik",null,"Szkoła","Miejsce"]
[null,{"$f":"wyniki!B8","v":"zawodnik 1"},{"$f":"wyniki!G8","v":0},1.0000000000000001E-5,{"$f":"C2+D2","v":1.0000000000000001E-5},{"$f":"wyniki!$A$7","v":"SP 234 Kursk"},null,null,null,{"$f":"INDEX($B$2:$E$241,L2,1)","v":0},{"$f":"LARGE($E$2:$E$241,1)","v":2.3999999999999998E-3},{"$f":"MATCH(K2,$E$2:$E$241,0)","v":240},{"$f":"INDEX($E$2:$F$241,L2,2)","v":0},1]
[null,{"$f":"wyniki!B9","v":"zawodnik 2"},{"$f":"wyniki!G9","v":0},2.0000000000000002E-5,{"$f":"C3+D3","v":2.0000000000000002E-5},{"$f":"wyniki!$A$7","v":"SP 234 Kursk"},null,null,null,{"$f":"INDEX($B$2:$E$241,L3,1)","v":0},{"$f":"LARGE($E$2:$E$241,2)","v":2.3900000000000002E-3},{"$f":"MATCH(K3,$E$2:$E$241,0)","v":239},{"$f":"INDEX($E$2:$F$241,L3,2)","v":0},2]
[null,{"$f":"wyniki!B10","v":"zawodnik 3"},{"$f":"wyniki!G10","v":0},3.0000000000000001E-5,3.0000000000000001E-5,{"$f":"wyniki!$A$7","v":"SP 234 Kursk"},null,null,null,0,{"$f":"LARGE($E$2:$E$241,3)","v":2.3800000000000002E-3},238,0,3]
[null,{"$f":"wyniki!B11","v":"zawodnik 4"},{"$f":"wyniki!G11","v":0},4.0000000000000003E-5,4.0000000000000003E-5,{"$f":"wyniki!$A$7","v":"SP 234 Kursk"},null,null,null,0,{"$f":"LARGE($E$2:$E$241,4)","v":2.3700000000000001E-3},237,0,4]
[null,{"$f":"wyniki!B12","v":"zawodnik 5"},{"$f":"wyniki!G12","v":0},5.0000000000000002E-5,5.0000000000000002E-5,{"$f":"wyniki!$A$7","v":"SP 234 Kursk"},null,null,null,0,{"$f":"LARGE($E$2:$E$241,5)","v":2.3600000000000001E-3},236,0,5]
[null,{"$f":"wyniki!B13","v":0},{"$f":"wyniki!G13","v":0},6.0000000000000002E-5,6.0000000000000002E-5,{"$f":"wyniki!$A$7","v":"SP 234 Kursk"},null,null,null,0,{"$f":"LARGE($E$2:$E$241,6)","v":2.3500000000000001E-3},235,0,6]
[null,{"$f":"wyniki!B15","v":0},{"$f":"wyniki!G15","v":0},6.9999999999999994E-5,6.9999999999999994E-5,{"$f":"wyniki!$A$14","v":0},null,null,null,0,{"$f":"LARGE($E$2:$E$241,7)","v":2.3400000000000001E-3},234,0,7]
[null,{"$f":"wyniki!B16","v":0},{"$f":"wyniki!G16","v":0},8.0000000000000007E-5,8.0000000000000007E-5,{"$f":"wyniki!$A$14","v":0},null,null,null,0,{"$f":"LARGE($E$2:$E$241,8)","v":2.33E-3},233,0,8]
[null,{"$f":"wyniki!B17","v":0},{"$f":"wyniki!G17","v":0},9.8999999999999999E-4,9.8999999999999999E-4,{"$f":"wyniki!$A$14","v":0},null,null,null,0,{"$f":"LARGE($E$2:$E$241,9)","v":2.32E-3},232,0,9]
[null,{"$f":"wyniki!B18","v":0},{"$f":"wyniki!G18","v":0},1E-4,1E-4,{"$f":"wyniki!$A$14","v":0},null,null,null,0,{"$f":"LARGE($E$2:$E$241,10)","v":2.31E-3},231,0,10]
[null,{"$f":"wyniki!B19","v":0},{"$f":"wyniki!G19","v":0},1.1E-4,1.1E-4,{"$f":"wyniki!$A$14","v":0},null,null,null,0,{"$f":"LARGE($E$2:$E$241,11)","v":2.3E-3},230,0,11]
[null,{"$f":"wyniki!B20","v":0},{"$f":"wyniki!G20","v":0},1.2E-4,1.2E-4,{"$f":"wyniki!$A$14","v":0},null,null,null,0,{"$f":"LARGE($E$2:$E$241,12)","v":2.2899999999999999E-3},229,0,12]
[null,{"$f":"wyniki!B22","v":0},{"$f":"wyniki!G22","v":0},1.2999999999999999E-4,1.2999999999999999E-4,{"$f":"wyniki!$A$21","v":0},null,null,null,0,{"$f":"LARGE($E$2:$E$241,13)","v":2.2799999999999999E-3},228,0,13]
[null,{"$f":"wyniki!B23","v":0},{"$f":"wyniki!G23","v":0},1.3999999999999999E-4,1.3999999999999999E-4,{"$f":"wyniki!$A$21","v":0},null,null,null,0,{"$f":"LARGE($E$2:$E$241,14)","v":2.2699999999999999E-3},227,0,14]
[null,{"$f":"wyniki!B24","v":0},{"$f":"wyniki!G24","v":0},1.4999999999999999E-4,1.4999999999999999E-4,{"$f":"wyniki!$A$21","v":0},null,null,null,0,{"$f":"LARGE($E$2:$E$241,15)","v":2.2599999999999999E-3},226,0,15]
[null,{"$f":"wyniki!B25","v":0},{"$f":"wyniki!G25","v":0},1.6000000000000001E-4,1.6000000000000001E-4,{"$f":"wyniki!$A$21","v":0},null,null,null,0,{"$f":"LARGE($E$2:$E$241,16)","v":2.2499999999999998E-3},225,0,16]
[null,{"$f":"wyniki!B26","v":0},{"$f":"wyniki!G26","v":0},1.7000000000000001E-4,1.7000000000000001E-4,{"$f":"wyniki!$A$21","v":0},null,null,null,0,{"$f":"LARGE($E$2:$E$241,17)","v":2.2399999999999998E-3},224,0,17]
[null,{"$f":"wyniki!B27","v":0},{"$f":"wyniki!G27","v":0},1.8000000000000001E-4,1.8000000000000001E-4,{"$f":"wyniki!$A$21","v":0},null,null,null,0,{"$f":"LARGE($E$2:$E$241,18)","v":2.2300000000000002E-3},223,0,18]
[null,{"$f":"wyniki!B29","v":0},{"$f":"wyniki!G29","v":0},1.9000000000000001E-4,1.9000000000000001E-4,{"$f":"wyniki!$A$28","v":0},null,null,null,0,{"$f":"LARGE($E$2:$E$241,19)","v":2.2200000000000002E-3},222,0,19]
[null,{"$f":"wyniki!B30","v":0},{"$f":"wyniki!G30","v":0},2.0000000000000001E-4,2.0000000000000001E-4,{"$f":"wyniki!$A$28","v":0},null,null,null,0,{"$f":"LARGE($E$2:$E$241,20)","v":2.2100000000000002E-3},221,0,20]
[null,{"$f":"wyniki!B31","v":0},{"$f":"wyniki!G31","v":0},2.1000000000000001E-4,2.1000000000000001E-4,{"$f":"wyniki!$A$28","v":0},null,null,null,0,{"$f":"LARGE($E$2:$E$241,21)","v":2.2000000000000001E-3},220,0,21]
[null,{"$f":"wyniki!B32","v":0},{"$f":"wyniki!G32","v":0},2.2000000000000001E-4,2.2000000000000001E-4,{"$f":"wyniki!$A$28","v":0},null,null,null,0,{"$f":"LARGE($E$2:$E$241,22)","v":2.1900000000000001E-3},219,0,22]
[null,{"$f":"wyniki!B33","v":0},{"$f":"wyniki!G33","v":0},2.3000000000000001E-4,2.3000000000000001E-4,{"$f":"wyniki!$A$28","v":0},null,null,null,0,{"$f":"LARGE($E$2:$E$241,23)","v":2.1800000000000001E-3},218,0,23]
[null,{"$f":"wyniki!B34","v":0},{"$f":"wyniki!G34","v":0},2.4000000000000001E-4,2.4000000000000001E-4,{"$f":"wyniki!$A$28","v":0},null,null,null,0,{"$f":"LARGE($E$2:$E$241,24)","v":2.1700000000000001E-3},217,0,24]
[null,{"$f":"wyniki!B36","v":0},{"$f":"wyniki!G36","v":0},2.5000000000000001E-4,2.5000000000000001E-4,{"$f":"wyniki!$A$35","v":0},null,null,null,0,{"$f":"LARGE($E$2:$E$241,25)","v":2.16E-3},216,0,25]
[null,{"$f":"wyniki!B37","v":0},{"$f":"wyniki!G37","v":0},2.5999999999999998E-4,2.5999999999999998E-4,{"$f":"wyniki!$A$35","v":0},null,null,null,0,{"$f":"LARGE($E$2:$E$241,26)","v":2.15E-3},215,0,26]
[null,{"$f":"wyniki!B38","v":0},{"$f":"wyniki!G38","v":0},2.7E-4,2.7E-4,{"$f":"wyniki!$A$35","v":0},null,null,null,0,{"$f":"LARGE($E$2:$E$241,27)","v":2.14E-3},214,0,27]
[null,{"$f":"wyniki!B39","v":0},{"$f":"wyniki!G39","v":0},2.7999999999999998E-4,2.7999999999999998E-4,{"$f":"wyniki!$A$35","v":0},null,null,null,0,{"$f":"LARGE($E$2:$E$241,28)","v":2.1299999999999999E-3},213,0,28]
[null,{"$f":"wyniki!B40","v":0},{"$f":"wyniki!G40","v":0},2.9E-4,2.9E-4,{"$f":"wyniki!$A$35","v":0},null,null,null,0,{"$f":"LARGE($E$2:$E$241,29)","v":2.1199999999999999E-3},212,0,29]
[null,{"$f":"wyniki!B41","v":0},{"$f":"wyniki!G41","v":0},2.9999999999999997E-4,2.9999999999999997E-4,{"$f":"wyniki!$A$35","v":0},null,null,null,0,{"$f":"LARGE($E$2:$E$241,30)","v":2.1099999999999999E-3},211,0,30]
[null,{"$f":"wyniki!B43","v":0},{"$f":"wyniki!G43","v":0},3.1E-4,3.1E-4,{"$f":"wyniki!$A$42","v":0},null,null,null,0,{"$f":"LARGE($E$2:$E$241,31)","v":2.0999999999999999E-3},210,0,31]
[null,{"$f":"wyniki!B44","v":0},{"$f":"wyniki!G44","v":0},3.2000000000000003E-4,3.2000000000000003E-4,{"$f":"wyniki!$A$42","v":0},null,null,null,0,{"$f":"LARGE($E$2:$E$241,32)","v":2.0899999999999998E-3},209,0,32]
[null,{"$f":"wyniki!B45","v":0},{"$f":"wyniki!G45","v":0},3.3E-4,3.3E-4,{"$f":"wyniki!$A$42","v":0},null,null,null,0,{"$f":"LARGE($E$2:$E$241,33)","v":2.0799999999999998E-3},208,0,33]
[null,{"$f":"wyniki!B46","v":0},{"$f":"wyniki!G46","v":0},3.4000000000000002E-4,3.4000000000000002E-4,{"$f":"wyniki!$A$42","v":0},null,null,null,0,{"$f":"LARGE($E$2:$E$241,34)","v":2.0699999999999998E-3},207,0,34]
[null,{"$f":"wyniki!B47","v":0},{"$f":"wyniki!G47","v":0},3.5E-4,3.5E-4,{"$f":"wyniki!$A$42","v":0},null,null,null,0,{"$f":"LARGE($E$2:$E$241,35)","v":2.0600000000000002E-3},206,0,35]
[null,{"$f":"wyniki!B48","v":0},{"$f":"wyniki!G48","v":0},3.6000000000000002E-4,3.6000000000000002E-4,{"$f":"wyniki!$A$42","v":0},null,null,null,0,{"$f":"LARGE($E$2:$E$241,36)","v":2.0500000000000002E-3},205,0,36]
[null,{"$f":"wyniki!B50","v":0},{"$f":"wyniki!G50","v":0},3.6999999999999999E-4,3.6999999999999999E-4,{"$f":"wyniki!$A$49","v":0},null,null,null,0,{"$f":"LARGE($E$2:$E$241,37)","v":2.0400000000000001E-3},204,0,37]
[null,{"$f":"wyniki!B51","v":0},{"$f":"wyniki!G51","v":0},3.8000000000000002E-4,3.8000000000000002E-4,{"$f":"wyniki!$A$49","v":0},null,null,null,0,{"$f":"LARGE($E$2:$E$241,38)","v":2.0300000000000001E-3},203,0,38]
[null,{"$f":"wyniki!B52","v":0},{"$f":"wyniki!G52","v":0},3.8999999999999999E-4,3.8999999999999999E-4,{"$f":"wyniki!$A$49","v":0},null,null,null,0,{"$f":"LARGE($E$2:$E$241,39)","v":2.0200000000000001E-3},202,0,39]
[null,{"$f":"wyniki!B53","v":0},{"$f":"wyniki!G53","v":0},4.0000000000000002E-4,4.0000000000000002E-4,{"$f":"wyniki!$A$49","v":0},null,null,null,0,{"$f":"LARGE($E$2:$E$241,40)","v":2.0100000000000001E-3},201,0,40]
[null,{"$f":"wyniki!B54","v":0},{"$f":"wyniki!G54","v":0},4.0999999999999999E-4,4.0999999999999999E-4,{"$f":"wyniki!$A$49","v":0},null,null,null,0,{"$f":"LARGE($E$2:$E$241,41)","v":2E-3},200,0,41]
[null,{"$f":"wyniki!B55","v":0},{"$f":"wyniki!G55","v":0},4.2000000000000002E-4,4.2000000000000002E-4,{"$f":"wyniki!$A$49","v":0},null,null,null,0,{"$f":"LARGE($E$2:$E$241,42)","v":1.99E-3},199,0,42]
[null,{"$f":"wyniki!B57","v":0},{"$f":"wyniki!G57","v":0},4.2999999999999999E-4,4.2999999999999999E-4,{"$f":"wyniki!$A$56","v":0},null,null,null,0,{"$f":"LARGE($E$2:$E$241,43)","v":1.98E-3},198,0,43]
[null,{"$f":"wyniki!B58","v":0},{"$f":"wyniki!G58","v":0},4.4000000000000002E-4,4.4000000000000002E-4,{"$f":"wyniki!$A$56","v":0},null,null,null,0,{"$f":"LARGE($E$2:$E$241,44)","v":1.97E-3},197,0,44]
[null,{"$f":"wyniki!B59","v":0},{"$f":"wyniki!G59","v":0},4.4999999999999999E-4,4.4999999999999999E-4,{"$f":"wyniki!$A$56","v":0},null,null,null,0,{"$f":"LARGE($E$2:$E$241,45)","v":1.9599999999999999E-3},196,0,45]
[null,{"$f":"wyniki!B60","v":0},{"$f":"wyniki!G60","v":0},4.6000000000000001E-4,4.6000000000000001E-4,{"$f":"wyniki!$A$56","v":0},null,null,null,0,{"$f":"LARGE($E$2:$E$241,46)","v":1.9499999999999999E-3},195,0,46]
[null,{"$f":"wyniki!B61","v":0},{"$f":"wyniki!G61","v":0},4.6999999999999999E-4,4.6999999999999999E-4,{"$f":"wyniki!$A$56","v":0},null,null,null,0,{"$f":"LARGE($E$2:$E$241,47)","v":1.9400000000000001E-3},194,0,47]
[null,{"$f":"wyniki!B62","v":0},{"$f":"wyniki!G62","v":0},4.8000000000000001E-4,4.8000000000000001E-4,{"$f":"wyniki!$A$56","v":0},null,null,null,0,{"$f":"LARGE($E$2:$E$241,48)","v":1.9300000000000001E-3},193,0,48]
[null,{"$f":"wyniki!B64","v":0},{"$f":"wyniki!G64","v":0},4.8999999999999998E-4,4.8999999999999998E-4,{"$f":"wyniki!$A$63","v":0},null,null,null,0,{"$f":"LARGE($E$2:$E$241,49)","v":1.92E-3},192,0,49]
[null,{"$f":"wyniki!B65","v":0},{"$f":"wyniki!G65","v":0},5.0000000000000001E-4,5.0000000000000001E-4,{"$f":"wyniki!$A$63","v":0},null,null,null,0,{"$f":"LARGE($E$2:$E$241,50)","v":1.91E-3},191,0,50]
[null,{"$f":"wyniki!B66","v":0},{"$f":"wyniki!G66","v":0},5.1000000000000004E-4,5.1000000000000004E-4,{"$f":"wyniki!$A$63","v":0},null,null,null,0,{"$f":"LARGE($E$2:$E$241,51)","v":1.9E-3},190,0,51]
[null,{"$f":"wyniki!B67","v":0},{"$f":"wyniki!G67","v":0},5.1999999999999995E-4,5.1999999999999995E-4,{"$f":"wyniki!$A$63","v":0},null,null,null,0,{"$f":"LARGE($E$2:$E$241,52)","v":1.89E-3},189,0,52]
[null,{"$f":"wyniki!B68","v":0},{"$f":"wyniki!G68","v":0},5.2999999999999998E-4,5.2999999999999998E-4,{"$f":"wyniki!$A$63","v":0},null,null,null,0,{"$f":"LARGE($E$2:$E$241,53)","v":1.8799999999999999E-3},188,0,53]
[null,{"$f":"wyniki!B69","v":0},{"$f":"wyniki!G69","v":0},5.4000000000000001E-4,5.4000000000000001E-4,{"$f":"wyniki!$A$63","v":0},null,null,null,0,{"$f":"LARGE($E$2:$E$241,54)","v":1.8699999999999999E-3},187,0,54]
[null,{"$f":"wyniki!B71","v":0},{"$f":"wyniki!G71","v":0},5.5000000000000003E-4,5.5000000000000003E-4,{"$f":"wyniki!$A$70","v":0},null,null,null,0,{"$f":"LARGE($E$2:$E$241,55)","v":1.8600000000000001E-3},186,0,55]
[null,{"$f":"wyniki!B72","v":0},{"$f":"wyniki!G72","v":0},5.5999999999999995E-4,5.5999999999999995E-4,{"$f":"wyniki!$A$70","v":0},null,null,null,0,{"$f":"LARGE($E$2:$E$241,56)","v":1.8500000000000001E-3},185,0,56]
[null,{"$f":"wyniki!B73","v":0},{"$f":"wyniki!G73","v":0},5.6999999999999998E-4,5.6999999999999998E-4,{"$f":"wyniki!$A$70","v":0},null,null,null,0,{"$f":"LARGE($E$2:$E$241,57)","v":1.8400000000000001E-3},184,0,57]
[null,{"$f":"wyniki!B74","v":0},{"$f":"wyniki!G74","v":0},5.8E-4,5.8E-4,{"$f":"wyniki!$A$70","v":0},null,null,null,0,{"$f":"LARGE($E$2:$E$241,58)","v":1.83E-3},183,0,58]
[null,{"$f":"wyniki!B75","v":0},{"$f":"wyniki!G75","v":0},5.9000000000000003E-4,5.9000000000000003E-4,{"$f":"wyniki!$A$70","v":0},null,null,null,0,{"$f":"LARGE($E$2:$E$241,59)","v":1.82E-3},182,0,59]
[null,{"$f":"wyniki!B76","v":0},{"$f":"wyniki!G76","v":0},5.9999999999999995E-4,5.9999999999999995E-4,{"$f":"wyniki!$A$70","v":0},null,null,null,0,{"$f":"LARGE($E$2:$E$241,60)","v":1.81E-3},181,0,60]
[null,{"$f":"wyniki!B78","v":0},{"$f":"wyniki!G78","v":0},6.0999999999999997E-4,6.0999999999999997E-4,{"$f":"wyniki!$A$77","v":0},null,null,null,0,{"$f":"LARGE($E$2:$E$241,61)","v":1.8E-3},180,0,61]
[null,{"$f":"wyniki!B79","v":0},{"$f":"wyniki!G79","v":0},6.2E-4,6.2E-4,{"$f":"wyniki!$A$77","v":0},null,null,null,0,{"$f":"LARGE($E$2:$E$241,62)","v":1.7899999999999999E-3},179,0,62]
[null,{"$f":"wyniki!B80","v":0},{"$f":"wyniki!G80","v":0},6.3000000000000003E-4,6.3000000000000003E-4,{"$f":"wyniki!$A$77","v":0},null,null,null,0,{"$f":"LARGE($E$2:$E$241,63)","v":1.7799999999999999E-3},178,0,63]
[null,{"$f":"wyniki!B81","v":0},{"$f":"wyniki!G81","v":0},6.4000000000000005E-4,6.4000000000000005E-4,{"$f":"wyniki!$A$77","v":0},null,null,null,0,{"$f":"LARGE($E$2:$E$241,64)","v":1.7700000000000001E-3},177,0,64]
[null,{"$f":"wyniki!B82","v":0},{"$f":"wyniki!G82","v":0},6.4999999999999997E-4,6.4999999999999997E-4,{"$f":"wyniki!$A$77","v":0},null,null,null,0,{"$f":"LARGE($E$2:$E$241,65)","v":1.7600000000000001E-3},176,0,65]
[null,{"$f":"wyniki!B83","v":0},{"$f":"wyniki!G83","v":0},6.6E-4,{"$f":"C67+D67","v":6.6E-4},{"$f":"wyniki!$A$77","v":0},null,null,null,{"$f":"INDEX($B$2:$E$241,L67,1)","v":0},{"$f":"LARGE($E$2:$E$241,66)","v":1.75E-3},{"$f":"MATCH(K67,$E$2:$E$241,0)","v":175},{"$f":"INDEX($E$2:$F$241,L67,2)","v":0},66]
[null,{"$f":"wyniki!B85","v":0},{"$f":"wyniki!G85","v":0},6.7000000000000002E-4,6.7000000000000002E-4,{"$f":"wyniki!$A$84","v":0},null,null,null,0,{"$f":"LARGE($E$2:$E$241,67)","v":1.74E-3},174,0,67]
[null,{"$f":"wyniki!B86","v":0},{"$f":"wyniki!G86","v":0},6.8000000000000005E-4,6.8000000000000005E-4,{"$f":"wyniki!$A$84","v":0},null,null,null,0,{"$f":"LARGE($E$2:$E$241,68)","v":1.73E-3},173,0,68]
[null,{"$f":"wyniki!B87","v":0},{"$f":"wyniki!G87","v":0},6.8999999999999997E-4,6.8999999999999997E-4,{"$f":"wyniki!$A$84","v":0},null,null,null,0,{"$f":"LARGE($E$2:$E$241,69)","v":1.72E-3},172,0,69]
[null,{"$f":"wyniki!B88","v":0},{"$f":"wyniki!G88","v":0},6.9999999999999999E-4,6.9999999999999999E-4,{"$f":"wyniki!$A$84","v":0},null,null,null,0,{"$f":"LARGE($E$2:$E$241,70)","v":1.7099999999999999E-3},171,0,70]
[null,{"$f":"wyniki!B89","v":0},{"$f":"wyniki!G89","v":0},7.1000000000000002E-4,7.1000000000000002E-4,{"$f":"wyniki!$A$84","v":0},null,null,null,0,{"$f":"LARGE($E$2:$E$241,71)","v":1.6999999999999999E-3},170,0,71]
[null,{"$f":"wyniki!B90","v":0},{"$f":"wyniki!G90","v":0},7.2000000000000005E-4,7.2000000000000005E-4,{"$f":"wyniki!$A$84","v":0},null,null,null,0,{"$f":"LARGE($E$2:$E$241,72)","v":1.6900000000000001E-3},169,0,72]
[null,{"$f":"wyniki!B92","v":0},{"$f":"wyniki!G92","v":0},7.2999999999999996E-4,7.2999999999999996E-4,{"$f":"wyniki!$A$91","v":0},null,null,null,0,{"$f":"LARGE($E$2:$E$241,73)","v":1.6800000000000001E-3},168,0,73]
[null,{"$f":"wyniki!B93","v":0},{"$f":"wyniki!G93","v":0},7.3999999999999999E-4,7.3999999999999999E-4,{"$f":"wyniki!$A$91","v":0},null,null,null,0,{"$f":"LARGE($E$2:$E$241,74)","v":1.67E-3},167,0,74]
[null,{"$f":"wyniki!B94","v":0},{"$f":"wyniki!G94","v":0},7.5000000000000002E-4,7.5000000000000002E-4,{"$f":"wyniki!$A$91","v":0},null,null,null,0,{"$f":"LARGE($E$2:$E$241,75)","v":1.66E-3},166,0,75]
[null,{"$f":"wyniki!B95","v":0},{"$f":"wyniki!G95","v":0},7.6000000000000004E-4,7.6000000000000004E-4,{"$f":"wyniki!$A$91","v":0},null,null,null,0,{"$f":"LARGE($E$2:$E$241,76)","v":1.65E-3},165,0,76]
[null,{"$f":"wyniki!B96","v":0},{"$f":"wyniki!G96","v":0},7.6999999999999996E-4,7.6999999999999996E-4,{"$f":"wyniki!$A$91","v":0},null,null,null,0,{"$f":"LARGE($E$2:$E$241,77)","v":1.64E-3},164,0,77]
[null,{"$f":"wyniki!B97","v":0},{"$f":"wyniki!G97","v":0},7.7999999999999999E-4,7.7999999999999999E-4,{"$f":"wyniki!$A$91","v":0},null,null,null,0,{"$f":"LARGE($E$2:$E$241,78)","v":1.6299999999999999E-3},163,0,78]
[null,{"$f":"wyniki!B99","v":0},{"$f":"wyniki!G99","v":0},7.9000000000000001E-4,7.9000000000000001E-4,{"$f":"wyniki!$A$98","v":0},null,null,null,0,{"$f":"LARGE($E$2:$E$241,79)","v":1.6199999999999999E-3},162,0,79]
[null,{"$f":"wyniki!B100","v":0},{"$f":"wyniki!G100","v":0},8.0000000000000004E-4,8.0000000000000004E-4,{"$f":"wyniki!$A$98","v":0},null,null,null,0,{"$f":"LARGE($E$2:$E$241,80)","v":1.6100000000000001E-3},161,0,80]
[null,{"$f":"wyniki!B101","v":0},{"$f":"wyniki!G101","v":0},8.0999999999999996E-4,8.0999999999999996E-4,{"$f":"wyniki!$A$98","v":0},null,null,null,0,{"$f":"LARGE($E$2:$E$241,81)","v":1.6000000000000001E-3},160,0,81]
[null,{"$f":"wyniki!B102","v":0},{"$f":"wyniki!G102","v":0},8.1999999999999998E-4,8.1999999999999998E-4,{"$f":"wyniki!$A$98","v":0},null,null,null,0,{"$f":"LARGE($E$2:$E$241,82)","v":1.5900000000000001E-3},159,0,82]
[null,{"$f":"wyniki!B103","v":0},{"$f":"wyniki!G103","v":0},8.3000000000000001E-4,8.3000000000000001E-4,{"$f":"wyniki!$A$98","v":0},null,null,null,0,{"$f":"LARGE($E$2:$E$241,83)","v":1.58E-3},158,0,83]
[null,{"$f":"wyniki!B104","v":0},{"$f":"wyniki!G104","v":0},8.4000000000000003E-4,8.4000000000000003E-4,{"$f":"wyniki!$A$98","v":0},null,null,null,0,{"$f":"LARGE($E$2:$E$241,84)","v":1.57E-3},157,0,84]
[null,{"$f":"wyniki!B106","v":0},{"$f":"wyniki!G106","v":0},8.4999999999999995E-4,8.4999999999999995E-4,{"$f":"wyniki!$A$105","v":0},null,null,null,0,{"$f":"LARGE($E$2:$E$241,85)","v":1.56E-3},156,0,85]
[null,{"$f":"wyniki!B107","v":0},{"$f":"wyniki!G107","v":0},8.5999999999999998E-4,8.5999999999999998E-4,{"$f":"wyniki!$A$105","v":0},null,null,null,0,{"$f":"LARGE($E$2:$E$241,86)","v":1.5499999999999999E-3},155,0,86]
[null,{"$f":"wyniki!B108","v":0},{"$f":"wyniki!G108","v":0},8.7000000000000001E-4,8.7000000000000001E-4,{"$f":"wyniki!$A$105","v":0},null,null,null,0,{"$f":"LARGE($E$2:$E$241,87)","v":1.5399999999999999E-3},154,0,87]
[null,{"$f":"wyniki!B109","v":0},{"$f":"wyniki!G109","v":0},8.8000000000000003E-4,8.8000000000000003E-4,{"$f":"wyniki!$A$105","v":0},null,null,null,0,{"$f":"LARGE($E$2:$E$241,88)","v":1.5299999999999999E-3},153,0,88]
[null,{"$f":"wyniki!B110","v":0},{"$f":"wyniki!G110","v":0},8.8999999999999995E-4,8.8999999999999995E-4,{"$f":"wyniki!$A$105","v":0},null,null,null,0,{"$f":"LARGE($E$2:$E$241,89)","v":1.5200000000000001E-3},152,0,89]
[null,{"$f":"wyniki!B111","v":0},{"$f":"wyniki!G111","v":0},8.9999999999999998E-4,8.9999999999999998E-4,{"$f":"wyniki!$A$105","v":0},null,null,null,0,{"$f":"LARGE($E$2:$E$241,90)","v":1.5100000000000001E-3},151,0,90]
[null,{"$f":"wyniki!B113","v":0},{"$f":"wyniki!G113","v":0},9.1E-4,9.1E-4,{"$f":"wyniki!$A$112","v":0},null,null,null,0,{"$f":"LARGE($E$2:$E$241,91)","v":1.5E-3},150,0,91]
[null,{"$f":"wyniki!B114","v":0},{"$f":"wyniki!G114","v":0},9.2000000000000003E-4,9.2000000000000003E-4,{"$f":"wyniki!$A$112","v":0},null,null,null,0,{"$f":"LARGE($E$2:$E$241,92)","v":1.49E-3},149,0,92]
[null,{"$f":"wyniki!B115","v":0},{"$f":"wyniki!G115","v":0},9.3000000000000005E-4,9.3000000000000005E-4,{"$f":"wyniki!$A$112","v":0},null,null,null,0,{"$f":"LARGE($E$2:$E$241,93)","v":1.48E-3},148,0,93]
[null,{"$f":"wyniki!B116","v":0},{"$f":"wyniki!G116","v":0},9.3999999999999997E-4,9.3999999999999997E-4,{"$f":"wyniki!$A$112","v":0},null,null,null,0,{"$f":"LARGE($E$2:$E$241,94)","v":1.47E-3},147,0,94]
[null,{"$f":"wyniki!B117","v":0},{"$f":"wyniki!G117","v":0},9.5E-4,9.5E-4,{"$f":"wyniki!$A$112","v":0},null,null,null,0,{"$f":"LARGE($E$2:$E$241,95)","v":1.4599999999999999E-3},146,0,95]
[null,{"$f":"wyniki!B118","v":0},{"$f":"wyniki!G118","v":0},9.6000000000000002E-4,9.6000000000000002E-4,{"$f":"wyniki!$A$112","v":0},null,null,null,0,{"$f":"LARGE($E$2:$E$241,96)","v":1.4499999999999999E-3},145,0,96]
[null,{"$f":"wyniki!B120","v":0},{"$f":"wyniki!G120","v":0},9.7000000000000005E-4,9.7000000000000005E-4,{"$f":"wyniki!$A$119","v":0},null,null,null,0,{"$f":"LARGE($E$2:$E$241,97)","v":1.4400000000000001E-3},144,0,97]
[null,{"$f":"wyniki!B121","v":0},{"$f":"wyniki!G121","v":0},9.7999999999999997E-4,9.7999999999999997E-4,{"$f":"wyniki!$A$119","v":0},null,null,null,0,{"$f":"LARGE($E$2:$E$241,98)","v":1.4300000000000001E-3},143,0,98]
[null,{"$f":"wyniki!B122","v":0},{"$f":"wyniki!G122","v":0},9.8999999999999999E-4,9.8999999999999999E-4,{"$f":"wyniki!$A$119","v":0},null,null,null,0,{"$f":"LARGE($E$2:$E$241,99)","v":1.42E-3},142,0,99]
[null,{"$f":"wyniki!B123","v":0},{"$f":"wyniki!G123","v":0},1E-3,1E-3,{"$f":"wyniki!$A$119","v":0},null,null,null,0,{"$f":"LARGE($E$2:$E$241,100)","v":1.41E-3},141,0,100]
[null,{"$f":"wyniki!B124","v":0},{"$f":"wyniki!G124","v":0},1.01E-3,1.01E-3,{"$f":"wyniki!$A$119","v":0},null,null,null,0,{"$f":"LARGE($E$2:$E$241,101)","v":1.4E-3},140,0,101]
[null,{"$f":"wyniki!B125","v":0},{"$f":"wyniki!G125","v":0},1.0200000000000001E-3,1.0200000000000001E-3,{"$f":"wyniki!$A$119","v":0},null,null,null,0,{"$f":"LARGE($E$2:$E$241,102)","v":1.39E-3},139,0,102]
[null,{"$f":"wyniki!B127","v":0},{"$f":"wyniki!G127","v":0},1.0300000000000001E-3,1.0300000000000001E-3,{"$f":"wyniki!$A$126","v":0},null,null,null,0,{"$f":"LARGE($E$2:$E$241,103)","v":1.3799999999999999E-3},138,0,103]
[null,{"$f":"wyniki!B128","v":0},{"$f":"wyniki!G128","v":0},1.0399999999999999E-3,1.0399999999999999E-3,{"$f":"wyniki!$A$126","v":0},null,null,null,0,{"$f":"LARGE($E$2:$E$241,104)","v":1.3699999999999999E-3},137,0,104]
[null,{"$f":"wyniki!B129","v":0},{"$f":"wyniki!G129","v":0},1.0499999999999999E-3,1.0499999999999999E-3,{"$f":"wyniki!$A$126","v":0},null,null,null,0,{"$f":"LARGE($E$2:$E$241,105)","v":1.3600000000000001E-3},136,0,105]
[null,{"$f":"wyniki!B130","v":0},{"$f":"wyniki!G130","v":0},1.06E-3,1.06E-3,{"$f":"wyniki!$A$126","v":0},null,null,null,0,{"$f":"LARGE($E$2:$E$241,106)","v":1.3500000000000001E-3},135,0,106]
[null,{"$f":"wyniki!B131","v":0},{"$f":"wyniki!G131","v":0},1.07E-3,1.07E-3,{"$f":"wyniki!$A$126","v":0},null,null,null,0,{"$f":"LARGE($E$2:$E$241,107)","v":1.34E-3},134,0,107]
[null,{"$f":"wyniki!B132","v":0},{"$f":"wyniki!G132","v":0},1.08E-3,1.08E-3,{"$f":"wyniki!$A$126","v":0},null,null,null,0,{"$f":"LARGE($E$2:$E$241,108)","v":1.33E-3},133,0,108]
[null,{"$f":"wyniki!B134","v":0},{"$f":"wyniki!G134","v":0},1.09E-3,1.09E-3,{"$f":"wyniki!$A$133","v":0},null,null,null,0,{"$f":"LARGE($E$2:$E$241,109)","v":1.32E-3},132,0,109]
[null,{"$f":"wyniki!B135","v":0},{"$f":"wyniki!G135","v":0},1.1000000000000001E-3,1.1000000000000001E-3,{"$f":"wyniki!$A$133","v":0},null,null,null,0,{"$f":"LARGE($E$2:$E$241,110)","v":1.31E-3},131,0,110]
[null,{"$f":"wyniki!B136","v":0},{"$f":"wyniki!G136","v":0},1.1100000000000001E-3,1.1100000000000001E-3,{"$f":"wyniki!$A$133","v":0},null,null,null,0,{"$f":"LARGE($E$2:$E$241,111)","v":1.2999999999999999E-3},130,0,111]
[null,{"$f":"wyniki!B137","v":0},{"$f":"wyniki!G137","v":0},1.1199999999999999E-3,1.1199999999999999E-3,{"$f":"wyniki!$A$133","v":0},null,null,null,0,{"$f":"LARGE($E$2:$E$241,112)","v":1.2899999999999999E-3},129,0,112]
[null,{"$f":"wyniki!B138","v":0},{"$f":"wyniki!G138","v":0},1.1299999999999999E-3,1.1299999999999999E-3,{"$f":"wyniki!$A$133","v":0},null,null,null,0,{"$f":"LARGE($E$2:$E$241,113)","v":1.2800000000000001E-3},128,0,113]
[null,{"$f":"wyniki!B139","v":0},{"$f":"wyniki!G139","v":0},1.14E-3,1.14E-3,{"$f":"wyniki!$A$133","v":0},null,null,null,0,{"$f":"LARGE($E$2:$E$241,114)","v":1.2700000000000001E-3},127,0,114]
[null,{"$f":"wyniki!B141","v":0},{"$f":"wyniki!G141","v":0},1.15E-3,1.15E-3,{"$f":"wyniki!$A$140","v":0},null,null,null,0,{"$f":"LARGE($E$2:$E$241,115)","v":1.2600000000000001E-3},126,0,115]
[null,{"$f":"wyniki!B142","v":0},{"$f":"wyniki!G142","v":0},1.16E-3,1.16E-3,{"$f":"wyniki!$A$140","v":0},null,null,null,0,{"$f":"LARGE($E$2:$E$241,116)","v":1.25E-3},125,0,116]
[null,{"$f":"wyniki!B143","v":0},{"$f":"wyniki!G143","v":0},1.17E-3,1.17E-3,{"$f":"wyniki!$A$140","v":0},null,null,null,0,{"$f":"LARGE($E$2:$E$241,117)","v":1.24E-3},124,0,117]
[null,{"$f":"wyniki!B144","v":0},{"$f":"wyniki!G144","v":0},1.1800000000000001E-3,1.1800000000000001E-3,{"$f":"wyniki!$A$140","v":0},null,null,null,0,{"$f":"LARGE($E$2:$E$241,118)","v":1.23E-3},123,0,118]
[null,{"$f":"wyniki!B145","v":0},{"$f":"wyniki!G145","v":0},1.1900000000000001E-3,1.1900000000000001E-3,{"$f":"wyniki!$A$140","v":0},null,null,null,0,{"$f":"LARGE($E$2:$E$241,119)","v":1.2199999999999999E-3},122,0,119]
[null,{"$f":"wyniki!B146","v":0},{"$f":"wyniki!G146","v":0},1.1999999999999999E-3,1.1999999999999999E-3,{"$f":"wyniki!$A$140","v":0},null,null,null,0,{"$f":"LARGE($E$2:$E$241,120)","v":1.2099999999999999E-3},121,0,120]
[null,{"$f":"wyniki!B148","v":0},{"$f":"wyniki!G148","v":0},1.2099999999999999E-3,1.2099999999999999E-3,{"$f":"wyniki!$A$147","v":0},null,null,null,0,{"$f":"LARGE($E$2:$E$241,121)","v":1.1999999999999999E-3},120,0,121]
[null,{"$f":"wyniki!B149","v":0},{"$f":"wyniki!G149","v":0},1.2199999999999999E-3,1.2199999999999999E-3,{"$f":"wyniki!$A$147","v":0},null,null,null,0,{"$f":"LARGE($E$2:$E$241,122)","v":1.1900000000000001E-3},119,0,122]
[null,{"$f":"wyniki!B150","v":0},{"$f":"wyniki!G150","v":0},1.23E-3,1.23E-3,{"$f":"wyniki!$A$147","v":0},null,null,null,0,{"$f":"LARGE($E$2:$E$241,123)","v":1.1800000000000001E-3},118,0,123]
[null,{"$f":"wyniki!B151","v":0},{"$f":"wyniki!G151","v":0},1.24E-3,1.24E-3,{"$f":"wyniki!$A$147","v":0},null,null,null,0,{"$f":"LARGE($E$2:$E$241,124)","v":1.17E-3},117,0,124]
[null,{"$f":"wyniki!B152","v":0},{"$f":"wyniki!G152","v":0},1.25E-3,1.25E-3,{"$f":"wyniki!$A$147","v":0},null,null,null,0,{"$f":"LARGE($E$2:$E$241,125)","v":1.16E-3},116,0,125]
[null,{"$f":"wyniki!B153","v":0},{"$f":"wyniki!G153","v":0},1.2600000000000001E-3,1.2600000000000001E-3,{"$f":"wyniki!$A$147","v":0},null,null,null,0,{"$f":"LARGE($E$2:$E$241,126)","v":1.15E-3},115,0,126]
[null,{"$f":"wyniki!B155","v":0},{"$f":"wyniki!G155","v":0},1.2700000000000001E-3,1.2700000000000001E-3,{"$f":"wyniki!$A$154","v":0},null,null,null,0,{"$f":"LARGE($E$2:$E$241,127)","v":1.14E-3},114,0,127]
[null,{"$f":"wyniki!B156","v":0},{"$f":"wyniki!G156","v":0},1.2800000000000001E-3,1.2800000000000001E-3,{"$f":"wyniki!$A$154","v":0},null,null,null,0,{"$f":"LARGE($E$2:$E$241,128)","v":1.1299999999999999E-3},113,0,128]
[null,{"$f":"wyniki!B157","v":0},{"$f":"wyniki!G157","v":0},1.2899999999999999E-3,1.2899999999999999E-3,{"$f":"wyniki!$A$154","v":0},null,null,null,0,{"$f":"LARGE($E$2:$E$241,129)","v":1.1199999999999999E-3},112,0,129]
[null,{"$f":"wyniki!B158","v":0},{"$f":"wyniki!G158","v":0},1.2999999999999999E-3,{"$f":"C131+D131","v":1.2999999999999999E-3},{"$f":"wyniki!$A$154","v":0},null,null,null,{"$f":"INDEX($B$2:$E$241,L131,1)","v":0},{"$f":"LARGE($E$2:$E$241,130)","v":1.1100000000000001E-3},{"$f":"MATCH(K131,$E$2:$E$241,0)","v":111},{"$f":"INDEX($E$2:$F$241,L131,2)","v":0},130]
[null,{"$f":"wyniki!B159","v":0},{"$f":"wyniki!G159","v":0},1.31E-3,1.31E-3,{"$f":"wyniki!$A$154","v":0},null,null,null,0,{"$f":"LARGE($E$2:$E$241,131)","v":1.1000000000000001E-3},110,0,131]
[null,{"$f":"wyniki!B160","v":0},{"$f":"wyniki!G160","v":0},1.32E-3,1.32E-3,{"$f":"wyniki!$A$154","v":0},null,null,null,0,{"$f":"LARGE($E$2:$E$241,132)","v":1.09E-3},109,0,132]
[null,{"$f":"wyniki!B162","v":0},{"$f":"wyniki!G162","v":0},1.33E-3,1.33E-3,{"$f":"wyniki!$A$161","v":0},null,null,null,0,{"$f":"LARGE($E$2:$E$241,133)","v":1.08E-3},108,0,133]
[null,{"$f":"wyniki!B163","v":0},{"$f":"wyniki!G163","v":0},1.34E-3,1.34E-3,{"$f":"wyniki!$A$161","v":0},null,null,null,0,{"$f":"LARGE($E$2:$E$241,134)","v":1.07E-3},107,0,134]
[null,{"$f":"wyniki!B164","v":0},{"$f":"wyniki!G164","v":0},1.3500000000000001E-3,1.3500000000000001E-3,{"$f":"wyniki!$A$161","v":0},null,null,null,0,{"$f":"LARGE($E$2:$E$241,135)","v":1.06E-3},106,0,135]
[null,{"$f":"wyniki!B165","v":0},{"$f":"wyniki!G165","v":0},1.3600000000000001E-3,1.3600000000000001E-3,{"$f":"wyniki!$A$161","v":0},null,null,null,0,{"$f":"LARGE($E$2:$E$241,136)","v":1.0499999999999999E-3},105,0,136]
[null,{"$f":"wyniki!B166","v":0},{"$f":"wyniki!G166","v":0},1.3699999999999999E-3,1.3699999999999999E-3,{"$f":"wyniki!$A$161","v":0},null,null,null,0,{"$f":"LARGE($E$2:$E$241,137)","v":1.0399999999999999E-3},104,0,137]
[null,{"$f":"wyniki!B167","v":0},{"$f":"wyniki!G167","v":0},1.3799999999999999E-3,1.3799999999999999E-3,{"$f":"wyniki!$A$161","v":0},null,null,null,0,{"$f":"LARGE($E$2:$E$241,138)","v":1.0300000000000001E-3},103,0,138]
[null,{"$f":"wyniki!B169","v":0},{"$f":"wyniki!G169","v":0},1.39E-3,1.39E-3,{"$f":"wyniki!$A$168","v":0},null,null,null,0,{"$f":"LARGE($E$2:$E$241,139)","v":1.0200000000000001E-3},102,0,139]
[null,{"$f":"wyniki!B170","v":0},{"$f":"wyniki!G170","v":0},1.4E-3,1.4E-3,{"$f":"wyniki!$A$168","v":0},null,null,null,0,{"$f":"LARGE($E$2:$E$241,140)","v":1.01E-3},101,0,140]
[null,{"$f":"wyniki!B171","v":0},{"$f":"wyniki!G171","v":0},1.41E-3,1.41E-3,{"$f":"wyniki!$A$168","v":0},null,null,null,0,{"$f":"LARGE($E$2:$E$241,141)","v":1E-3},100,0,141]
[null,{"$f":"wyniki!B172","v":0},{"$f":"wyniki!G172","v":0},1.42E-3,1.42E-3,{"$f":"wyniki!$A$168","v":0},null,null,null,0,{"$f":"LARGE($E$2:$E$241,142)","v":9.8999999999999999E-4},9,0,142]
[null,{"$f":"wyniki!B173","v":0},{"$f":"wyniki!G173","v":0},1.4300000000000001E-3,1.4300000000000001E-3,{"$f":"wyniki!$A$168","v":0},null,null,null,0,{"$f":"LARGE($E$2:$E$241,143)","v":9.8999999999999999E-4},9,0,143]
[null,{"$f":"wyniki!B174","v":0},{"$f":"wyniki!G174","v":0},1.4400000000000001E-3,1.4400000000000001E-3,{"$f":"wyniki!$A$168","v":0},null,null,null,0,{"$f":"LARGE($E$2:$E$241,144)","v":9.7999999999999997E-4},98,0,144]
[null,{"$f":"wyniki!B176","v":0},{"$f":"wyniki!G176","v":0},1.4499999999999999E-3,1.4499999999999999E-3,{"$f":"wyniki!$A$175","v":0},null,null,null,0,{"$f":"LARGE($E$2:$E$241,145)","v":9.7000000000000005E-4},97,0,145]
[null,{"$f":"wyniki!B177","v":0},{"$f":"wyniki!G177","v":0},1.4599999999999999E-3,1.4599999999999999E-3,{"$f":"wyniki!$A$175","v":0},null,null,null,0,{"$f":"LARGE($E$2:$E$241,146)","v":9.6000000000000002E-4},96,0,146]
[null,{"$f":"wyniki!B178","v":0},{"$f":"wyniki!G178","v":0},1.47E-3,1.47E-3,{"$f":"wyniki!$A$175","v":0},null,null,null,0,{"$f":"LARGE($E$2:$E$241,147)","v":9.5E-4},95,0,147]
[null,{"$f":"wyniki!B179","v":0},{"$f":"wyniki!G179","v":0},1.48E-3,1.48E-3,{"$f":"wyniki!$A$175","v":0},null,null,null,0,{"$f":"LARGE($E$2:$E$241,148)","v":9.3999999999999997E-4},94,0,148]
[null,{"$f":"wyniki!B180","v":0},{"$f":"wyniki!G180","v":0},1.49E-3,1.49E-3,{"$f":"wyniki!$A$175","v":0},null,null,null,0,{"$f":"LARGE($E$2:$E$241,149)","v":9.3000000000000005E-4},93,0,149]
[null,{"$f":"wyniki!B181","v":0},{"$f":"wyniki!G181","v":0},1.5E-3,1.5E-3,{"$f":"wyniki!$A$175","v":0},null,null,null,0,{"$f":"LARGE($E$2:$E$241,150)","v":9.2000000000000003E-4},92,0,150]
[null,{"$f":"wyniki!B183","v":0},{"$f":"wyniki!G183","v":0},1.5100000000000001E-3,1.5100000000000001E-3,{"$f":"wyniki!$A$182","v":0},null,null,null,0,{"$f":"LARGE($E$2:$E$241,151)","v":9.1E-4},91,0,151]
[null,{"$f":"wyniki!B184","v":0},{"$f":"wyniki!G184","v":0},1.5200000000000001E-3,1.5200000000000001E-3,{"$f":"wyniki!$A$182","v":0},null,null,null,0,{"$f":"LARGE($E$2:$E$241,152)","v":8.9999999999999998E-4},90,0,152]
[null,{"$f":"wyniki!B185","v":0},{"$f":"wyniki!G185","v":0},1.5299999999999999E-3,1.5299999999999999E-3,{"$f":"wyniki!$A$182","v":0},null,null,null,0,{"$f":"LARGE($E$2:$E$241,153)","v":8.8999999999999995E-4},89,0,153]
[null,{"$f":"wyniki!B186","v":0},{"$f":"wyniki!G186","v":0},1.5399999999999999E-3,1.5399999999999999E-3,{"$f":"wyniki!$A$182","v":0},null,null,null,0,{"$f":"LARGE($E$2:$E$241,154)","v":8.8000000000000003E-4},88,0,154]
[null,{"$f":"wyniki!B187","v":0},{"$f":"wyniki!G187","v":0},1.5499999999999999E-3,1.5499999999999999E-3,{"$f":"wyniki!$A$182","v":0},null,null,null,0,{"$f":"LARGE($E$2:$E$241,155)","v":8.7000000000000001E-4},87,0,155]
[null,{"$f":"wyniki!B188","v":0},{"$f":"wyniki!G188","v":0},1.56E-3,1.56E-3,{"$f":"wyniki!$A$182","v":0},null,null,null,0,{"$f":"LARGE($E$2:$E$241,156)","v":8.5999999999999998E-4},86,0,156]
[null,{"$f":"wyniki!B190","v":0},{"$f":"wyniki!G190","v":0},1.57E-3,1.57E-3,{"$f":"wyniki!$A$189","v":0},null,null,null,0,{"$f":"LARGE($E$2:$E$241,157)","v":8.4999999999999995E-4},85,0,157]
[null,{"$f":"wyniki!B191","v":0},{"$f":"wyniki!G191","v":0},1.58E-3,1.58E-3,{"$f":"wyniki!$A$189","v":0},null,null,null,0,{"$f":"LARGE($E$2:$E$241,158)","v":8.4000000000000003E-4},84,0,158]
[null,{"$f":"wyniki!B192","v":0},{"$f":"wyniki!G192","v":0},1.5900000000000001E-3,1.5900000000000001E-3,{"$f":"wyniki!$A$189","v":0},null,null,null,0,{"$f":"LARGE($E$2:$E$241,159)","v":8.3000000000000001E-4},83,0,159]
[null,{"$f":"wyniki!B193","v":0},{"$f":"wyniki!G193","v":0},1.6000000000000001E-3,1.6000000000000001E-3,{"$f":"wyniki!$A$189","v":0},null,null,null,0,{"$f":"LARGE($E$2:$E$241,160)","v":8.1999999999999998E-4},82,0,160]
[null,{"$f":"wyniki!B194","v":0},{"$f":"wyniki!G194","v":0},1.6100000000000001E-3,1.6100000000000001E-3,{"$f":"wyniki!$A$189","v":0},null,null,null,0,{"$f":"LARGE($E$2:$E$241,161)","v":8.0999999999999996E-4},81,0,161]
[null,{"$f":"wyniki!B195","v":0},{"$f":"wyniki!G195","v":0},1.6199999999999999E-3,1.6199999999999999E-3,{"$f":"wyniki!$A$189","v":0},null,null,null,0,{"$f":"LARGE($E$2:$E$241,162)","v":8.0000000000000004E-4},80,0,162]
[null,{"$f":"wyniki!B197","v":0},{"$f":"wyniki!G197","v":0},1.6299999999999999E-3,1.6299999999999999E-3,{"$f":"wyniki!$A$196","v":0},null,null,null,0,{"$f":"LARGE($E$2:$E$241,163)","v":7.9000000000000001E-4},79,0,163]
[null,{"$f":"wyniki!B198","v":0},{"$f":"wyniki!G198","v":0},1.64E-3,1.64E-3,{"$f":"wyniki!$A$196","v":0},null,null,null,0,{"$f":"LARGE($E$2:$E$241,164)","v":7.7999999999999999E-4},78,0,164]
[null,{"$f":"wyniki!B199","v":0},{"$f":"wyniki!G199","v":0},1.65E-3,1.65E-3,{"$f":"wyniki!$A$196","v":0},null,null,null,0,{"$f":"LARGE($E$2:$E$241,165)","v":7.6999999999999996E-4},77,0,165]
[null,{"$f":"wyniki!B200","v":0},{"$f":"wyniki!G200","v":0},1.66E-3,1.66E-3,{"$f":"wyniki!$A$196","v":0},null,null,null,0,{"$f":"LARGE($E$2:$E$241,166)","v":7.6000000000000004E-4},76,0,166]
[null,{"$f":"wyniki!B201","v":0},{"$f":"wyniki!G201","v":0},1.67E-3,1.67E-3,{"$f":"wyniki!$A$196","v":0},null,null,null,0,{"$f":"LARGE($E$2:$E$241,167)","v":7.5000000000000002E-4},75,0,167]
[null,{"$f":"wyniki!B202","v":0},{"$f":"wyniki!G202","v":0},1.6800000000000001E-3,1.6800000000000001E-3,{"$f":"wyniki!$A$196","v":0},null,null,null,0,{"$f":"LARGE($E$2:$E$241,168)","v":7.3999999999999999E-4},74,0,168]
[null,{"$f":"wyniki!B204","v":0},{"$f":"wyniki!G204","v":0},1.6900000000000001E-3,1.6900000000000001E-3,{"$f":"wyniki!$A$203","v":0},null,null,null,0,{"$f":"LARGE($E$2:$E$241,169)","v":7.2999999999999996E-4},73,0,169]
[null,{"$f":"wyniki!B205","v":0},{"$f":"wyniki!G205","v":0},1.6999999999999999E-3,1.6999999999999999E-3,{"$f":"wyniki!$A$203","v":0},null,null,null,0,{"$f":"LARGE($E$2:$E$241,170)","v":7.2000000000000005E-4},72,0,170]
[null,{"$f":"wyniki!B206","v":0},{"$f":"wyniki!G206","v":0},1.7099999999999999E-3,1.7099999999999999E-3,{"$f":"wyniki!$A$203","v":0},null,null,null,0,{"$f":"LARGE($E$2:$E$241,171)","v":7.1000000000000002E-4},71,0,171]
[null,{"$f":"wyniki!B207","v":0},{"$f":"wyniki!G207","v":0},1.72E-3,1.72E-3,{"$f":"wyniki!$A$203","v":0},null,null,null,0,{"$f":"LARGE($E$2:$E$241,172)","v":6.9999999999999999E-4},70,0,172]
[null,{"$f":"wyniki!B208","v":0},{"$f":"wyniki!G208","v":0},1.73E-3,1.73E-3,{"$f":"wyniki!$A$203","v":0},null,null,null,0,{"$f":"LARGE($E$2:$E$241,173)","v":6.8999999999999997E-4},69,0,173]
[null,{"$f":"wyniki!B209","v":0},{"$f":"wyniki!G209","v":0},1.74E-3,1.74E-3,{"$f":"wyniki!$A$203","v":0},null,null,null,0,{"$f":"LARGE($E$2:$E$241,174)","v":6.8000000000000005E-4},68,0,174]
[null,{"$f":"wyniki!B211","v":0},{"$f":"wyniki!G211","v":0},1.75E-3,1.75E-3,{"$f":"wyniki!$A$210","v":0},null,null,null,0,{"$f":"LARGE($E$2:$E$241,175)","v":6.7000000000000002E-4},67,0,175]
[null,{"$f":"wyniki!B212","v":0},{"$f":"wyniki!G212","v":0},1.7600000000000001E-3,1.7600000000000001E-3,{"$f":"wyniki!$A$210","v":0},null,null,null,0,{"$f":"LARGE($E$2:$E$241,176)","v":6.6E-4},66,0,176]
[null,{"$f":"wyniki!B213","v":0},{"$f":"wyniki!G213","v":0},1.7700000000000001E-3,1.7700000000000001E-3,{"$f":"wyniki!$A$210","v":0},null,null,null,0,{"$f":"LARGE($E$2:$E$241,177)","v":6.4999999999999997E-4},65,0,177]
[null,{"$f":"wyniki!B214","v":0},{"$f":"wyniki!G214","v":0},1.7799999999999999E-3,1.7799999999999999E-3,{"$f":"wyniki!$A$210","v":0},null,null,null,0,{"$f":"LARGE($E$2:$E$241,178)","v":6.4000000000000005E-4},64,0,178]
[null,{"$f":"wyniki!B215","v":0},{"$f":"wyniki!G215","v":0},1.7899999999999999E-3,1.7899999999999999E-3,{"$f":"wyniki!$A$210","v":0},null,null,null,0,{"$f":"LARGE($E$2:$E$241,179)","v":6.3000000000000003E-4},63,0,179]
[null,{"$f":"wyniki!B216","v":0},{"$f":"wyniki!G216","v":0},1.8E-3,1.8E-3,{"$f":"wyniki!$A$210","v":0},null,null,null,0,{"$f":"LARGE($E$2:$E$241,180)","v":6.2E-4},62,0,180]
[null,{"$f":"wyniki!B218","v":0},{"$f":"wyniki!G218","v":0},1.81E-3,1.81E-3,{"$f":"wyniki!$A$217","v":0},null,null,null,0,{"$f":"LARGE($E$2:$E$241,181)","v":6.0999999999999997E-4},61,0,181]
[null,{"$f":"wyniki!B219","v":0},{"$f":"wyniki!G219","v":0},1.82E-3,1.82E-3,{"$f":"wyniki!$A$217","v":0},null,null,null,0,{"$f":"LARGE($E$2:$E$241,182)","v":5.9999999999999995E-4},60,0,182]
[null,{"$f":"wyniki!B220","v":0},{"$f":"wyniki!G220","v":0},1.83E-3,1.83E-3,{"$f":"wyniki!$A$217","v":0},null,null,null,0,{"$f":"LARGE($E$2:$E$241,183)","v":5.9000000000000003E-4},59,0,183]
[null,{"$f":"wyniki!B221","v":0},{"$f":"wyniki!G221","v":0},1.8400000000000001E-3,1.8400000000000001E-3,{"$f":"wyniki!$A$217","v":0},null,null,null,0,{"$f":"LARGE($E$2:$E$241,184)","v":5.8E-4},58,0,184]
[null,{"$f":"wyniki!B222","v":0},{"$f":"wyniki!G222","v":0},1.8500000000000001E-3,1.8500000000000001E-3,{"$f":"wyniki!$A$217","v":0},null,null,null,0,{"$f":"LARGE($E$2:$E$241,185)","v":5.6999999999999998E-4},57,0,185]
[null,{"$f":"wyniki!B223","v":0},{"$f":"wyniki!G223","v":0},1.8600000000000001E-3,1.8600000000000001E-3,{"$f":"wyniki!$A$217","v":0},null,null,null,0,{"$f":"LARGE($E$2:$E$241,186)","v":5.5999999999999995E-4},56,0,186]
[null,{"$f":"wyniki!B225","v":0},{"$f":"wyniki!G225","v":0},1.8699999999999999E-3,1.8699999999999999E-3,{"$f":"wyniki!$A$224","v":0},null,null,null,0,{"$f":"LARGE($E$2:$E$241,187)","v":5.5000000000000003E-4},55,0,187]
[null,{"$f":"wyniki!B226","v":0},{"$f":"wyniki!G226","v":0},1.8799999999999999E-3,1.8799999999999999E-3,{"$f":"wyniki!$A$224","v":0},null,null,null,0,{"$f":"LARGE($E$2:$E$241,188)","v":5.4000000000000001E-4},54,0,188]
[null,{"$f":"wyniki!B227","v":0},{"$f":"wyniki!G227","v":0},1.89E-3,1.89E-3,{"$f":"wyniki!$A$224","v":0},null,null,null,0,{"$f":"LARGE($E$2:$E$241,189)","v":5.2999999999999998E-4},53,0,189]
[null,{"$f":"wyniki!B228","v":0},{"$f":"wyniki!G228","v":0},1.9E-3,1.9E-3,{"$f":"wyniki!$A$224","v":0},null,null,null,0,{"$f":"LARGE($E$2:$E$241,190)","v":5.1999999999999995E-4},52,0,190]
[null,{"$f":"wyniki!B229","v":0},{"$f":"wyniki!G229","v":0},1.91E-3,1.91E-3,{"$f":"wyniki!$A$224","v":0},null,null,null,0,{"$f":"LARGE($E$2:$E$241,191)","v":5.1000000000000004E-4},51,0,191]
[null,{"$f":"wyniki!B230","v":0},{"$f":"wyniki!G230","v":0},1.92E-3,1.92E-3,{"$f":"wyniki!$A$224","v":0},null,null,null,0,{"$f":"LARGE($E$2:$E$241,192)","v":5.0000000000000001E-4},50,0,192]
[null,{"$f":"wyniki!B232","v":0},{"$f":"wyniki!G232","v":0},1.9300000000000001E-3,1.9300000000000001E-3,{"$f":"wyniki!$A$231","v":0},null,null,null,0,{"$f":"LARGE($E$2:$E$241,193)","v":4.8999999999999998E-4},49,0,193]
[null,{"$f":"wyniki!B233","v":0},{"$f":"wyniki!G233","v":0},1.9400000000000001E-3,{"$f":"C195+D195","v":1.9400000000000001E-3},{"$f":"wyniki!$A$231","v":0},null,null,null,{"$f":"INDEX($B$2:$E$241,L195,1)","v":0},{"$f":"LARGE($E$2:$E$241,194)","v":4.8000000000000001E-4},{"$f":"MATCH(K195,$E$2:$E$241,0)","v":48},{"$f":"INDEX($E$2:$F$241,L195,2)","v":0},194]
[null,{"$f":"wyniki!B234","v":0},{"$f":"wyniki!G234","v":0},1.9499999999999999E-3,1.9499999999999999E-3,{"$f":"wyniki!$A$231","v":0},null,null,null,0,{"$f":"LARGE($E$2:$E$241,195)","v":4.6999999999999999E-4},47,0,195]
[null,{"$f":"wyniki!B235","v":0},{"$f":"wyniki!G235","v":0},1.9599999999999999E-3,1.9599999999999999E-3,{"$f":"wyniki!$A$231","v":0},null,null,null,0,{"$f":"LARGE($E$2:$E$241,196)","v":4.6000000000000001E-4},46,0,196]
[null,{"$f":"wyniki!B236","v":0},{"$f":"wyniki!G236","v":0},1.97E-3,1.97E-3,{"$f":"wyniki!$A$231","v":0},null,null,null,0,{"$f":"LARGE($E$2:$E$241,197)","v":4.4999999999999999E-4},45,0,197]
[null,{"$f":"wyniki!B237","v":0},{"$f":"wyniki!G237","v":0},1.98E-3,1.98E-3,{"$f":"wyniki!$A$231","v":0},null,null,null,0,{"$f":"LARGE($E$2:$E$241,198)","v":4.4000000000000002E-4},44,0,198]
[null,{"$f":"wyniki!B239","v":0},{"$f":"wyniki!G239","v":0},1.99E-3,1.99E-3,{"$f":"wyniki!$A$238","v":0},null,null,null,0,{"$f":"LARGE($E$2:$E$241,199)","v":4.2999999999999999E-4},43,0,199]
[null,{"$f":"wyniki!B240","v":0},{"$f":"wyniki!G240","v":0},2E-3,2E-3,{"$f":"wyniki!$A$238","v":0},null,null,null,0,{"$f":"LARGE($E$2:$E$241,200)","v":4.2000000000000002E-4},42,0,200]
[null,{"$f":"wyniki!B241","v":0},{"$f":"wyniki!G241","v":0},2.0100000000000001E-3,2.0100000000000001E-3,{"$f":"wyniki!$A$238","v":0},null,null,null,0,{"$f":"LARGE($E$2:$E$241,201)","v":4.0999999999999999E-4},41,0,201]
[null,{"$f":"wyniki!B242","v":0},{"$f":"wyniki!G242","v":0},2.0200000000000001E-3,2.0200000000000001E-3,{"$f":"wyniki!$A$238","v":0},null,null,null,0,{"$f":"LARGE($E$2:$E$241,202)","v":4.0000000000000002E-4},40,0,202]
[null,{"$f":"wyniki!B243","v":0},{"$f":"wyniki!G243","v":0},2.0300000000000001E-3,2.0300000000000001E-3,{"$f":"wyniki!$A$238","v":0},null,null,null,0,{"$f":"LARGE($E$2:$E$241,203)","v":3.8999999999999999E-4},39,0,203]
[null,{"$f":"wyniki!B244","v":0},{"$f":"wyniki!G244","v":0},2.0400000000000001E-3,2.0400000000000001E-3,{"$f":"wyniki!$A$238","v":0},null,null,null,0,{"$f":"LARGE($E$2:$E$241,204)","v":3.8000000000000002E-4},38,0,204]
[null,{"$f":"wyniki!B246","v":0},{"$f":"wyniki!G246","v":0},2.0500000000000002E-3,2.0500000000000002E-3,{"$f":"wyniki!$A$245","v":0},null,null,null,0,{"$f":"LARGE($E$2:$E$241,205)","v":3.6999999999999999E-4},37,0,205]
[null,{"$f":"wyniki!B247","v":0},{"$f":"wyniki!G247","v":0},2.0600000000000002E-3,2.0600000000000002E-3,{"$f":"wyniki!$A$245","v":0},null,null,null,0,{"$f":"LARGE($E$2:$E$241,206)","v":3.6000000000000002E-4},36,0,206]
[null,{"$f":"wyniki!B248","v":0},{"$f":"wyniki!G248","v":0},2.0699999999999998E-3,2.0699999999999998E-3,{"$f":"wyniki!$A$245","v":0},null,null,null,0,{"$f":"LARGE($E$2:$E$241,207)","v":3.5E-4},35,0,207]
[null,{"$f":"wyniki!B249","v":0},{"$f":"wyniki!G249","v":0},2.0799999999999998E-3,2.0799999999999998E-3,{"$f":"wyniki!$A$245","v":0},null,null,null,0,{"$f":"LARGE($E$2:$E$241,208)","v":3.4000000000000002E-4},34,0,208]
[null,{"$f":"wyniki!B250","v":0},{"$f":"wyniki!G250","v":0},2.0899999999999998E-3,2.0899999999999998E-3,{"$f":"wyniki!$A$245","v":0},null,null,null,0,{"$f":"LARGE($E$2:$E$241,209)","v":3.3E-4},33,0,209]
[null,{"$f":"wyniki!B251","v":0},{"$f":"wyniki!G251","v":0},2.0999999999999999E-3,2.0999999999999999E-3,{"$f":"wyniki!$A$245","v":0},null,null,null,0,{"$f":"LARGE($E$2:$E$241,210)","v":3.2000000000000003E-4},32,0,210]
[null,{"$f":"wyniki!B253","v":0},{"$f":"wyniki!G253","v":0},2.1099999999999999E-3,2.1099999999999999E-3,{"$f":"wyniki!$A$252","v":0},null,null,null,0,{"$f":"LARGE($E$2:$E$241,211)","v":3.1E-4},31,0,211]
[null,{"$f":"wyniki!B254","v":0},{"$f":"wyniki!G254","v":0},2.1199999999999999E-3,2.1199999999999999E-3,{"$f":"wyniki!$A$252","v":0},null,null,null,0,{"$f":"LARGE($E$2:$E$241,212)","v":2.9999999999999997E-4},30,0,212]
[null,{"$f":"wyniki!B255","v":0},{"$f":"wyniki!G255","v":0},2.1299999999999999E-3,2.1299999999999999E-3,{"$f":"wyniki!$A$252","v":0},null,null,null,0,{"$f":"LARGE($E$2:$E$241,213)","v":2.9E-4},29,0,213]
[null,{"$f":"wyniki!B256","v":0},{"$f":"wyniki!G256","v":0},2.14E-3,2.14E-3,{"$f":"wyniki!$A$252","v":0},null,null,null,0,{"$f":"LARGE($E$2:$E$241,214)","v":2.7999999999999998E-4},28,0,214]
[null,{"$f":"wyniki!B257","v":0},{"$f":"wyniki!G257","v":0},2.15E-3,2.15E-3,{"$f":"wyniki!$A$252","v":0},null,null,null,0,{"$f":"LARGE($E$2:$E$241,215)","v":2.7E-4},27,0,215]
[null,{"$f":"wyniki!B258","v":0},{"$f":"wyniki!G258","v":0},2.16E-3,2.16E-3,{"$f":"wyniki!$A$252","v":0},null,null,null,0,{"$f":"LARGE($E$2:$E$241,216)","v":2.5999999999999998E-4},26,0,216]
[null,{"$f":"wyniki!B260","v":0},{"$f":"wyniki!G260","v":0},2.1700000000000001E-3,2.1700000000000001E-3,{"$f":"wyniki!$A$259","v":0},null,null,null,0,{"$f":"LARGE($E$2:$E$241,217)","v":2.5000000000000001E-4},25,0,217]
[null,{"$f":"wyniki!B261","v":0},{"$f":"wyniki!G261","v":0},2.1800000000000001E-3,2.1800000000000001E-3,{"$f":"wyniki!$A$259","v":0},null,null,null,0,{"$f":"LARGE($E$2:$E$241,218)","v":2.4000000000000001E-4},24,0,218]
[null,{"$f":"wyniki!B262","v":0},{"$f":"wyniki!G262","v":0},2.1900000000000001E-3,2.1900000000000001E-3,{"$f":"wyniki!$A$259","v":0},null,null,null,0,{"$f":"LARGE($E$2:$E$241,219)","v":2.3000000000000001E-4},23,0,219]
[null,{"$f":"wyniki!B263","v":0},{"$f":"wyniki!G263","v":0},2.2000000000000001E-3,2.2000000000000001E-3,{"$f":"wyniki!$A$259","v":0},null,null,null,0,{"$f":"LARGE($E$2:$E$241,220)","v":2.2000000000000001E-4},22,0,220]
[null,{"$f":"wyniki!B264","v":0},{"$f":"wyniki!G264","v":0},2.2100000000000002E-3,2.2100000000000002E-3,{"$f":"wyniki!$A$259","v":0},null,null,null,0,{"$f":"LARGE($E$2:$E$241,221)","v":2.1000000000000001E-4},21,0,221]
[null,{"$f":"wyniki!B265","v":0},{"$f":"wyniki!G265","v":0},2.2200000000000002E-3,2.2200000000000002E-3,{"$f":"wyniki!$A$259","v":0},null,null,null,0,{"$f":"LARGE($E$2:$E$241,222)","v":2.0000000000000001E-4},20,0,222]
[null,{"$f":"wyniki!B267","v":0},{"$f":"wyniki!G267","v":0},2.2300000000000002E-3,2.2300000000000002E-3,{"$f":"wyniki!$A$266","v":0},null,null,null,0,{"$f":"LARGE($E$2:$E$241,223)","v":1.9000000000000001E-4},19,0,223]
[null,{"$f":"wyniki!B268","v":0},{"$f":"wyniki!G268","v":0},2.2399999999999998E-3,2.2399999999999998E-3,{"$f":"wyniki!$A$266","v":0},null,null,null,0,{"$f":"LARGE($E$2:$E$241,224)","v":1.8000000000000001E-4},18,0,224]
[null,{"$f":"wyniki!B269","v":0},{"$f":"wyniki!G269","v":0},2.2499999999999998E-3,2.2499999999999998E-3,{"$f":"wyniki!$A$266","v":0},null,null,null,0,{"$f":"LARGE($E$2:$E$241,225)","v":1.7000000000000001E-4},17,0,225]
[null,{"$f":"wyniki!B270","v":0},{"$f":"wyniki!G270","v":0},2.2599999999999999E-3,2.2599999999999999E-3,{"$f":"wyniki!$A$266","v":0},null,null,null,0,{"$f":"LARGE($E$2:$E$241,226)","v":1.6000000000000001E-4},16,0,226]
[null,{"$f":"wyniki!B271","v":0},{"$f":"wyniki!G271","v":0},2.2699999999999999E-3,2.2699999999999999E-3,{"$f":"wyniki!$A$266","v":0},null,null,null,0,{"$f":"LARGE($E$2:$E$241,227)","v":1.4999999999999999E-4},15,0,227]
[null,{"$f":"wyniki!B272","v":0},{"$f":"wyniki!G272","v":0},2.2799999999999999E-3,2.2799999999999999E-3,{"$f":"wyniki!$A$266","v":0},null,null,null,0,{"$f":"LARGE($E$2:$E$241,228)","v":1.3999999999999999E-4},14,0,228]
[null,{"$f":"wyniki!B274","v":0},{"$f":"wyniki!G274","v":0},2.2899999999999999E-3,2.2899999999999999E-3,{"$f":"wyniki!$A$273","v":0},null,null,null,0,{"$f":"LARGE($E$2:$E$241,229)","v":1.2999999999999999E-4},13,0,229]
[null,{"$f":"wyniki!B275","v":0},{"$f":"wyniki!G275","v":0},2.3E-3,2.3E-3,{"$f":"wyniki!$A$273","v":0},null,null,null,0,{"$f":"LARGE($E$2:$E$241,230)","v":1.2E-4},12,0,230]
[null,{"$f":"wyniki!B276","v":0},{"$f":"wyniki!G276","v":0},2.31E-3,2.31E-3,{"$f":"wyniki!$A$273","v":0},null,null,null,0,{"$f":"LARGE($E$2:$E$241,231)","v":1.1E-4},11,0,231]
[null,{"$f":"wyniki!B277","v":0},{"$f":"wyniki!G277","v":0},2.32E-3,2.32E-3,{"$f":"wyniki!$A$273","v":0},null,null,null,0,{"$f":"LARGE($E$2:$E$241,232)","v":1E-4},10,0,232]
[null,{"$f":"wyniki!B278","v":0},{"$f":"wyniki!G278","v":0},2.33E-3,2.33E-3,{"$f":"wyniki!$A$273","v":0},null,null,null,0,{"$f":"LARGE($E$2:$E$241,233)","v":8.0000000000000007E-5},8,0,233]
[null,{"$f":"wyniki!B279","v":0},{"$f":"wyniki!G279","v":0},2.3400000000000001E-3,2.3400000000000001E-3,{"$f":"wyniki!$A$273","v":0},null,null,null,0,{"$f":"LARGE($E$2:$E$241,234)","v":6.9999999999999994E-5},7,0,234]
[null,{"$f":"wyniki!B281","v":0},{"$f":"wyniki!G281","v":0},2.3500000000000001E-3,2.3500000000000001E-3,{"$f":"wyniki!$A$280","v":0},null,null,null,0,{"$f":"LARGE($E$2:$E$241,235)","v":6.0000000000000002E-5},6,"SP 234 Kursk",235]
[null,{"$f":"wyniki!B282","v":0},{"$f":"wyniki!G282","v":0},2.3600000000000001E-3,2.3600000000000001E-3,{"$f":"wyniki!$A$280","v":0},null,null,null,"zawodnik 5",{"$f":"LARGE($E$2:$E$241,236)","v":5.0000000000000002E-5},5,"SP 234 Kursk",236]
[null,{"$f":"wyniki!B283","v":0},{"$f":"wyniki!G283","v":0},2.3700000000000001E-3,2.3700000000000001E-3,{"$f":"wyniki!$A$280","v":0},null,null,null,"zawodnik 4",{"$f":"LARGE($E$2:$E$241,237)","v":4.0000000000000003E-5},4,"SP 234 Kursk",237]
[null,{"$f":"wyniki!B284","v":0},{"$f":"wyniki!G284","v":0},2.3800000000000002E-3,2.3800000000000002E-3,{"$f":"wyniki!$A$280","v":0},null,null,null,"zawodnik 3",{"$f":"LARGE($E$2:$E$241,238)","v":3.0000000000000001E-5},3,"SP 234 Kursk",238]
[null,{"$f":"wyniki!B285","v":0},{"$f":"wyniki!G285","v":0},2.3900000000000002E-3,2.3900000000000002E-3,{"$f":"wyniki!$A$280","v":0},null,null,null,"zawodnik 2",{"$f":"LARGE($E$2:$E$241,239)","v":2.0000000000000002E-5},2,"SP 234 Kursk",239]
[null,{"$f":"wyniki!B286","v":0},{"$f":"wyniki!G286","v":0},2.3999999999999998E-3,2.3999999999999998E-3,{"$f":"wyniki!$A$280","v":0},null,null,null,"zawodnik 1",{"$f":"LARGE($E$2:$E$241,240)","v":1.0000000000000001E-5},1,"SP 234 Kursk",240]

{"sheet":"w dal","index":5,"n_rows":241,"n_cols":14,"rows_kept":241,"cut":false,"hidden":false,"merged":[]}
[null,null,null,null,null,null,null,null,null,"Nazwisko/imię","Wynik",null,"Szkoła","Miejsce"]
[null,{"$f":"wyniki!B8","v":"zawodnik 1"},{"$f":"wyniki!I8","v":234},1.0000000000000001E-5,{"$f":"C2+D2","v":234.00001},{"$f":"wyniki!$A$7","v":"SP 234 Kursk"},null,null,null,{"$f":"INDEX($B$2:$E$241,L2,1)","v":"zawodnik 1"},{"$f":"LARGE($E$2:$E$241,1)","v":234.00001},{"$f":"MATCH(K2,$E$2:$E$241,0)","v":1},{"$f":"INDEX($E$2:$F$241,L2,2)","v":"SP 234 Kursk"},1]
[null,{"$f":"wyniki!B9","v":"zawodnik 2"},{"$f":"wyniki!I9","v":0},2.0000000000000002E-5,{"$f":"C3+D3","v":2.0000000000000002E-5},{"$f":"wyniki!$A$7","v":"SP 234 Kursk"},null,null,null,{"$f":"INDEX($B$2:$E$241,L3,1)","v":0},{"$f":"LARGE($E$2:$E$241,2)","v":2.3999999999999998E-3},{"$f":"MATCH(K3,$E$2:$E$241,0)","v":240},{"$f":"INDEX($E$2:$F$241,L3,2)","v":0},2]
[null,{"$f":"wyniki!B10","v":"zawodnik 3"},{"$f":"wyniki!I10","v":0},3.0000000000000001E-5,3.0000000000000001E-5,{"$f":"wyniki!$A$7","v":"SP 234 Kursk"},null,null,null,0,{"$f":"LARGE($E$2:$E$241,3)","v":2.3900000000000002E-3},239,0,3]
[null,{"$f":"wyniki!B11","v":"zawodnik 4"},{"$f":"wyniki!I11","v":0},4.0000000000000003E-5,4.0000000000000003E-5,{"$f":"wyniki!$A$7","v":"SP 234 Kursk"},null,null,null,0,{"$f":"LARGE($E$2:$E$241,4)","v":2.3800000000000002E-3},238,0,4]
[null,{"$f":"wyniki!B12","v":"zawodnik 5"},{"$f":"wyniki!I12","v":0},5.0000000000000002E-5,5.0000000000000002E-5,{"$f":"wyniki!$A$7","v":"SP 234 Kursk"},null,null,null,0,{"$f":"LARGE($E$2:$E$241,5)","v":2.3700000000000001E-3},237,0,5]
[null,{"$f":"wyniki!B13","v":0},{"$f":"wyniki!I13","v":0},6.0000000000000002E-5,6.0000000000000002E-5,{"$f":"wyniki!$A$7","v":"SP 234 Kursk"},null,null,null,0,{"$f":"LARGE($E$2:$E$241,6)","v":2.3600000000000001E-3},236,0,6]
[null,{"$f":"wyniki!B15","v":0},{"$f":"wyniki!I15","v":0},6.9999999999999994E-5,6.9999999999999994E-5,{"$f":"wyniki!$A$14","v":0},null,null,null,0,{"$f":"LARGE($E$2:$E$241,7)","v":2.3500000000000001E-3},235,0,7]
[null,{"$f":"wyniki!B16","v":0},{"$f":"wyniki!I16","v":0},8.0000000000000007E-5,8.0000000000000007E-5,{"$f":"wyniki!$A$14","v":0},null,null,null,0,{"$f":"LARGE($E$2:$E$241,8)","v":2.3400000000000001E-3},234,0,8]
[null,{"$f":"wyniki!B17","v":0},{"$f":"wyniki!I17","v":0},9.0000000000000006E-5,9.0000000000000006E-5,{"$f":"wyniki!$A$14","v":0},null,null,null,0,{"$f":"LARGE($E$2:$E$241,9)","v":2.33E-3},233,0,9]
[null,{"$f":"wyniki!B18","v":0},{"$f":"wyniki!I18","v":0},1E-4,1E-4,{"$f":"wyniki!$A$14","v":0},null,null,null,0,{"$f":"LARGE($E$2:$E$241,10)","v":2.32E-3},232,0,10]
[null,{"$f":"wyniki!B19","v":0},{"$f":"wyniki!I19","v":0},1.1E-4,1.1E-4,{"$f":"wyniki!$A$14","v":0},null,null,null,0,{"$f":"LARGE($E$2:$E$241,11)","v":2.31E-3},231,0,11]
[null,{"$f":"wyniki!B20","v":0},{"$f":"wyniki!I20","v":0},1.2E-4,1.2E-4,{"$f":"wyniki!$A$14","v":0},null,null,null,0,{"$f":"LARGE($E$2:$E$241,12)","v":2.3E-3},230,0,12]
[null,{"$f":"wyniki!B22","v":0},{"$f":"wyniki!I22","v":0},1.2999999999999999E-4,1.2999999999999999E-4,{"$f":"wyniki!$A$21","v":0},null,null,null,0,{"$f":"LARGE($E$2:$E$241,13)","v":2.2899999999999999E-3},229,0,13]
[null,{"$f":"wyniki!B23","v":0},{"$f":"wyniki!I23","v":0},1.3999999999999999E-4,1.3999999999999999E-4,{"$f":"wyniki!$A$21","v":0},null,null,null,0,{"$f":"LARGE($E$2:$E$241,14)","v":2.2799999999999999E-3},228,0,14]
[null,{"$f":"wyniki!B24","v":0},{"$f":"wyniki!I24","v":0},1.4999999999999999E-4,1.4999999999999999E-4,{"$f":"wyniki!$A$21","v":0},null,null,null,0,{"$f":"LARGE($E$2:$E$241,15)","v":2.2699999999999999E-3},227,0,15]
[null,{"$f":"wyniki!B25","v":0},{"$f":"wyniki!I25","v":0},1.6000000000000001E-4,1.6000000000000001E-4,{"$f":"wyniki!$A$21","v":0},null,null,null,0,{"$f":"LARGE($E$2:$E$241,16)","v":2.2599999999999999E-3},226,0,16]
[null,{"$f":"wyniki!B26","v":0},{"$f":"wyniki!I26","v":0},1.7000000000000001E-4,1.7000000000000001E-4,{"$f":"wyniki!$A$21","v":0},null,null,null,0,{"$f":"LARGE($E$2:$E$241,17)","v":2.2499999999999998E-3},225,0,17]
[null,{"$f":"wyniki!B27","v":0},{"$f":"wyniki!I27","v":0},1.8000000000000001E-4,1.8000000000000001E-4,{"$f":"wyniki!$A$21","v":0},null,null,null,0,{"$f":"LARGE($E$2:$E$241,18)","v":2.2399999999999998E-3},224,0,18]
[null,{"$f":"wyniki!B29","v":0},{"$f":"wyniki!I29","v":0},1.9000000000000001E-4,1.9000000000000001E-4,{"$f":"wyniki!$A$28","v":0},null,null,null,0,{"$f":"LARGE($E$2:$E$241,19)","v":2.2300000000000002E-3},223,0,19]
[null,{"$f":"wyniki!B30","v":0},{"$f":"wyniki!I30","v":0},2.0000000000000001E-4,2.0000000000000001E-4,{"$f":"wyniki!$A$28","v":0},null,null,null,0,{"$f":"LARGE($E$2:$E$241,20)","v":2.2200000000000002E-3},222,0,20]
[null,{"$f":"wyniki!B31","v":0},{"$f":"wyniki!I31","v":0},2.1000000000000001E-4,2.1000000000000001E-4,{"$f":"wyniki!$A$28","v":0},null,null,null,0,{"$f":"LARGE($E$2:$E$241,21)","v":2.2100000000000002E-3},221,0,21]
[null,{"$f":"wyniki!B32","v":0},{"$f":"wyniki!I32","v":0},2.2000000000000001E-4,2.2000000000000001E-4,{"$f":"wyniki!$A$28","v":0},null,null,null,0,{"$f":"LARGE($E$2:$E$241,22)","v":2.2000000000000001E-3},220,0,22]
[null,{"$f":"wyniki!B33","v":0},{"$f":"wyniki!I33","v":0},2.3000000000000001E-4,2.3000000000000001E-4,{"$f":"wyniki!$A$28","v":0},null,null,null,0,{"$f":"LARGE($E$2:$E$241,23)","v":2.1900000000000001E-3},219,0,23]
[null,{"$f":"wyniki!B34","v":0},{"$f":"wyniki!I34","v":0},2.4000000000000001E-4,2.4000000000000001E-4,{"$f":"wyniki!$A$28","v":0},null,null,null,0,{"$f":"LARGE($E$2:$E$241,24)","v":2.1800000000000001E-3},218,0,24]
[null,{"$f":"wyniki!B36","v":0},{"$f":"wyniki!I36","v":0},2.5000000000000001E-4,2.5000000000000001E-4,{"$f":"wyniki!$A$35","v":0},null,null,null,0,{"$f":"LARGE($E$2:$E$241,25)","v":2.1700000000000001E-3},217,0,25]
[null,{"$f":"wyniki!B37","v":0},{"$f":"wyniki!I37","v":0},2.5999999999999998E-4,2.5999999999999998E-4,{"$f":"wyniki!$A$35","v":0},null,null,null,0,{"$f":"LARGE($E$2:$E$241,26)","v":2.16E-3},216,0,26]
[null,{"$f":"wyniki!B38","v":0},{"$f":"wyniki!I38","v":0},2.7E-4,2.7E-4,{"$f":"wyniki!$A$35","v":0},null,null,null,0,{"$f":"LARGE($E$2:$E$241,27)","v":2.15E-3},215,0,27]
[null,{"$f":"wyniki!B39","v":0},{"$f":"wyniki!I39","v":0},2.7999999999999998E-4,2.7999999999999998E-4,{"$f":"wyniki!$A$35","v":0},null,null,null,0,{"$f":"LARGE($E$2:$E$241,28)","v":2.14E-3},214,0,28]
[null,{"$f":"wyniki!B40","v":0},{"$f":"wyniki!I40","v":0},2.9E-4,2.9E-4,{"$f":"wyniki!$A$35","v":0},null,null,null,0,{"$f":"LARGE($E$2:$E$241,29)","v":2.1299999999999999E-3},213,0,29]
[null,{"$f":"wyniki!B41","v":0},{"$f":"wyniki!I41","v":0},2.9999999999999997E-4,2.9999999999999997E-4,{"$f":"wyniki!$A$35","v":0},null,null,null,0,{"$f":"LARGE($E$2:$E$241,30)","v":2.1199999999999999E-3},212,0,30]
[null,{"$f":"wyniki!B43","v":0},{"$f":"wyniki!I43","v":0},3.1E-4,3.1E-4,{"$f":"wyniki!$A$42","v":0},null,null,null,0,{"$f":"LARGE($E$2:$E$241,31)","v":2.1099999999999999E-3},211,0,31]
[null,{"$f":"wyniki!B44","v":0},{"$f":"wyniki!I44","v":0},3.2000000000000003E-4,3.2000000000000003E-4,{"$f":"wyniki!$A$42","v":0},null,null,null,0,{"$f":"LARGE($E$2:$E$241,32)","v":2.0999999999999999E-3},210,0,32]
[null,{"$f":"wyniki!B45","v":0},{"$f":"wyniki!I45","v":0},3.3E-4,3.3E-4,{"$f":"wyniki!$A$42","v":0},null,null,null,0,{"$f":"LARGE($E$2:$E$241,33)","v":2.0899999999999998E-3},209,0,33]
[null,{"$f":"wyniki!B46","v":0},{"$f":"wyniki!I46","v":0},3.4000000000000002E-4,3.4000000000000002E-4,{"$f":"wyniki!$A$42","v":0},null,null,null,0,{"$f":"LARGE($E$2:$E$241,34)","v":2.0799999999999998E-3},208,0,34]
[null,{"$f":"wyniki!B47","v":0},{"$f":"wyniki!I47","v":0},3.5E-4,3.5E-4,{"$f":"wyniki!$A$42","v":0},null,null,null,0,{"$f":"LARGE($E$2:$E$241,35)","v":2.0699999999999998E-3},207,0,35]
[null,{"$f":"wyniki!B48","v":0},{"$f":"wyniki!I48","v":0},3.6000000000000002E-4,3.6000000000000002E-4,{"$f":"wyniki!$A$42","v":0},null,null,null,0,{"$f":"LARGE($E$2:$E$241,36)","v":2.0600000000000002E-3},206,0,36]
[null,{"$f":"wyniki!B50","v":0},{"$f":"wyniki!I50","v":0},3.6999999999999999E-4,3.6999999999999999E-4,{"$f":"wyniki!$A$49","v":0},null,null,null,0,{"$f":"LARGE($E$2:$E$241,37)","v":2.0500000000000002E-3},205,0,37]
[null,{"$f":"wyniki!B51","v":0},{"$f":"wyniki!I51","v":0},3.8000000000000002E-4,3.8000000000000002E-4,{"$f":"wyniki!$A$49","v":0},null,null,null,0,{"$f":"LARGE($E$2:$E$241,38)","v":2.0400000000000001E-3},204,0,38]
[null,{"$f":"wyniki!B52","v":0},{"$f":"wyniki!I52","v":0},3.8999999999999999E-4,3.8999999999999999E-4,{"$f":"wyniki!$A$49","v":0},null,null,null,0,{"$f":"LARGE($E$2:$E$241,39)","v":2.0300000000000001E-3},203,0,39]
[null,{"$f":"wyniki!B53","v":0},{"$f":"wyniki!I53","v":0},4.0000000000000002E-4,4.0000000000000002E-4,{"$f":"wyniki!$A$49","v":0},null,null,null,0,{"$f":"LARGE($E$2:$E$241,40)","v":2.0200000000000001E-3},202,0,40]
[null,{"$f":"wyniki!B54","v":0},{"$f":"wyniki!I54","v":0},4.0999999999999999E-4,4.0999999999999999E-4,{"$f":"wyniki!$A$49","v":0},null,null,null,0,{"$f":"LARGE($E$2:$E$241,41)","v":2.0100000000000001E-3},201,0,41]
[null,{"$f":"wyniki!B55","v":0},{"$f":"wyniki!I55","v":0},4.2000000000000002E-4,4.2000000000000002E-4,{"$f":"wyniki!$A$49","v":0},null,null,null,0,{"$f":"LARGE($E$2:$E$241,42)","v":2E-3},200,0,42]
[null,{"$f":"wyniki!B57","v":0},{"$f":"wyniki!I57","v":0},4.2999999999999999E-4,4.2999999999999999E-4,{"$f":"wyniki!$A$56","v":0},null,null,null,0,{"$f":"LARGE($E$2:$E$241,43)","v":1.99E-3},199,0,43]
[null,{"$f":"wyniki!B58","v":0},{"$f":"wyniki!I58","v":0},4.4000000000000002E-4,4.4000000000000002E-4,{"$f":"wyniki!$A$56","v":0},null,null,null,0,{"$f":"LARGE($E$2:$E$241,44)","v":1.98E-3},198,0,44]
[null,{"$f":"wyniki!B59","v":0},{"$f":"wyniki!I59","v":0},4.4999999999999999E-4,4.4999999999999999E-4,{"$f":"wyniki!$A$56","v":0},null,null,null,0,{"$f":"LARGE($E$2:$E$241,45)","v":1.97E-3},197,0,45]
[null,{"$f":"wyniki!B60","v":0},{"$f":"wyniki!I60","v":0},4.6000000000000001E-4,4.6000000000000001E-4,{"$f":"wyniki!$A$56","v":0},null,null,null,0,{"$f":"LARGE($E$2:$E$241,46)","v":1.9599999999999999E-3},196,0,46]
[null,{"$f":"wyniki!B61","v":0},{"$f":"wyniki!I61","v":0},4.6999999999999999E-4,4.6999999999999999E-4,{"$f":"wyniki!$A$56","v":0},null,null,null,0,{"$f":"LARGE($E$2:$E$241,47)","v":1.9499999999999999E-3},195,0,47]
[null,{"$f":"wyniki!B62","v":0},{"$f":"wyniki!I62","v":0},4.8000000000000001E-4,4.8000000000000001E-4,{"$f":"wyniki!$A$56","v":0},null,null,null,0,{"$f":"LARGE($E$2:$E$241,48)","v":1.9400000000000001E-3},194,0,48]
[null,{"$f":"wyniki!B64","v":0},{"$f":"wyniki!I64","v":0},4.8999999999999998E-4,4.8999999999999998E-4,{"$f":"wyniki!$A$63","v":0},null,null,null,0,{"$f":"LARGE($E$2:$E$241,49)","v":1.9300000000000001E-3},193,0,49]
[null,{"$f":"wyniki!B65","v":0},{"$f":"wyniki!I65","v":0},5.0000000000000001E-4,5.0000000000000001E-4,{"$f":"wyniki!$A$63","v":0},null,null,null,0,{"$f":"LARGE($E$2:$E$241,50)","v":1.92E-3},192,0,50]
[null,{"$f":"wyniki!B66","v":0},{"$f":"wyniki!I66","v":0},5.1000000000000004E-4,5.1000000000000004E-4,{"$f":"wyniki!$A$63","v":0},null,null,null,0,{"$f":"LARGE($E$2:$E$241,51)","v":1.91E-3},191,0,51]
[null,{"$f":"wyniki!B67","v":0},{"$f":"wyniki!I67","v":0},5.1999999999999995E-4,5.1999999999999995E-4,{"$f":"wyniki!$A$63","v":0},null,null,null,0,{"$f":"LARGE($E$2:$E$241,52)","v":1.9E-3},190,0,52]
[null,{"$f":"wyniki!B68","v":0},{"$f":"wyniki!I68","v":0},5.2999999999999998E-4,5.2999999999999998E-4,{"$f":"wyniki!$A$63","v":0},null,null,null,0,{"$f":"LARGE($E$2:$E$241,53)","v":1.89E-3},189,0,53]
[null,{"$f":"wyniki!B69","v":0},{"$f":"wyniki!I69","v":0},5.4000000000000001E-4,5.4000000000000001E-4,{"$f":"wyniki!$A$63","v":0},null,null,null,0,{"$f":"LARGE($E$2:$E$241,54)","v":1.8799999999999999E-3},188,0,54]
[null,{"$f":"wyniki!B71","v":0},{"$f":"wyniki!I71","v":0},5.5000000000000003E-4,5.5000000000000003E-4,{"$f":"wyniki!$A$70","v":0},null,null,null,0,{"$f":"LARGE($E$2:$E$241,55)","v":1.8699999999999999E-3},187,0,55]
[null,{"$f":"wyniki!B72","v":0},{"$f":"wyniki!I72","v":0},5.5999999999999995E-4,5.5999999999999995E-4,{"$f":"wyniki!$A$70","v":0},null,null,null,0,{"$f":"LARGE($E$2:$E$241,56)","v":1.8600000000000001E-3},186,0,56]
[null,{"$f":"wyniki!B73","v":0},{"$f":"wyniki!I73","v":0},5.6999999999999998E-4,5.6999999999999998E-4,{"$f":"wyniki!$A$70","v":0},null,null,null,0,{"$f":"LARGE($E$2:$E$241,57)","v":1.8500000000000001E-3},185,0,57]
[null,{"$f":"wyniki!B74","v":0},{"$f":"wyniki!I74","v":0},5.8E-4,5.8E-4,{"$f":"wyniki!$A$70","v":0},null,null,null,0,{"$f":"LARGE($E$2:$E$241,58)","v":1.8400000000000001E-3},184,0,58]
[null,{"$f":"wyniki!B75","v":0},{"$f":"wyniki!I75","v":0},5.9000000000000003E-4,5.9000000000000003E-4,{"$f":"wyniki!$A$70","v":0},null,null,null,0,{"$f":"LARGE($E$2:$E$241,59)","v":1.83E-3},183,0,59]
[null,{"$f":"wyniki!B76","v":0},{"$f":"wyniki!I76","v":0},5.9999999999999995E-4,5.9999999999999995E-4,{"$f":"wyniki!$A$70","v":0},null,null,null,0,{"$f":"LARGE($E$2:$E$241,60)","v":1.82E-3},182,0,60]
[null,{"$f":"wyniki!B78","v":0},{"$f":"wyniki!I78","v":0},6.0999999999999997E-4,6.0999999999999997E-4,{"$f":"wyniki!$A$77","v":0},null,null,null,0,{"$f":"LARGE($E$2:$E$241,61)","v":1.81E-3},181,0,61]
[null,{"$f":"wyniki!B79","v":0},{"$f":"wyniki!I79","v":0},6.2E-4,6.2E-4,{"$f":"wyniki!$A$77","v":0},null,null,null,0,{"$f":"LARGE($E$2:$E$241,62)","v":1.8E-3},180,0,62]
[null,{"$f":"wyniki!B80","v":0},{"$f":"wyniki!I80","v":0},6.3000000000000003E-4,6.3000000000000003E-4,{"$f":"wyniki!$A$77","v":0},null,null,null,0,{"$f":"LARGE($E$2:$E$241,63)","v":1.7899999999999999E-3},179,0,63]
[null,{"$f":"wyniki!B81","v":0},{"$f":"wyniki!I81","v":0},6.4000000000000005E-4,6.4000000000000005E-4,{"$f":"wyniki!$A$77","v":0},null,null,null,0,{"$f":"LARGE($E$2:$E$241,64)","v":1.7799999999999999E-3},178,0,64]
[null,{"$f":"wyniki!B82","v":0},{"$f":"wyniki!I82","v":0},6.4999999999999997E-4,6.4999999999999997E-4,{"$f":"wyniki!$A$77","v":0},null,null,null,0,{"$f":"LARGE($E$2:$E$241,65)","v":1.7700000000000001E-3},177,0,65]
[null,{"$f":"wyniki!B83","v":0},{"$f":"wyniki!I83","v":0},6.6E-4,{"$f":"C67+D67","v":6.6E-4},{"$f":"wyniki!$A$77","v":0},null,null,null,{"$f":"INDEX($B$2:$E$241,L67,1)","v":0},{"$f":"LARGE($E$2:$E$241,66)","v":1.7600000000000001E-3},{"$f":"MATCH(K67,$E$2:$E$241,0)","v":176},{"$f":"INDEX($E$2:$F$241,L67,2)","v":0},66]
[null,{"$f":"wyniki!B85","v":0},{"$f":"wyniki!I85","v":0},6.7000000000000002E-4,6.7000000000000002E-4,{"$f":"wyniki!$A$84","v":0},null,null,null,0,{"$f":"LARGE($E$2:$E$241,67)","v":1.75E-3},175,0,67]
[null,{"$f":"wyniki!B86","v":0},{"$f":"wyniki!I86","v":0},6.8000000000000005E-4,6.8000000000000005E-4,{"$f":"wyniki!$A$84","v":0},null,null,null,0,{"$f":"LARGE($E$2:$E$241,68)","v":1.74E-3},174,0,68]
[null,{"$f":"wyniki!B87","v":0},{"$f":"wyniki!I87","v":0},6.8999999999999997E-4,6.8999999999999997E-4,{"$f":"wyniki!$A$84","v":0},null,null,null,0,{"$f":"LARGE($E$2:$E$241,69)","v":1.73E-3},173,0,69]
[null,{"$f":"wyniki!B88","v":0},{"$f":"wyniki!I88","v":0},6.9999999999999999E-4,6.9999999999999999E-4,{"$f":"wyniki!$A$84","v":0},null,null,null,0,{"$f":"LARGE($E$2:$E$241,70)","v":1.72E-3},172,0,70]
[null,{"$f":"wyniki!B89","v":0},{"$f":"wyniki!I89","v":0},7.1000000000000002E-4,7.1000000000000002E-4,{"$f":"wyniki!$A$84","v":0},null,null,null,0,{"$f":"LARGE($E$2:$E$241,71)","v":1.7099999999999999E-3},171,0,71]
[null,{"$f":"wyniki!B90","v":0},{"$f":"wyniki!I90","v":0},7.2000000000000005E-4,7.2000000000000005E-4,{"$f":"wyniki!$A$84","v":0},null,null,null,0,{"$f":"LARGE($E$2:$E$241,72)","v":1.6999999999999999E-3},170,0,72]
[null,{"$f":"wyniki!B92","v":0},{"$f":"wyniki!I92","v":0},7.2999999999999996E-4,7.2999999999999996E-4,{"$f":"wyniki!$A$91","v":0},null,null,null,0,{"$f":"LARGE($E$2:$E$241,73)","v":1.6900000000000001E-3},169,0,73]
[null,{"$f":"wyniki!B93","v":0},{"$f":"wyniki!I93","v":0},7.3999999999999999E-4,7.3999999999999999E-4,{"$f":"wyniki!$A$91","v":0},null,null,null,0,{"$f":"LARGE($E$2:$E$241,74)","v":1.6800000000000001E-3},168,0,74]
[null,{"$f":"wyniki!B94","v":0},{"$f":"wyniki!I94","v":0},7.5000000000000002E-4,7.5000000000000002E-4,{"$f":"wyniki!$A$91","v":0},null,null,null,0,{"$f":"LARGE($E$2:$E$241,75)","v":1.67E-3},167,0,75]
[null,{"$f":"wyniki!B95","v":0},{"$f":"wyniki!I95","v":0},7.6000000000000004E-4,7.6000000000000004E-4,{"$f":"wyniki!$A$91","v":0},null,null,null,0,{"$f":"LARGE($E$2:$E$241,76)","v":1.66E-3},166,0,76]
[null,{"$f":"wyniki!B96","v":0},{"$f":"wyniki!I96","v":0},7.6999999999999996E-4,7.6999999999999996E-4,{"$f":"wyniki!$A$91","v":0},null,null,null,0,{"$f":"LARGE($E$2:$E$241,77)","v":1.65E-3},165,0,77]
[null,{"$f":"wyniki!B97","v":0},{"$f":"wyniki!I97","v":0},7.7999999999999999E-4,7.7999999999999999E-4,{"$f":"wyniki!$A$91","v":0},null,null,null,0,{"$f":"LARGE($E$2:$E$241,78)","v":1.64E-3},164,0,78]
[null,{"$f":"wyniki!B99","v":0},{"$f":"wyniki!I99","v":0},7.9000000000000001E-4,7.9000000000000001E-4,{"$f":"wyniki!$A$98","v":0},null,null,null,0,{"$f":"LARGE($E$2:$E$241,79)","v":1.6299999999999999E-3},163,0,79]
[null,{"$f":"wyniki!B100","v":0},{"$f":"wyniki!I100","v":0},8.0000000000000004E-4,8.0000000000000004E-4,{"$f":"wyniki!$A$98","v":0},null,null,null,0,{"$f":"LARGE($E$2:$E$241,80)","v":1.6199999999999999E-3},162,0,80]
[null,{"$f":"wyniki!B101","v":0},{"$f":"wyniki!I101","v":0},8.0999999999999996E-4,8.0999999999999996E-4,{"$f":"wyniki!$A$98","v":0},null,null,null,0,{"$f":"LARGE($E$2:$E$241,81)","v":1.6100000000000001E-3},161,0,81]
[null,{"$f":"wyniki!B102","v":0},{"$f":"wyniki!I102","v":0},8.1999999999999998E-4,8.1999999999999998E-4,{"$f":"wyniki!$A$98","v":0},null,null,null,0,{"$f":"LARGE($E$2:$E$241,82)","v":1.6000000000000001E-3},160,0,82]
[null,{"$f":"wyniki!B103","v":0},{"$f":"wyniki!I103","v":0},8.3000000000000001E-4,8.3000000000000001E-4,{"$f":"wyniki!$A$98","v":0},null,null,null,0,{"$f":"LARGE($E$2:$E$241,83)","v":1.5900000000000001E-3},159,0,83]
[null,{"$f":"wyniki!B104","v":0},{"$f":"wyniki!I104","v":0},8.4000000000000003E-4,8.4000000000000003E-4,{"$f":"wyniki!$A$98","v":0},null,null,null,0,{"$f":"LARGE($E$2:$E$241,84)","v":1.58E-3},158,0,84]
[null,{"$f":"wyniki!B106","v":0},{"$f":"wyniki!I106","v":0},8.4999999999999995E-4,8.4999999999999995E-4,{"$f":"wyniki!$A$105","v":0},null,null,null,0,{"$f":"LARGE($E$2:$E$241,85)","v":1.57E-3},157,0,85]
[null,{"$f":"wyniki!B107","v":0},{"$f":"wyniki!I107","v":0},8.5999999999999998E-4,8.5999999999999998E-4,{"$f":"wyniki!$A$105","v":0},null,null,null,0,{"$f":"LARGE($E$2:$E$241,86)","v":1.56E-3},156,0,86]
[null,{"$f":"wyniki!B108","v":0},{"$f":"wyniki!I108","v":0},8.7000000000000001E-4,8.7000000000000001E-4,{"$f":"wyniki!$A$105","v":0},null,null,null,0,{"$f":"LARGE($E$2:$E$241,87)","v":1.5499999999999999E-3},155,0,87]
[null,{"$f":"wyniki!B109","v":0},{"$f":"wyniki!I109","v":0},8.8000000000000003E-4,8.8000000000000003E-4,{"$f":"wyniki!$A$105","v":0},null,null,null,0,{"$f":"LARGE($E$2:$E$241,88)","v":1.5399999999999999E-3},154,0,88]
[null,{"$f":"wyniki!B110","v":0},{"$f":"wyniki!I110","v":0},8.8999999999999995E-4,8.8999999999999995E-4,{"$f":"wyniki!$A$105","v":0},null,null,null,0,{"$f":"LARGE($E$2:$E$241,89)","v":1.5299999999999999E-3},153,0,89]
[null,{"$f":"wyniki!B111","v":0},{"$f":"wyniki!I111","v":0},8.9999999999999998E-4,8.9999999999999998E-4,{"$f":"wyniki!$A$105","v":0},null,null,null,0,{"$f":"LARGE($E$2:$E$241,90)","v":1.5200000000000001E-3},152,0,90]
[null,{"$f":"wyniki!B113","v":0},{"$f":"wyniki!I113","v":0},9.1E-4,9.1E-4,{"$f":"wyniki!$A$112","v":0},null,null,null,0,{"$f":"LARGE($E$2:$E$241,91)","v":1.5100000000000001E-3},151,0,91]
[null,{"$f":"wyniki!B114","v":0},{"$f":"wyniki!I114","v":0},9.2000000000000003E-4,9.2000000000000003E-4,{"$f":"wyniki!$A$112","v":0},null,null,null,0,{"$f":"LARGE($E$2:$E$241,92)","v":1.5E-3},150,0,92]
[null,{"$f":"wyniki!B115","v":0},{"$f":"wyniki!I115","v":0},9.3000000000000005E-4,9.3000000000000005E-4,{"$f":"wyniki!$A$112","v":0},null,null,null,0,{"$f":"LARGE($E$2:$E$241,93)","v":1.49E-3},149,0,93]
[null,{"$f":"wyniki!B116","v":0},{"$f":"wyniki!I116","v":0},9.3999999999999997E-4,9.3999999999999997E-4,{"$f":"wyniki!$A$112","v":0},null,null,null,0,{"$f":"LARGE($E$2:$E$241,94)","v":1.48E-3},148,0,94]
[null,{"$f":"wyniki!B117","v":0},{"$f":"wyniki!I117","v":0},9.5E-4,9.5E-4,{"$f":"wyniki!$A$112","v":0},null,null,null,0,{"$f":"LARGE($E$2:$E$241,95)","v":1.47E-3},147,0,95]
[null,{"$f":"wyniki!B118","v":0},{"$f":"wyniki!I118","v":0},9.6000000000000002E-4,9.6000000000000002E-4,{"$f":"wyniki!$A$112","v":0},null,null,null,0,{"$f":"LARGE($E$2:$E$241,96)","v":1.4599999999999999E-3},146,0,96]
[null,{"$f":"wyniki!B120","v":0},{"$f":"wyniki!I120","v":0},9.7000000000000005E-4,9.7000000000000005E-4,{"$f":"wyniki!$A$119","v":0},null,null,null,0,{"$f":"LARGE($E$2:$E$241,97)","v":1.4499999999999999E-3},145,0,97]
[null,{"$f":"wyniki!B121","v":0},{"$f":"wyniki!I121","v":0},9.7999999999999997E-4,9.7999999999999997E-4,{"$f":"wyniki!$A$119","v":0},null,null,null,0,{"$f":"LARGE($E$2:$E$241,98)","v":1.4400000000000001E-3},144,0,98]
[null,{"$f":"wyniki!B122","v":0},{"$f":"wyniki!I122","v":0},9.8999999999999999E-4,9.8999999999999999E-4,{"$f":"wyniki!$A$119","v":0},null,null,null,0,{"$f":"LARGE($E$2:$E$241,99)","v":1.4300000000000001E-3},143,0,99]
[null,{"$f":"wyniki!B123","v":0},{"$f":"wyniki!I123","v":0},1E-3,1E-3,{"$f":"wyniki!$A$119","v":0},null,null,null,0,{"$f":"LARGE($E$2:$E$241,100)","v":1.42E-3},142,0,100]
[null,{"$f":"wyniki!B124","v":0},{"$f":"wyniki!I124","v":0},1.01E-3,1.01E-3,{"$f":"wyniki!$A$119","v":0},null,null,null,0,{"$f":"LARGE($E$2:$E$241,101)","v":1.41E-3},141,0,101]
[null,{"$f":"wyniki!B125","v":0},{"$f":"wyniki!I125","v":0},1.0200000000000001E-3,1.0200000000000001E-3,{"$f":"wyniki!$A$119","v":0},null,null,null,0,{"$f":"LARGE($E$2:$E$241,102)","v":1.4E-3},140,0,102]
[null,{"$f":"wyniki!B127","v":0},{"$f":"wyniki!I127","v":0},1.0300000000000001E-3,1.0300000000000001E-3,{"$f":"wyniki!$A$126","v":0},null,null,null,0,{"$f":"LARGE($E$2:$E$241,103)","v":1.39E-3},139,0,103]
[null,{"$f":"wyniki!B128","v":0},{"$f":"wyniki!I128","v":0},1.0399999999999999E-3,1.0399999999999999E-3,{"$f":"wyniki!$A$126","v":0},null,null,null,0,{"$f":"LARGE($E$2:$E$241,104)","v":1.3799999999999999E-3},138,0,104]
[null,{"$f":"wyniki!B129","v":0},{"$f":"wyniki!I129","v":0},1.0499999999999999E-3,1.0499999999999999E-3,{"$f":"wyniki!$A$126","v":0},null,null,null,0,{"$f":"LARGE($E$2:$E$241,105)","v":1.3699999999999999E-3},137,0,105]
[null,{"$f":"wyniki!B130","v":0},{"$f":"wyniki!I130","v":0},1.06E-3,1.06E-3,{"$f":"wyniki!$A$126","v":0},null,null,null,0,{"$f":"LARGE($E$2:$E$241,106)","v":1.3600000000000001E-3},136,0,106]
[null,{"$f":"wyniki!B131","v":0},{"$f":"wyniki!I131","v":0},1.07E-3,1.07E-3,{"$f":"wyniki!$A$126","v":0},null,null,null,0,{"$f":"LARGE($E$2:$E$241,107)","v":1.3500000000000001E-3},135,0,107]
[null,{"$f":"wyniki!B132","v":0},{"$f":"wyniki!I132","v":0},1.08E-3,1.08E-3,{"$f":"wyniki!$A$126","v":0},null,null,null,0,{"$f":"LARGE($E$2:$E$241,108)","v":1.34E-3},134,0,108]
[null,{"$f":"wyniki!B134","v":0},{"$f":"wyniki!I134","v":0},1.09E-3,1.09E-3,{"$f":"wyniki!$A$133","v":0},null,null,null,0,{"$f":"LARGE($E$2:$E$241,109)","v":1.33E-3},133,0,109]
[null,{"$f":"wyniki!B135","v":0},{"$f":"wyniki!I135","v":0},1.1000000000000001E-3,1.1000000000000001E-3,{"$f":"wyniki!$A$133","v":0},null,null,null,0,{"$f":"LARGE($E$2:$E$241,110)","v":1.32E-3},132,0,110]
[null,{"$f":"wyniki!B136","v":0},{"$f":"wyniki!I136","v":0},1.1100000000000001E-3,1.1100000000000001E-3,{"$f":"wyniki!$A$133","v":0},null,null,null,0,{"$f":"LARGE($E$2:$E$241,111)","v":1.31E-3},131,0,111]
[null,{"$f":"wyniki!B137","v":0},{"$f":"wyniki!I137","v":0},1.1199999999999999E-3,1.1199999999999999E-3,{"$f":"wyniki!$A$133","v":0},null,null,null,0,{"$f":"LARGE($E$2:$E$241,112)","v":1.2999999999999999E-3},130,0,112]
[null,{"$f":"wyniki!B138","v":0},{"$f":"wyniki!I138","v":0},1.1299999999999999E-3,1.1299999999999999E-3,{"$f":"wyniki!$A$133","v":0},null,null,null,0,{"$f":"LARGE($E$2:$E$241,113)","v":1.2899999999999999E-3},129,0,113]
[null,{"$f":"wyniki!B139","v":0},{"$f":"wyniki!I139","v":0},1.14E-3,1.14E-3,{"$f":"wyniki!$A$133","v":0},null,null,null,0,{"$f":"LARGE($E$2:$E$241,114)","v":1.2800000000000001E-3},128,0,114]
[null,{"$f":"wyniki!B141","v":0},{"$f":"wyniki!I141","v":0},1.15E-3,1.15E-3,{"$f":"wyniki!$A$140","v":0},null,null,null,0,{"$f":"LARGE($E$2:$E$241,115)","v":1.2700000000000001E-3},127,0,115]
[null,{"$f":"wyniki!B142","v":0},{"$f":"wyniki!I142","v":0},1.16E-3,1.16E-3,{"$f":"wyniki!$A$140","v":0},null,null,null,0,{"$f":"LARGE($E$2:$E$241,116)","v":1.2600000000000001E-3},126,0,116]
[null,{"$f":"wyniki!B143","v":0},{"$f":"wyniki!I143","v":0},1.17E-3,1.17E-3,{"$f":"wyniki!$A$140","v":0},null,null,null,0,{"$f":"LARGE($E$2:$E$241,117)","v":1.25E-3},125,0,117]
[null,{"$f":"wyniki!B144","v":0},{"$f":"wyniki!I144","v":0},1.1800000000000001E-3,1.1800000000000001E-3,{"$f":"wyniki!$A$140","v":0},null,null,null,0,{"$f":"LARGE($E$2:$E$241,118)","v":1.24E-3},124,0,118]
[null,{"$f":"wyniki!B145","v":0},{"$f":"wyniki!I145","v":0},1.1900000000000001E-3,1.1900000000000001E-3,{"$f":"wyniki!$A$140","v":0},null,null,null,0,{"$f":"LARGE($E$2:$E$241,119)","v":1.23E-3},123,0,119]
[null,{"$f":"wyniki!B146","v":0},{"$f":"wyniki!I146","v":0},1.1999999999999999E-3,1.1999999999999999E-3,{"$f":"wyniki!$A$140","v":0},null,null,null,0,{"$f":"LARGE($E$2:$E$241,120)","v":1.2199999999999999E-3},122,0,120]
[null,{"$f":"wyniki!B148","v":0},{"$f":"wyniki!I148","v":0},1.2099999999999999E-3,1.2099999999999999E-3,{"$f":"wyniki!$A$147","v":0},null,null,null,0,{"$f":"LARGE($E$2:$E$241,121)","v":1.2099999999999999E-3},121,0,121]
[null,{"$f":"wyniki!B149","v":0},{"$f":"wyniki!I149","v":0},1.2199999999999999E-3,1.2199999999999999E-3,{"$f":"wyniki!$A$147","v":0},null,null,null,0,{"$f":"LARGE($E$2:$E$241,122)","v":1.1999999999999999E-3},120,0,122]
[null,{"$f":"wyniki!B150","v":0},{"$f":"wyniki!I150","v":0},1.23E-3,1.23E-3,{"$f":"wyniki!$A$147","v":0},null,null,null,0,{"$f":"LARGE($E$2:$E$241,123)","v":1.1900000000000001E-3},119,0,123]
[null,{"$f":"wyniki!B151","v":0},{"$f":"wyniki!I151","v":0},1.24E-3,1.24E-3,{"$f":"wyniki!$A$147","v":0},null,null,null,0,{"$f":"LARGE($E$2:$E$241,124)","v":1.1800000000000001E-3},118,0,124]
[null,{"$f":"wyniki!B152","v":0},{"$f":"wyniki!I152","v":0},1.25E-3,1.25E-3,{"$f":"wyniki!$A$147","v":0},null,null,null,0,{"$f":"LARGE($E$2:$E$241,125)","v":1.17E-3},117,0,125]
[null,{"$f":"wyniki!B153","v":0},{"$f":"wyniki!I153","v":0},1.2600000000000001E-3,1.2600000000000001E-3,{"$f":"wyniki!$A$147","v":0},null,null,null,0,{"$f":"LARGE($E$2:$E$241,126)","v":1.16E-3},116,0,126]
[null,{"$f":"wyniki!B155","v":0},{"$f":"wyniki!I155","v":0},1.2700000000000001E-3,1.2700000000000001E-3,{"$f":"wyniki!$A$154","v":0},null,null,null,0,{"$f":"LARGE($E$2:$E$241,127)","v":1.15E-3},115,0,127]
[null,{"$f":"wyniki!B156","v":0},{"$f":"wyniki!I156","v":0},1.2800000000000001E-3,1.2800000000000001E-3,{"$f":"wyniki!$A$154","v":0},null,null,null,0,{"$f":"LARGE($E$2:$E$241,128)","v":1.14E-3},114,0,128]
[null,{"$f":"wyniki!B157","v":0},{"$f":"wyniki!I157","v":0},1.2899999999999999E-3,1.2899999999999999E-3,{"$f":"wyniki!$A$154","v":0},null,null,null,0,{"$f":"LARGE($E$2:$E$241,129)","v":1.1299999999999999E-3},113,0,129]
[null,{"$f":"wyniki!B158","v":0},{"$f":"wyniki!I158","v":0},1.2999999999999999E-3,{"$f":"C131+D131","v":1.2999999999999999E-3},{"$f":"wyniki!$A$154","v":0},null,null,null,{"$f":"INDEX($B$2:$E$241,L131,1)","v":0},{"$f":"LARGE($E$2:$E$241,130)","v":1.1199999999999999E-3},{"$f":"MATCH(K131,$E$2:$E$241,0)","v":112},{"$f":"INDEX($E$2:$F$241,L131,2)","v":0},130]
[null,{"$f":"wyniki!B159","v":0},{"$f":"wyniki!I159","v":0},1.31E-3,1.31E-3,{"$f":"wyniki!$A$154","v":0},null,null,null,0,{"$f":"LARGE($E$2:$E$241,131)","v":1.1100000000000001E-3},111,0,131]
[null,{"$f":"wyniki!B160","v":0},{"$f":"wyniki!I160","v":0},1.32E-3,1.32E-3,{"$f":"wyniki!$A$154","v":0},null,null,null,0,{"$f":"LARGE($E$2:$E$241,132)","v":1.1000000000000001E-3},110,0,132]
[null,{"$f":"wyniki!B162","v":0},{"$f":"wyniki!I162","v":0},1.33E-3,1.33E-3,{"$f":"wyniki!$A$161","v":0},null,null,null,0,{"$f":"LARGE($E$2:$E$241,133)","v":1.09E-3},109,0,133]
[null,{"$f":"wyniki!B163","v":0},{"$f":"wyniki!I163","v":0},1.34E-3,1.34E-3,{"$f":"wyniki!$A$161","v":0},null,null,null,0,{"$f":"LARGE($E$2:$E$241,134)","v":1.08E-3},108,0,134]
[null,{"$f":"wyniki!B164","v":0},{"$f":"wyniki!I164","v":0},1.3500000000000001E-3,1.3500000000000001E-3,{"$f":"wyniki!$A$161","v":0},null,null,null,0,{"$f":"LARGE($E$2:$E$241,135)","v":1.07E-3},107,0,135]
[null,{"$f":"wyniki!B165","v":0},{"$f":"wyniki!I165","v":0},1.3600000000000001E-3,1.3600000000000001E-3,{"$f":"wyniki!$A$161","v":0},null,null,null,0,{"$f":"LARGE($E$2:$E$241,136)","v":1.06E-3},106,0,136]
[null,{"$f":"wyniki!B166","v":0},{"$f":"wyniki!I166","v":0},1.3699999999999999E-3,1.3699999999999999E-3,{"$f":"wyniki!$A$161","v":0},null,null,null,0,{"$f":"LARGE($E$2:$E$241,137)","v":1.0499999999999999E-3},105,0,137]
[null,{"$f":"wyniki!B167","v":0},{"$f":"wyniki!I167","v":0},1.3799999999999999E-3,1.3799999999999999E-3,{"$f":"wyniki!$A$161","v":0},null,null,null,0,{"$f":"LARGE($E$2:$E$241,138)","v":1.0399999999999999E-3},104,0,138]
[null,{"$f":"wyniki!B169","v":0},{"$f":"wyniki!I169","v":0},1.39E-3,1.39E-3,{"$f":"wyniki!$A$168","v":0},null,null,null,0,{"$f":"LARGE($E$2:$E$241,139)","v":1.0300000000000001E-3},103,0,139]
[null,{"$f":"wyniki!B170","v":0},{"$f":"wyniki!I170","v":0},1.4E-3,1.4E-3,{"$f":"wyniki!$A$168","v":0},null,null,null,0,{"$f":"LARGE($E$2:$E$241,140)","v":1.0200000000000001E-3},102,0,140]
[null,{"$f":"wyniki!B171","v":0},{"$f":"wyniki!I171","v":0},1.41E-3,1.41E-3,{"$f":"wyniki!$A$168","v":0},null,null,null,0,{"$f":"LARGE($E$2:$E$241,141)","v":1.01E-3},101,0,141]
[null,{"$f":"wyniki!B172","v":0},{"$f":"wyniki!I172","v":0},1.42E-3,1.42E-3,{"$f":"wyniki!$A$168","v":0},null,null,null,0,{"$f":"LARGE($E$2:$E$241,142)","v":1E-3},100,0,142]
[null,{"$f":"wyniki!B173","v":0},{"$f":"wyniki!I173","v":0},1.4300000000000001E-3,1.4300000000000001E-3,{"$f":"wyniki!$A$168","v":0},null,null,null,0,{"$f":"LARGE($E$2:$E$241,143)","v":9.8999999999999999E-4},99,0,143]
[null,{"$f":"wyniki!B174","v":0},{"$f":"wyniki!I174","v":0},1.4400000000000001E-3,1.4400000000000001E-3,{"$f":"wyniki!$A$168","v":0},null,null,null,0,{"$f":"LARGE($E$2:$E$241,144)","v":9.7999999999999997E-4},98,0,144]
[null,{"$f":"wyniki!B176","v":0},{"$f":"wyniki!I176","v":0},1.4499999999999999E-3,1.4499999999999999E-3,{"$f":"wyniki!$A$175","v":0},null,null,null,0,{"$f":"LARGE($E$2:$E$241,145)","v":9.7000000000000005E-4},97,0,145]
[null,{"$f":"wyniki!B177","v":0},{"$f":"wyniki!I177","v":0},1.4599999999999999E-3,1.4599999999999999E-3,{"$f":"wyniki!$A$175","v":0},null,null,null,0,{"$f":"LARGE($E$2:$E$241,146)","v":9.6000000000000002E-4},96,0,146]
[null,{"$f":"wyniki!B178","v":0},{"$f":"wyniki!I178","v":0},1.47E-3,1.47E-3,{"$f":"wyniki!$A$175","v":0},null,null,null,0,{"$f":"LARGE($E$2:$E$241,147)","v":9.5E-4},95,0,147]
[null,{"$f":"wyniki!B179","v":0},{"$f":"wyniki!I179","v":0},1.48E-3,1.48E-3,{"$f":"wyniki!$A$175","v":0},null,null,null,0,{"$f":"LARGE($E$2:$E$241,148)","v":9.3999999999999997E-4},94,0,148]
[null,{"$f":"wyniki!B180","v":0},{"$f":"wyniki!I180","v":0},1.49E-3,1.49E-3,{"$f":"wyniki!$A$175","v":0},null,null,null,0,{"$f":"LARGE($E$2:$E$241,149)","v":9.3000000000000005E-4},93,0,149]
[null,{"$f":"wyniki!B181","v":0},{"$f":"wyniki!I181","v":0},1.5E-3,1.5E-3,{"$f":"wyniki!$A$175","v":0},null,null,null,0,{"$f":"LARGE($E$2:$E$241,150)","v":9.2000000000000003E-4},92,0,150]
[null,{"$f":"wyniki!B183","v":0},{"$f":"wyniki!I183","v":0},1.5100000000000001E-3,1.5100000000000001E-3,{"$f":"wyniki!$A$182","v":0},null,null,null,0,{"$f":"LARGE($E$2:$E$241,151)","v":9.1E-4},91,0,151]
[null,{"$f":"wyniki!B184","v":0},{"$f":"wyniki!I184","v":0},1.5200000000000001E-3,1.5200000000000001E-3,{"$f":"wyniki!$A$182","v":0},null,null,null,0,{"$f":"LARGE($E$2:$E$241,152)","v":8.9999999999999998E-4},90,0,152]
[null,{"$f":"wyniki!B185","v":0},{"$f":"wyniki!I185","v":0},1.5299999999999999E-3,1.5299999999999999E-3,{"$f":"wyniki!$A$182","v":0},null,null,null,0,{"$f":"LARGE($E$2:$E$241,153)","v":8.8999999999999995E-4},89,0,153]
[null,{"$f":"wyniki!B186","v":0},{"$f":"wyniki!I186","v":0},1.5399999999999999E-3,1.5399999999999999E-3,{"$f":"wyniki!$A$182","v":0},null,null,null,0,{"$f":"LARGE($E$2:$E$241,154)","v":8.8000000000000003E-4},88,0,154]
[null,{"$f":"wyniki!B187","v":0},{"$f":"wyniki!I187","v":0},1.5499999999999999E-3,1.5499999999999999E-3,{"$f":"wyniki!$A$182","v":0},null,null,null,0,{"$f":"LARGE($E$2:$E$241,155)","v":8.7000000000000001E-4},87,0,155]
[null,{"$f":"wyniki!B188","v":0},{"$f":"wyniki!I188","v":0},1.56E-3,1.56E-3,{"$f":"wyniki!$A$182","v":0},null,null,null,0,{"$f":"LARGE($E$2:$E$241,156)","v":8.5999999999999998E-4},86,0,156]
[null,{"$f":"wyniki!B190","v":0},{"$f":"wyniki!I190","v":0},1.57E-3,1.57E-3,{"$f":"wyniki!$A$189","v":0},null,null,null,0,{"$f":"LARGE($E$2:$E$241,157)","v":8.4999999999999995E-4},85,0,157]
[null,{"$f":"wyniki!B191","v":0},{"$f":"wyniki!I191","v":0},1.58E-3,1.58E-3,{"$f":"wyniki!$A$189","v":0},null,null,null,0,{"$f":"LARGE($E$2:$E$241,158)","v":8.4000000000000003E-4},84,0,158]
[null,{"$f":"wyniki!B192","v":0},{"$f":"wyniki!I192","v":0},1.5900000000000001E-3,1.5900000000000001E-3,{"$f":"wyniki!$A$189","v":0},null,null,null,0,{"$f":"LARGE($E$2:$E$241,159)","v":8.3000000000000001E-4},83,0,159]
[null,{"$f":"wyniki!B193","v":0},{"$f":"wyniki!I193","v":0},1.6000000000000001E-3,1.6000000000000001E-3,{"$f":"wyniki!$A$189","v":0},null,null,null,0,{"$f":"LARGE($E$2:$E$241,160)","v":8.1999999999999998E-4},82,0,160]
[null,{"$f":"wyniki!B194","v":0},{"$f":"wyniki!I194","v":0},1.6100000000000001E-3,1.6100000000000001E-3,{"$f":"wyniki!$A$189","v":0},null,null,null,0,{"$f":"LARGE($E$2:$E$241,161)","v":8.0999999999999996E-4},81,0,161]
[null,{"$f":"wyniki!B195","v":0},{"$f":"wyniki!I195","v":0},1.6199999999999999E-3,1.6199999999999999E-3,{"$f":"wyniki!$A$189","v":0},null,null,null,0,{"$f":"LARGE($E$2:$E$241,162)","v":8.0000000000000004E-4},80,0,162]
[null,{"$f":"wyniki!B197","v":0},{"$f":"wyniki!I197","v":0},1.6299999999999999E-3,1.6299999999999999E-3,{"$f":"wyniki!$A$196","v":0},null,null,null,0,{"$f":"LARGE($E$2:$E$241,163)","v":7.9000000000000001E-4},79,0,163]
[null,{"$f":"wyniki!B198","v":0},{"$f":"wyniki!I198","v":0},1.64E-3,1.64E-3,{"$f":"wyniki!$A$196","v":0},null,null,null,0,{"$f":"LARGE($E$2:$E$241,164)","v":7.7999999999999999E-4},78,0,164]
[null,{"$f":"wyniki!B199","v":0},{"$f":"wyniki!I199","v":0},1.65E-3,1.65E-3,{"$f":"wyniki!$A$196","v":0},null,null,null,0,{"$f":"LARGE($E$2:$E$241,165)","v":7.6999999999999996E-4},77,0,165]
[null,{"$f":"wyniki!B200","v":0},{"$f":"wyniki!I200","v":0},1.66E-3,1.66E-3,{"$f":"wyniki!$A$196","v":0},null,null,null,0,{"$f":"LARGE($E$2:$E$241,166)","v":7.6000000000000004E-4},76,0,166]
[null,{"$f":"wyniki!B201","v":0},{"$f":"wyniki!I201","v":0},1.67E-3,1.67E-3,{"$f":"wyniki!$A$196","v":0},null,null,null,0,{"$f":"LARGE($E$2:$E$241,167)","v":7.5000000000000002E-4},75,0,167]
[null,{"$f":"wyniki!B202","v":0},{"$f":"wyniki!I202","v":0},1.6800000000000001E-3,1.6800000000000001E-3,{"$f":"wyniki!$A$196","v":0},null,null,null,0,{"$f":"LARGE($E$2:$E$241,168)","v":7.3999999999999999E-4},74,0,168]
[null,{"$f":"wyniki!B204","v":0},{"$f":"wyniki!I204","v":0},1.6900000000000001E-3,1.6900000000000001E-3,{"$f":"wyniki!$A$203","v":0},null,null,null,0,{"$f":"LARGE($E$2:$E$241,169)","v":7.2999999999999996E-4},73,0,169]
[null,{"$f":"wyniki!B205","v":0},{"$f":"wyniki!I205","v":0},1.6999999999999999E-3,1.6999999999999999E-3,{"$f":"wyniki!$A$203","v":0},null,null,null,0,{"$f":"LARGE($E$2:$E$241,170)","v":7.2000000000000005E-4},72,0,170]
[null,{"$f":"wyniki!B206","v":0},{"$f":"wyniki!I206","v":0},1.7099999999999999E-3,1.7099999999999999E-3,{"$f":"wyniki!$A$203","v":0},null,null,null,0,{"$f":"LARGE($E$2:$E$241,171)","v":7.1000000000000002E-4},71,0,171]
[null,{"$f":"wyniki!B207","v":0},{"$f":"wyniki!I207","v":0},1.72E-3,1.72E-3,{"$f":"wyniki!$A$203","v":0},null,null,null,0,{"$f":"LARGE($E$2:$E$241,172)","v":6.9999999999999999E-4},70,0,172]
[null,{"$f":"wyniki!B208","v":0},{"$f":"wyniki!I208","v":0},1.73E-3,1.73E-3,{"$f":"wyniki!$A$203","v":0},null,null,null,0,{"$f":"LARGE($E$2:$E$241,173)","v":6.8999999999999997E-4},69,0,173]
[null,{"$f":"wyniki!B209","v":0},{"$f":"wyniki!I209","v":0},1.74E-3,1.74E-3,{"$f":"wyniki!$A$203","v":0},null,null,null,0,{"$f":"LARGE($E$2:$E$241,174)","v":6.8000000000000005E-4},68,0,174]
[null,{"$f":"wyniki!B211","v":0},{"$f":"wyniki!I211","v":0},1.75E-3,1.75E-3,{"$f":"wyniki!$A$210","v":0},null,null,null,0,{"$f":"LARGE($E$2:$E$241,175)","v":6.7000000000000002E-4},67,0,175]
[null,{"$f":"wyniki!B212","v":0},{"$f":"wyniki!I212","v":0},1.7600000000000001E-3,1.7600000000000001E-3,{"$f":"wyniki!$A$210","v":0},null,null,null,0,{"$f":"LARGE($E$2:$E$241,176)","v":6.6E-4},66,0,176]
[null,{"$f":"wyniki!B213","v":0},{"$f":"wyniki!I213","v":0},1.7700000000000001E-3,1.7700000000000001E-3,{"$f":"wyniki!$A$210","v":0},null,null,null,0,{"$f":"LARGE($E$2:$E$241,177)","v":6.4999999999999997E-4},65,0,177]
[null,{"$f":"wyniki!B214","v":0},{"$f":"wyniki!I214","v":0},1.7799999999999999E-3,1.7799999999999999E-3,{"$f":"wyniki!$A$210","v":0},null,null,null,0,{"$f":"LARGE($E$2:$E$241,178)","v":6.4000000000000005E-4},64,0,178]
[null,{"$f":"wyniki!B215","v":0},{"$f":"wyniki!I215","v":0},1.7899999999999999E-3,1.7899999999999999E-3,{"$f":"wyniki!$A$210","v":0},null,null,null,0,{"$f":"LARGE($E$2:$E$241,179)","v":6.3000000000000003E-4},63,0,179]
[null,{"$f":"wyniki!B216","v":0},{"$f":"wyniki!I216","v":0},1.8E-3,1.8E-3,{"$f":"wyniki!$A$210","v":0},null,null,null,0,{"$f":"LARGE($E$2:$E$241,180)","v":6.2E-4},62,0,180]
[null,{"$f":"wyniki!B218","v":0},{"$f":"wyniki!I218","v":0},1.81E-3,1.81E-3,{"$f":"wyniki!$A$217","v":0},null,null,null,0,{"$f":"LARGE($E$2:$E$241,181)","v":6.0999999999999997E-4},61,0,181]
[null,{"$f":"wyniki!B219","v":0},{"$f":"wyniki!I219","v":0},1.82E-3,1.82E-3,{"$f":"wyniki!$A$217","v":0},null,null,null,0,{"$f":"LARGE($E$2:$E$241,182)","v":5.9999999999999995E-4},60,0,182]
[null,{"$f":"wyniki!B220","v":0},{"$f":"wyniki!I220","v":0},1.83E-3,1.83E-3,{"$f":"wyniki!$A$217","v":0},null,null,null,0,{"$f":"LARGE($E$2:$E$241,183)","v":5.9000000000000003E-4},59,0,183]
[null,{"$f":"wyniki!B221","v":0},{"$f":"wyniki!I221","v":0},1.8400000000000001E-3,1.8400000000000001E-3,{"$f":"wyniki!$A$217","v":0},null,null,null,0,{"$f":"LARGE($E$2:$E$241,184)","v":5.8E-4},58,0,184]
[null,{"$f":"wyniki!B222","v":0},{"$f":"wyniki!I222","v":0},1.8500000000000001E-3,1.8500000000000001E-3,{"$f":"wyniki!$A$217","v":0},null,null,null,0,{"$f":"LARGE($E$2:$E$241,185)","v":5.6999999999999998E-4},57,0,185]
[null,{"$f":"wyniki!B223","v":0},{"$f":"wyniki!I223","v":0},1.8600000000000001E-3,1.8600000000000001E-3,{"$f":"wyniki!$A$217","v":0},null,null,null,0,{"$f":"LARGE($E$2:$E$241,186)","v":5.5999999999999995E-4},56,0,186]
[null,{"$f":"wyniki!B225","v":0},{"$f":"wyniki!I225","v":0},1.8699999999999999E-3,1.8699999999999999E-3,{"$f":"wyniki!$A$224","v":0},null,null,null,0,{"$f":"LARGE($E$2:$E$241,187)","v":5.5000000000000003E-4},55,0,187]
[null,{"$f":"wyniki!B226","v":0},{"$f":"wyniki!I226","v":0},1.8799999999999999E-3,1.8799999999999999E-3,{"$f":"wyniki!$A$224","v":0},null,null,null,0,{"$f":"LARGE($E$2:$E$241,188)","v":5.4000000000000001E-4},54,0,188]
[null,{"$f":"wyniki!B227","v":0},{"$f":"wyniki!I227","v":0},1.89E-3,1.89E-3,{"$f":"wyniki!$A$224","v":0},null,null,null,0,{"$f":"LARGE($E$2:$E$241,189)","v":5.2999999999999998E-4},53,0,189]
[null,{"$f":"wyniki!B228","v":0},{"$f":"wyniki!I228","v":0},1.9E-3,1.9E-3,{"$f":"wyniki!$A$224","v":0},null,null,null,0,{"$f":"LARGE($E$2:$E$241,190)","v":5.1999999999999995E-4},52,0,190]
[null,{"$f":"wyniki!B229","v":0},{"$f":"wyniki!I229","v":0},1.91E-3,1.91E-3,{"$f":"wyniki!$A$224","v":0},null,null,null,0,{"$f":"LARGE($E$2:$E$241,191)","v":5.1000000000000004E-4},51,0,191]
[null,{"$f":"wyniki!B230","v":0},{"$f":"wyniki!I230","v":0},1.92E-3,1.92E-3,{"$f":"wyniki!$A$224","v":0},null,null,null,0,{"$f":"LARGE($E$2:$E$241,192)","v":5.0000000000000001E-4},50,0,192]
[null,{"$f":"wyniki!B232","v":0},{"$f":"wyniki!I232","v":0},1.9300000000000001E-3,1.9300000000000001E-3,{"$f":"wyniki!$A$231","v":0},null,null,null,0,{"$f":"LARGE($E$2:$E$241,193)","v":4.8999999999999998E-4},49,0,193]
[null,{"$f":"wyniki!B233","v":0},{"$f":"wyniki!I233","v":0},1.9400000000000001E-3,{"$f":"C195+D195","v":1.9400000000000001E-3},{"$f":"wyniki!$A$231","v":0},null,null,null,{"$f":"INDEX($B$2:$E$241,L195,1)","v":0},{"$f":"LARGE($E$2:$E$241,194)","v":4.8000000000000001E-4},{"$f":"MATCH(K195,$E$2:$E$241,0)","v":48},{"$f":"INDEX($E$2:$F$241,L195,2)","v":0},194]
[null,{"$f":"wyniki!B234","v":0},{"$f":"wyniki!I234","v":0},1.9499999999999999E-3,1.9499999999999999E-3,{"$f":"wyniki!$A$231","v":0},null,null,null,0,{"$f":"LARGE($E$2:$E$241,195)","v":4.6999999999999999E-4},47,0,195]
[null,{"$f":"wyniki!B235","v":0},{"$f":"wyniki!I235","v":0},1.9599999999999999E-3,1.9599999999999999E-3,{"$f":"wyniki!$A$231","v":0},null,null,null,0,{"$f":"LARGE($E$2:$E$241,196)","v":4.6000000000000001E-4},46,0,196]
[null,{"$f":"wyniki!B236","v":0},{"$f":"wyniki!I236","v":0},1.97E-3,1.97E-3,{"$f":"wyniki!$A$231","v":0},null,null,null,0,{"$f":"LARGE($E$2:$E$241,197)","v":4.4999999999999999E-4},45,0,197]
[null,{"$f":"wyniki!B237","v":0},{"$f":"wyniki!I237","v":0},1.98E-3,1.98E-3,{"$f":"wyniki!$A$231","v":0},null,null,null,0,{"$f":"LARGE($E$2:$E$241,198)","v":4.4000000000000002E-4},44,0,198]
[null,{"$f":"wyniki!B239","v":0},{"$f":"wyniki!I239","v":0},1.99E-3,1.99E-3,{"$f":"wyniki!$A$238","v":0},null,null,null,0,{"$f":"LARGE($E$2:$E$241,199)","v":4.2999999999999999E-4},43,0,199]
[null,{"$f":"wyniki!B240","v":0},{"$f":"wyniki!I240","v":0},2E-3,2E-3,{"$f":"wyniki!$A$238","v":0},null,null,null,0,{"$f":"LARGE($E$2:$E$241,200)","v":4.2000000000000002E-4},42,0,200]
[null,{"$f":"wyniki!B241","v":0},{"$f":"wyniki!I241","v":0},2.0100000000000001E-3,2.0100000000000001E-3,{"$f":"wyniki!$A$238","v":0},null,null,null,0,{"$f":"LARGE($E$2:$E$241,201)","v":4.0999999999999999E-4},41,0,201]
[null,{"$f":"wyniki!B242","v":0},{"$f":"wyniki!I242","v":0},2.0200000000000001E-3,2.0200000000000001E-3,{"$f":"wyniki!$A$238","v":0},null,null,null,0,{"$f":"LARGE($E$2:$E$241,202)","v":4.0000000000000002E-4},40,0,202]
[null,{"$f":"wyniki!B243","v":0},{"$f":"wyniki!I243","v":0},2.0300000000000001E-3,2.0300000000000001E-3,{"$f":"wyniki!$A$238","v":0},null,null,null,0,{"$f":"LARGE($E$2:$E$241,203)","v":3.8999999999999999E-4},39,0,203]
[null,{"$f":"wyniki!B244","v":0},{"$f":"wyniki!I244","v":0},2.0400000000000001E-3,2.0400000000000001E-3,{"$f":"wyniki!$A$238","v":0},null,null,null,0,{"$f":"LARGE($E$2:$E$241,204)","v":3.8000000000000002E-4},38,0,204]
[null,{"$f":"wyniki!B246","v":0},{"$f":"wyniki!I246","v":0},2.0500000000000002E-3,2.0500000000000002E-3,{"$f":"wyniki!$A$245","v":0},null,null,null,0,{"$f":"LARGE($E$2:$E$241,205)","v":3.6999999999999999E-4},37,0,205]
[null,{"$f":"wyniki!B247","v":0},{"$f":"wyniki!I247","v":0},2.0600000000000002E-3,2.0600000000000002E-3,{"$f":"wyniki!$A$245","v":0},null,null,null,0,{"$f":"LARGE($E$2:$E$241,206)","v":3.6000000000000002E-4},36,0,206]
[null,{"$f":"wyniki!B248","v":0},{"$f":"wyniki!I248","v":0},2.0699999999999998E-3,2.0699999999999998E-3,{"$f":"wyniki!$A$245","v":0},null,null,null,0,{"$f":"LARGE($E$2:$E$241,207)","v":3.5E-4},35,0,207]
[null,{"$f":"wyniki!B249","v":0},{"$f":"wyniki!I249","v":0},2.0799999999999998E-3,2.0799999999999998E-3,{"$f":"wyniki!$A$245","v":0},null,null,null,0,{"$f":"LARGE($E$2:$E$241,208)","v":3.4000000000000002E-4},34,0,208]
[null,{"$f":"wyniki!B250","v":0},{"$f":"wyniki!I250","v":0},2.0899999999999998E-3,2.0899999999999998E-3,{"$f":"wyniki!$A$245","v":0},null,null,null,0,{"$f":"LARGE($E$2:$E$241,209)","v":3.3E-4},33,0,209]
[null,{"$f":"wyniki!B251","v":0},{"$f":"wyniki!I251","v":0},2.0999999999999999E-3,2.0999999999999999E-3,{"$f":"wyniki!$A$245","v":0},null,null,null,0,{"$f":"LARGE($E$2:$E$241,210)","v":3.2000000000000003E-4},32,0,210]
[null,{"$f":"wyniki!B253","v":0},{"$f":"wyniki!I253","v":0},2.1099999999999999E-3,2.1099999999999999E-3,{"$f":"wyniki!$A$252","v":0},null,null,null,0,{"$f":"LARGE($E$2:$E$241,211)","v":3.1E-4},31,0,211]
[null,{"$f":"wyniki!B254","v":0},{"$f":"wyniki!I254","v":0},2.1199999999999999E-3,2.1199999999999999E-3,{"$f":"wyniki!$A$252","v":0},null,null,null,0,{"$f":"LARGE($E$2:$E$241,212)","v":2.9999999999999997E-4},30,0,212]
[null,{"$f":"wyniki!B255","v":0},{"$f":"wyniki!I255","v":0},2.1299999999999999E-3,2.1299999999999999E-3,{"$f":"wyniki!$A$252","v":0},null,null,null,0,{"$f":"LARGE($E$2:$E$241,213)","v":2.9E-4},29,0,213]
[null,{"$f":"wyniki!B256","v":0},{"$f":"wyniki!I256","v":0},2.14E-3,2.14E-3,{"$f":"wyniki!$A$252","v":0},null,null,null,0,{"$f":"LARGE($E$2:$E$241,214)","v":2.7999999999999998E-4},28,0,214]
[null,{"$f":"wyniki!B257","v":0},{"$f":"wyniki!I257","v":0},2.15E-3,2.15E-3,{"$f":"wyniki!$A$252","v":0},null,null,null,0,{"$f":"LARGE($E$2:$E$241,215)","v":2.7E-4},27,0,215]
[null,{"$f":"wyniki!B258","v":0},{"$f":"wyniki!I258","v":0},2.16E-3,2.16E-3,{"$f":"wyniki!$A$252","v":0},null,null,null,0,{"$f":"LARGE($E$2:$E$241,216)","v":2.5999999999999998E-4},26,0,216]
[null,{"$f":"wyniki!B260","v":0},{"$f":"wyniki!I260","v":0},2.1700000000000001E-3,2.1700000000000001E-3,{"$f":"wyniki!$A$259","v":0},null,null,null,0,{"$f":"LARGE($E$2:$E$241,217)","v":2.5000000000000001E-4},25,0,217]
[null,{"$f":"wyniki!B261","v":0},{"$f":"wyniki!I261","v":0},2.1800000000000001E-3,2.1800000000000001E-3,{"$f":"wyniki!$A$259","v":0},null,null,null,0,{"$f":"LARGE($E$2:$E$241,218)","v":2.4000000000000001E-4},24,0,218]
[null,{"$f":"wyniki!B262","v":0},{"$f":"wyniki!I262","v":0},2.1900000000000001E-3,2.1900000000000001E-3,{"$f":"wyniki!$A$259","v":0},null,null,null,0,{"$f":"LARGE($E$2:$E$241,219)","v":2.3000000000000001E-4},23,0,219]
[null,{"$f":"wyniki!B263","v":0},{"$f":"wyniki!I263","v":0},2.2000000000000001E-3,2.2000000000000001E-3,{"$f":"wyniki!$A$259","v":0},null,null,null,0,{"$f":"LARGE($E$2:$E$241,220)","v":2.2000000000000001E-4},22,0,220]
[null,{"$f":"wyniki!B264","v":0},{"$f":"wyniki!I264","v":0},2.2100000000000002E-3,2.2100000000000002E-3,{"$f":"wyniki!$A$259","v":0},null,null,null,0,{"$f":"LARGE($E$2:$E$241,221)","v":2.1000000000000001E-4},21,0,221]
[null,{"$f":"wyniki!B265","v":0},{"$f":"wyniki!I265","v":0},2.2200000000000002E-3,2.2200000000000002E-3,{"$f":"wyniki!$A$259","v":0},null,null,null,0,{"$f":"LARGE($E$2:$E$241,222)","v":2.0000000000000001E-4},20,0,222]
[null,{"$f":"wyniki!B267","v":0},{"$f":"wyniki!I267","v":0},2.2300000000000002E-3,2.2300000000000002E-3,{"$f":"wyniki!$A$266","v":0},null,null,null,0,{"$f":"LARGE($E$2:$E$241,223)","v":1.9000000000000001E-4},19,0,223]
[null,{"$f":"wyniki!B268","v":0},{"$f":"wyniki!I268","v":0},2.2399999999999998E-3,2.2399999999999998E-3,{"$f":"wyniki!$A$266","v":0},null,null,null,0,{"$f":"LARGE($E$2:$E$241,224)","v":1.8000000000000001E-4},18,0,224]
[null,{"$f":"wyniki!B269","v":0},{"$f":"wyniki!I269","v":0},2.2499999999999998E-3,2.2499999999999998E-3,{"$f":"wyniki!$A$266","v":0},null,null,null,0,{"$f":"LARGE($E$2:$E$241,225)","v":1.7000000000000001E-4},17,0,225]
[null,{"$f":"wyniki!B270","v":0},{"$f":"wyniki!I270","v":0},2.2599999999999999E-3,2.2599999999999999E-3,{"$f":"wyniki!$A$266","v":0},null,null,null,0,{"$f":"LARGE($E$2:$E$241,226)","v":1.6000000000000001E-4},16,0,226]
[null,{"$f":"wyniki!B271","v":0},{"$f":"wyniki!I271","v":0},2.2699999999999999E-3,2.2699999999999999E-3,{"$f":"wyniki!$A$266","v":0},null,null,null,0,{"$f":"LARGE($E$2:$E$241,227)","v":1.4999999999999999E-4},15,0,227]
[null,{"$f":"wyniki!B272","v":0},{"$f":"wyniki!I272","v":0},2.2799999999999999E-3,2.2799999999999999E-3,{"$f":"wyniki!$A$266","v":0},null,null,null,0,{"$f":"LARGE($E$2:$E$241,228)","v":1.3999999999999999E-4},14,0,228]
[null,{"$f":"wyniki!B274","v":0},{"$f":"wyniki!I274","v":0},2.2899999999999999E-3,2.2899999999999999E-3,{"$f":"wyniki!$A$273","v":0},null,null,null,0,{"$f":"LARGE($E$2:$E$241,229)","v":1.2999999999999999E-4},13,0,229]
[null,{"$f":"wyniki!B275","v":0},{"$f":"wyniki!I275","v":0},2.3E-3,2.3E-3,{"$f":"wyniki!$A$273","v":0},null,null,null,0,{"$f":"LARGE($E$2:$E$241,230)","v":1.2E-4},12,0,230]
[null,{"$f":"wyniki!B276","v":0},{"$f":"wyniki!I276","v":0},2.31E-3,2.31E-3,{"$f":"wyniki!$A$273","v":0},null,null,null,0,{"$f":"LARGE($E$2:$E$241,231)","v":1.1E-4},11,0,231]
[null,{"$f":"wyniki!B277","v":0},{"$f":"wyniki!I277","v":0},2.32E-3,2.32E-3,{"$f":"wyniki!$A$273","v":0},null,null,null,0,{"$f":"LARGE($E$2:$E$241,232)","v":1E-4},10,0,232]
[null,{"$f":"wyniki!B278","v":0},{"$f":"wyniki!I278","v":0},2.33E-3,2.33E-3,{"$f":"wyniki!$A$273","v":0},null,null,null,0,{"$f":"LARGE($E$2:$E$241,233)","v":9.0000000000000006E-5},9,0,233]
[null,{"$f":"wyniki!B279","v":0},{"$f":"wyniki!I279","v":0},2.3400000000000001E-3,2.3400000000000001E-3,{"$f":"wyniki!$A$273","v":0},null,null,null,0,{"$f":"LARGE($E$2:$E$241,234)","v":8.0000000000000007E-5},8,0,234]
[null,{"$f":"wyniki!B281","v":0},{"$f":"wyniki!I281","v":0},2.3500000000000001E-3,2.3500000000000001E-3,{"$f":"wyniki!$A$280","v":0},null,null,null,0,{"$f":"LARGE($E$2:$E$241,235)","v":6.9999999999999994E-5},7,0,235]
[null,{"$f":"wyniki!B282","v":0},{"$f":"wyniki!I282","v":0},2.3600000000000001E-3,2.3600000000000001E-3,{"$f":"wyniki!$A$280","v":0},null,null,null,0,{"$f":"LARGE($E$2:$E$241,236)","v":6.0000000000000002E-5},6,"SP 234 Kursk",236]
[null,{"$f":"wyniki!B283","v":0},{"$f":"wyniki!I283","v":0},2.3700000000000001E-3,2.3700000000000001E-3,{"$f":"wyniki!$A$280","v":0},null,null,null,"zawodnik 5",{"$f":"LARGE($E$2:$E$241,237)","v":5.0000000000000002E-5},5,"SP 234 Kursk",237]
[null,{"$f":"wyniki!B284","v":0},{"$f":"wyniki!I284","v":0},2.3800000000000002E-3,2.3800000000000002E-3,{"$f":"wyniki!$A$280","v":0},null,null,null,"zawodnik 4",{"$f":"LARGE($E$2:$E$241,238)","v":4.0000000000000003E-5},4,"SP 234 Kursk",238]
[null,{"$f":"wyniki!B285","v":0},{"$f":"wyniki!I285","v":0},2.3900000000000002E-3,2.3900000000000002E-3,{"$f":"wyniki!$A$280","v":0},null,null,null,"zawodnik 3",{"$f":"LARGE($E$2:$E$241,239)","v":3.0000000000000001E-5},3,"SP 234 Kursk",239]
[null,{"$f":"wyniki!B286","v":0},{"$f":"wyniki!I286","v":0},2.3999999999999998E-3,2.3999999999999998E-3,{"$f":"wyniki!$A$280","v":0},null,null,null,"zawodnik 2",{"$f":"LARGE($E$2:$E$241,240)","v":2.0000000000000002E-5},2,"SP 234 Kursk",240]

{"sheet":"600m","index":6,"n_rows":241,"n_cols":14,"rows_kept":241,"cut":false,"hidden":true,"merged":[]}
[null,null,null,null,null,null,null,null,null,"Nazwisko/imię","Wynik",null,"Szkoła","Miejsce"]
[null,{"$f":"wyniki!B8","v":"zawodnik 1"},{"$f":"wyniki!K8","v":0},-1.0000000000000001E-5,{"$f":"IF(C2>1,G2+D2)","v":false},{"$f":"wyniki!$A$7","v":"SP 234 Kursk"},{"$f":"-C2","v":0},null,null,{"$f":"INDEX($B$2:$E$241,L2,1)","v":{"$error":"#NUM!"}},{"$f":"-LARGE($E$2:$E$241,1)","v":{"$error":"#NUM!"}},{"$f":"MATCH(-K2,$E$2:$E$241,0)","v":{"$error":"#NUM!"}},{"$f":"INDEX($E$2:$F$241,L2,2)","v":{"$error":"#NUM!"}},1]
[null,{"$f":"wyniki!B9","v":"zawodnik 2"},{"$f":"wyniki!K9","v":0},-2.0000000000000002E-5,{"$f":"IF(C3>1,G3+D3)","v":false},{"$f":"wyniki!$A$7","v":"SP 234 Kursk"},{"$f":"-C3","v":0},null,null,{"$f":"INDEX($B$2:$E$241,L3,1)","v":{"$error":"#NUM!"}},{"$f":"-LARGE($E$2:$E$241,2)","v":{"$error":"#NUM!"}},{"$f":"MATCH(-K3,$E$2:$E$241,0)","v":{"$error":"#NUM!"}},{"$f":"INDEX($E$2:$F$241,L3,2)","v":{"$error":"#NUM!"}},2]
[null,{"$f":"wyniki!B10","v":"zawodnik 3"},{"$f":"wyniki!K10","v":0},-3.0000000000000001E-5,false,{"$f":"wyniki!$A$7","v":"SP 234 Kursk"},0,null,null,{"$error":"#NUM!"},{"$f":"-LARGE($E$2:$E$241,3)","v":{"$error":"#NUM!"}},{"$f":"MATCH(-K4,$E$2:$E$241,0)","v":{"$error":"#NUM!"}},{"$error":"#NUM!"},3]
[null,{"$f":"wyniki!B11","v":"zawodnik 4"},{"$f":"wyniki!K11","v":0},-4.0000000000000003E-5,false,{"$f":"wyniki!$A$7","v":"SP 234 Kursk"},0,null,null,{"$error":"#NUM!"},{"$f":"-LARGE($E$2:$E$241,4)","v":{"$error":"#NUM!"}},{"$error":"#NUM!"},{"$error":"#NUM!"},4]
[null,{"$f":"wyniki!B12","v":"zawodnik 5"},{"$f":"wyniki!K12","v":0},-5.0000000000000002E-5,false,{"$f":"wyniki!$A$7","v":"SP 234 Kursk"},0,null,null,{"$error":"#NUM!"},{"$f":"-LARGE($E$2:$E$241,5)","v":{"$error":"#NUM!"}},{"$error":"#NUM!"},{"$error":"#NUM!"},5]
[null,{"$f":"wyniki!B13","v":0},{"$f":"wyniki!K13","v":0},-6.0000000000000002E-5,false,{"$f":"wyniki!$A$7","v":"SP 234 Kursk"},0,null,null,{"$error":"#NUM!"},{"$f":"-LARGE($E$2:$E$241,6)","v":{"$error":"#NUM!"}},{"$error":"#NUM!"},{"$error":"#NUM!"},6]
[null,{"$f":"wyniki!B15","v":0},{"$f":"wyniki!K15","v":0},-6.9999999999999994E-5,false,{"$f":"wyniki!$A$14","v":0},0,null,null,{"$error":"#NUM!"},{"$f":"-LARGE($E$2:$E$241,7)","v":{"$error":"#NUM!"}},{"$error":"#NUM!"},{"$error":"#NUM!"},7]
[null,{"$f":"wyniki!B16","v":0},{"$f":"wyniki!K16","v":0},-8.0000000000000007E-5,false,{"$f":"wyniki!$A$14","v":0},0,null,null,{"$error":"#NUM!"},{"$f":"-LARGE($E$2:$E$241,8)","v":{"$error":"#NUM!"}},{"$error":"#NUM!"},{"$error":"#NUM!"},8]
[null,{"$f":"wyniki!B17","v":0},{"$f":"wyniki!K17","v":0},-9.0000000000000006E-5,false,{"$f":"wyniki!$A$14","v":0},0,null,null,{"$error":"#NUM!"},{"$f":"-LARGE($E$2:$E$241,9)","v":{"$error":"#NUM!"}},{"$error":"#NUM!"},{"$error":"#NUM!"},9]
[null,{"$f":"wyniki!B18","v":0},{"$f":"wyniki!K18","v":0},-1E-4,false,{"$f":"wyniki!$A$14","v":0},0,null,null,{"$error":"#NUM!"},{"$f":"-LARGE($E$2:$E$241,10)","v":{"$error":"#NUM!"}},{"$error":"#NUM!"},{"$error":"#NUM!"},10]
[null,{"$f":"wyniki!B19","v":0},{"$f":"wyniki!K19","v":0},-1.1E-4,false,{"$f":"wyniki!$A$14","v":0},0,null,null,{"$error":"#NUM!"},{"$f":"-LARGE($E$2:$E$241,11)","v":{"$error":"#NUM!"}},{"$error":"#NUM!"},{"$error":"#NUM!"},11]
[null,{"$f":"wyniki!B20","v":0},{"$f":"wyniki!K20","v":0},-1.2E-4,false,{"$f":"wyniki!$A$14","v":0},0,null,null,{"$error":"#NUM!"},{"$f":"-LARGE($E$2:$E$241,12)","v":{"$error":"#NUM!"}},{"$error":"#NUM!"},{"$error":"#NUM!"},12]
[null,{"$f":"wyniki!B22","v":0},{"$f":"wyniki!K22","v":0},-1.2999999999999999E-4,false,{"$f":"wyniki!$A$21","v":0},0,null,null,{"$error":"#NUM!"},{"$f":"-LARGE($E$2:$E$241,13)","v":{"$error":"#NUM!"}},{"$error":"#NUM!"},{"$error":"#NUM!"},13]
[null,{"$f":"wyniki!B23","v":0},{"$f":"wyniki!K23","v":0},-1.3999999999999999E-4,false,{"$f":"wyniki!$A$21","v":0},0,null,null,{"$error":"#NUM!"},{"$f":"-LARGE($E$2:$E$241,14)","v":{"$error":"#NUM!"}},{"$error":"#NUM!"},{"$error":"#NUM!"},14]
[null,{"$f":"wyniki!B24","v":0},{"$f":"wyniki!K24","v":0},-1.4999999999999999E-4,false,{"$f":"wyniki!$A$21","v":0},0,null,null,{"$error":"#NUM!"},{"$f":"-LARGE($E$2:$E$241,15)","v":{"$error":"#NUM!"}},{"$error":"#NUM!"},{"$error":"#NUM!"},15]
[null,{"$f":"wyniki!B25","v":0},{"$f":"wyniki!K25","v":0},-1.6000000000000001E-4,false,{"$f":"wyniki!$A$21","v":0},0,null,null,{"$error":"#NUM!"},{"$f":"-LARGE($E$2:$E$241,16)","v":{"$error":"#NUM!"}},{"$error":"#NUM!"},{"$error":"#NUM!"},16]
[null,{"$f":"wyniki!B26","v":0},{"$f":"wyniki!K26","v":0},-1.7000000000000001E-4,false,{"$f":"wyniki!$A$21","v":0},0,null,null,{"$error":"#NUM!"},{"$f":"-LARGE($E$2:$E$241,17)","v":{"$error":"#NUM!"}},{"$error":"#NUM!"},{"$error":"#NUM!"},17]
[null,{"$f":"wyniki!B27","v":0},{"$f":"wyniki!K27","v":0},-1.8000000000000001E-4,false,{"$f":"wyniki!$A$21","v":0},0,null,null,{"$error":"#NUM!"},{"$f":"-LARGE($E$2:$E$241,18)","v":{"$error":"#NUM!"}},{"$error":"#NUM!"},{"$error":"#NUM!"},18]
[null,{"$f":"wyniki!B29","v":0},{"$f":"wyniki!K29","v":0},-1.9000000000000001E-4,false,{"$f":"wyniki!$A$28","v":0},0,null,null,{"$error":"#NUM!"},{"$f":"-LARGE($E$2:$E$241,19)","v":{"$error":"#NUM!"}},{"$error":"#NUM!"},{"$error":"#NUM!"},19]
[null,{"$f":"wyniki!B30","v":0},{"$f":"wyniki!K30","v":0},-2.0000000000000001E-4,false,{"$f":"wyniki!$A$28","v":0},0,null,null,{"$error":"#NUM!"},{"$f":"-LARGE($E$2:$E$241,20)","v":{"$error":"#NUM!"}},{"$error":"#NUM!"},{"$error":"#NUM!"},20]
[null,{"$f":"wyniki!B31","v":0},{"$f":"wyniki!K31","v":0},-2.1000000000000001E-4,false,{"$f":"wyniki!$A$28","v":0},0,null,null,{"$error":"#NUM!"},{"$f":"-LARGE($E$2:$E$241,21)","v":{"$error":"#NUM!"}},{"$error":"#NUM!"},{"$error":"#NUM!"},21]
[null,{"$f":"wyniki!B32","v":0},{"$f":"wyniki!K32","v":0},-2.2000000000000001E-4,false,{"$f":"wyniki!$A$28","v":0},0,null,null,{"$error":"#NUM!"},{"$f":"-LARGE($E$2:$E$241,22)","v":{"$error":"#NUM!"}},{"$error":"#NUM!"},{"$error":"#NUM!"},22]
[null,{"$f":"wyniki!B33","v":0},{"$f":"wyniki!K33","v":0},-2.3000000000000001E-4,false,{"$f":"wyniki!$A$28","v":0},0,null,null,{"$error":"#NUM!"},{"$f":"-LARGE($E$2:$E$241,23)","v":{"$error":"#NUM!"}},{"$error":"#NUM!"},{"$error":"#NUM!"},23]
[null,{"$f":"wyniki!B34","v":0},{"$f":"wyniki!K34","v":0},-2.4000000000000001E-4,false,{"$f":"wyniki!$A$28","v":0},0,null,null,{"$error":"#NUM!"},{"$f":"-LARGE($E$2:$E$241,24)","v":{"$error":"#NUM!"}},{"$error":"#NUM!"},{"$error":"#NUM!"},24]
[null,{"$f":"wyniki!B36","v":0},{"$f":"wyniki!K36","v":0},-2.5000000000000001E-4,false,{"$f":"wyniki!$A$35","v":0},0,null,null,{"$error":"#NUM!"},{"$f":"-LARGE($E$2:$E$241,25)","v":{"$error":"#NUM!"}},{"$error":"#NUM!"},{"$error":"#NUM!"},25]
[null,{"$f":"wyniki!B37","v":0},{"$f":"wyniki!K37","v":0},-2.5999999999999998E-4,false,{"$f":"wyniki!$A$35","v":0},0,null,null,{"$error":"#NUM!"},{"$f":"-LARGE($E$2:$E$241,26)","v":{"$error":"#NUM!"}},{"$error":"#NUM!"},{"$error":"#NUM!"},26]
[null,{"$f":"wyniki!B38","v":0},{"$f":"wyniki!K38","v":0},-2.7E-4,false,{"$f":"wyniki!$A$35","v":0},0,null,null,{"$error":"#NUM!"},{"$f":"-LARGE($E$2:$E$241,27)","v":{"$error":"#NUM!"}},{"$error":"#NUM!"},{"$error":"#NUM!"},27]
[null,{"$f":"wyniki!B39","v":0},{"$f":"wyniki!K39","v":0},-2.7999999999999998E-4,false,{"$f":"wyniki!$A$35","v":0},0,null,null,{"$error":"#NUM!"},{"$f":"-LARGE($E$2:$E$241,28)","v":{"$error":"#NUM!"}},{"$error":"#NUM!"},{"$error":"#NUM!"},28]
[null,{"$f":"wyniki!B40","v":0},{"$f":"wyniki!K40","v":0},-2.9E-4,false,{"$f":"wyniki!$A$35","v":0},0,null,null,{"$error":"#NUM!"},{"$f":"-LARGE($E$2:$E$241,29)","v":{"$error":"#NUM!"}},{"$error":"#NUM!"},{"$error":"#NUM!"},29]
[null,{"$f":"wyniki!B41","v":0},{"$f":"wyniki!K41","v":0},-2.9999999999999997E-4,false,{"$f":"wyniki!$A$35","v":0},0,null,null,{"$error":"#NUM!"},{"$f":"-LARGE($E$2:$E$241,30)","v":{"$error":"#NUM!"}},{"$error":"#NUM!"},{"$error":"#NUM!"},30]
[null,{"$f":"wyniki!B43","v":0},{"$f":"wyniki!K43","v":0},-3.1E-4,false,{"$f":"wyniki!$A$42","v":0},0,null,null,{"$error":"#NUM!"},{"$f":"-LARGE($E$2:$E$241,31)","v":{"$error":"#NUM!"}},{"$error":"#NUM!"},{"$error":"#NUM!"},31]
[null,{"$f":"wyniki!B44","v":0},{"$f":"wyniki!K44","v":0},-3.2000000000000003E-4,false,{"$f":"wyniki!$A$42","v":0},0,null,null,{"$error":"#NUM!"},{"$f":"-LARGE($E$2:$E$241,32)","v":{"$error":"#NUM!"}},{"$error":"#NUM!"},{"$error":"#NUM!"},32]
[null,{"$f":"wyniki!B45","v":0},{"$f":"wyniki!K45","v":0},-3.3E-4,false,{"$f":"wyniki!$A$42","v":0},0,null,null,{"$error":"#NUM!"},{"$f":"-LARGE($E$2:$E$241,33)","v":{"$error":"#NUM!"}},{"$error":"#NUM!"},{"$error":"#NUM!"},33]
[null,{"$f":"wyniki!B46","v":0},{"$f":"wyniki!K46","v":0},-3.4000000000000002E-4,false,{"$f":"wyniki!$A$42","v":0},0,null,null,{"$error":"#NUM!"},{"$f":"-LARGE($E$2:$E$241,34)","v":{"$error":"#NUM!"}},{"$error":"#NUM!"},{"$error":"#NUM!"},34]
[null,{"$f":"wyniki!B47","v":0},{"$f":"wyniki!K47","v":0},-3.5E-4,false,{"$f":"wyniki!$A$42","v":0},0,null,null,{"$error":"#NUM!"},{"$f":"-LARGE($E$2:$E$241,35)","v":{"$error":"#NUM!"}},{"$error":"#NUM!"},{"$error":"#NUM!"},35]
[null,{"$f":"wyniki!B48","v":0},{"$f":"wyniki!K48","v":0},-3.6000000000000002E-4,false,{"$f":"wyniki!$A$42","v":0},0,null,null,{"$error":"#NUM!"},{"$f":"-LARGE($E$2:$E$241,36)","v":{"$error":"#NUM!"}},{"$error":"#NUM!"},{"$error":"#NUM!"},36]
[null,{"$f":"wyniki!B50","v":0},{"$f":"wyniki!K50","v":0},-3.6999999999999999E-4,false,{"$f":"wyniki!$A$49","v":0},0,null,null,{"$error":"#NUM!"},{"$f":"-LARGE($E$2:$E$241,37)","v":{"$error":"#NUM!"}},{"$error":"#NUM!"},{"$error":"#NUM!"},37]
[null,{"$f":"wyniki!B51","v":0},{"$f":"wyniki!K51","v":0},-3.8000000000000002E-4,false,{"$f":"wyniki!$A$49","v":0},0,null,null,{"$error":"#NUM!"},{"$f":"-LARGE($E$2:$E$241,38)","v":{"$error":"#NUM!"}},{"$error":"#NUM!"},{"$error":"#NUM!"},38]
[null,{"$f":"wyniki!B52","v":0},{"$f":"wyniki!K52","v":0},-3.8999999999999999E-4,false,{"$f":"wyniki!$A$49","v":0},0,null,null,{"$error":"#NUM!"},{"$f":"-LARGE($E$2:$E$241,39)","v":{"$error":"#NUM!"}},{"$error":"#NUM!"},{"$error":"#NUM!"},39]
[null,{"$f":"wyniki!B53","v":0},{"$f":"wyniki!K53","v":0},-4.0000000000000002E-4,false,{"$f":"wyniki!$A$49","v":0},0,null,null,{"$error":"#NUM!"},{"$f":"-LARGE($E$2:$E$241,40)","v":{"$error":"#NUM!"}},{"$error":"#NUM!"},{"$error":"#NUM!"},40]
[null,{"$f":"wyniki!B54","v":0},{"$f":"wyniki!K54","v":0},-4.0999999999999999E-4,false,{"$f":"wyniki!$A$49","v":0},0,null,null,{"$error":"#NUM!"},{"$f":"-LARGE($E$2:$E$241,41)","v":{"$error":"#NUM!"}},{"$error":"#NUM!"},{"$error":"#NUM!"},41]
[null,{"$f":"wyniki!B55","v":0},{"$f":"wyniki!K55","v":0},-4.2000000000000002E-4,false,{"$f":"wyniki!$A$49","v":0},0,null,null,{"$error":"#NUM!"},{"$f":"-LARGE($E$2:$E$241,42)","v":{"$error":"#NUM!"}},{"$error":"#NUM!"},{"$error":"#NUM!"},42]
[null,{"$f":"wyniki!B57","v":0},{"$f":"wyniki!K57","v":0},-4.2999999999999999E-4,false,{"$f":"wyniki!$A$56","v":0},0,null,null,{"$error":"#NUM!"},{"$f":"-LARGE($E$2:$E$241,43)","v":{"$error":"#NUM!"}},{"$error":"#NUM!"},{"$error":"#NUM!"},43]
[null,{"$f":"wyniki!B58","v":0},{"$f":"wyniki!K58","v":0},-4.4000000000000002E-4,false,{"$f":"wyniki!$A$56","v":0},0,null,null,{"$error":"#NUM!"},{"$f":"-LARGE($E$2:$E$241,44)","v":{"$error":"#NUM!"}},{"$error":"#NUM!"},{"$error":"#NUM!"},44]
[null,{"$f":"wyniki!B59","v":0},{"$f":"wyniki!K59","v":0},-4.4999999999999999E-4,false,{"$f":"wyniki!$A$56","v":0},0,null,null,{"$error":"#NUM!"},{"$f":"-LARGE($E$2:$E$241,45)","v":{"$error":"#NUM!"}},{"$error":"#NUM!"},{"$error":"#NUM!"},45]
[null,{"$f":"wyniki!B60","v":0},{"$f":"wyniki!K60","v":0},-4.6000000000000001E-4,false,{"$f":"wyniki!$A$56","v":0},0,null,null,{"$error":"#NUM!"},{"$f":"-LARGE($E$2:$E$241,46)","v":{"$error":"#NUM!"}},{"$error":"#NUM!"},{"$error":"#NUM!"},46]
[null,{"$f":"wyniki!B61","v":0},{"$f":"wyniki!K61","v":0},-4.6999999999999999E-4,false,{"$f":"wyniki!$A$56","v":0},0,null,null,{"$error":"#NUM!"},{"$f":"-LARGE($E$2:$E$241,47)","v":{"$error":"#NUM!"}},{"$error":"#NUM!"},{"$error":"#NUM!"},47]
[null,{"$f":"wyniki!B62","v":0},{"$f":"wyniki!K62","v":0},-4.8000000000000001E-4,false,{"$f":"wyniki!$A$56","v":0},0,null,null,{"$error":"#NUM!"},{"$f":"-LARGE($E$2:$E$241,48)","v":{"$error":"#NUM!"}},{"$error":"#NUM!"},{"$error":"#NUM!"},48]
[null,{"$f":"wyniki!B64","v":0},{"$f":"wyniki!K64","v":0},-4.8999999999999998E-4,false,{"$f":"wyniki!$A$63","v":0},0,null,null,{"$error":"#NUM!"},{"$f":"-LARGE($E$2:$E$241,49)","v":{"$error":"#NUM!"}},{"$error":"#NUM!"},{"$error":"#NUM!"},49]
[null,{"$f":"wyniki!B65","v":0},{"$f":"wyniki!K65","v":0},-5.0000000000000001E-4,false,{"$f":"wyniki!$A$63","v":0},0,null,null,{"$error":"#NUM!"},{"$f":"-LARGE($E$2:$E$241,50)","v":{"$error":"#NUM!"}},{"$error":"#NUM!"},{"$error":"#NUM!"},50]
[null,{"$f":"wyniki!B66","v":0},{"$f":"wyniki!K66","v":0},-5.1000000000000004E-4,false,{"$f":"wyniki!$A$63","v":0},0,null,null,{"$error":"#NUM!"},{"$f":"-LARGE($E$2:$E$241,51)","v":{"$error":"#NUM!"}},{"$error":"#NUM!"},{"$error":"#NUM!"},51]
[null,{"$f":"wyniki!B67","v":0},{"$f":"wyniki!K67","v":0},-5.1999999999999995E-4,false,{"$f":"wyniki!$A$63","v":0},0,null,null,{"$error":"#NUM!"},{"$f":"-LARGE($E$2:$E$241,52)","v":{"$error":"#NUM!"}},{"$error":"#NUM!"},{"$error":"#NUM!"},52]
[null,{"$f":"wyniki!B68","v":0},{"$f":"wyniki!K68","v":0},-5.2999999999999998E-4,false,{"$f":"wyniki!$A$63","v":0},0,null,null,{"$error":"#NUM!"},{"$f":"-LARGE($E$2:$E$241,53)","v":{"$error":"#NUM!"}},{"$error":"#NUM!"},{"$error":"#NUM!"},53]
[null,{"$f":"wyniki!B69","v":0},{"$f":"wyniki!K69","v":0},-5.4000000000000001E-4,false,{"$f":"wyniki!$A$63","v":0},0,null,null,{"$error":"#NUM!"},{"$f":"-LARGE($E$2:$E$241,54)","v":{"$error":"#NUM!"}},{"$error":"#NUM!"},{"$error":"#NUM!"},54]
[null,{"$f":"wyniki!B71","v":0},{"$f":"wyniki!K71","v":0},-5.5000000000000003E-4,false,{"$f":"wyniki!$A$70","v":0},0,null,null,{"$error":"#NUM!"},{"$f":"-LARGE($E$2:$E$241,55)","v":{"$error":"#NUM!"}},{"$error":"#NUM!"},{"$error":"#NUM!"},55]
[null,{"$f":"wyniki!B72","v":0},{"$f":"wyniki!K72","v":0},-5.5999999999999995E-4,false,{"$f":"wyniki!$A$70","v":0},0,null,null,{"$error":"#NUM!"},{"$f":"-LARGE($E$2:$E$241,56)","v":{"$error":"#NUM!"}},{"$error":"#NUM!"},{"$error":"#NUM!"},56]
[null,{"$f":"wyniki!B73","v":0},{"$f":"wyniki!K73","v":0},-5.6999999999999998E-4,false,{"$f":"wyniki!$A$70","v":0},0,null,null,{"$error":"#NUM!"},{"$f":"-LARGE($E$2:$E$241,57)","v":{"$error":"#NUM!"}},{"$error":"#NUM!"},{"$error":"#NUM!"},57]
[null,{"$f":"wyniki!B74","v":0},{"$f":"wyniki!K74","v":0},-5.8E-4,false,{"$f":"wyniki!$A$70","v":0},0,null,null,{"$error":"#NUM!"},{"$f":"-LARGE($E$2:$E$241,58)","v":{"$error":"#NUM!"}},{"$error":"#NUM!"},{"$error":"#NUM!"},58]
[null,{"$f":"wyniki!B75","v":0},{"$f":"wyniki!K75","v":0},-5.9000000000000003E-4,false,{"$f":"wyniki!$A$70","v":0},0,null,null,{"$error":"#NUM!"},{"$f":"-LARGE($E$2:$E$241,59)","v":{"$error":"#NUM!"}},{"$error":"#NUM!"},{"$error":"#NUM!"},59]
[null,{"$f":"wyniki!B76","v":0},{"$f":"wyniki!K76","v":0},-5.9999999999999995E-4,false,{"$f":"wyniki!$A$70","v":0},0,null,null,{"$error":"#NUM!"},{"$f":"-LARGE($E$2:$E$241,60)","v":{"$error":"#NUM!"}},{"$error":"#NUM!"},{"$error":"#NUM!"},60]
[null,{"$f":"wyniki!B78","v":0},{"$f":"wyniki!K78","v":0},-6.0999999999999997E-4,false,{"$f":"wyniki!$A$77","v":0},0,null,null,{"$error":"#NUM!"},{"$f":"-LARGE($E$2:$E$241,61)","v":{"$error":"#NUM!"}},{"$error":"#NUM!"},{"$error":"#NUM!"},61]
[null,{"$f":"wyniki!B79","v":0},{"$f":"wyniki!K79","v":0},-6.2E-4,false,{"$f":"wyniki!$A$77","v":0},0,null,null,{"$error":"#NUM!"},{"$f":"-LARGE($E$2:$E$241,62)","v":{"$error":"#NUM!"}},{"$error":"#NUM!"},{"$error":"#NUM!"},62]
[null,{"$f":"wyniki!B80","v":0},{"$f":"wyniki!K80","v":0},-6.3000000000000003E-4,false,{"$f":"wyniki!$A$77","v":0},0,null,null,{"$error":"#NUM!"},{"$f":"-LARGE($E$2:$E$241,63)","v":{"$error":"#NUM!"}},{"$error":"#NUM!"},{"$error":"#NUM!"},63]
[null,{"$f":"wyniki!B81","v":0},{"$f":"wyniki!K81","v":0},-6.4000000000000005E-4,false,{"$f":"wyniki!$A$77","v":0},0,null,null,{"$error":"#NUM!"},{"$f":"-LARGE($E$2:$E$241,64)","v":{"$error":"#NUM!"}},{"$error":"#NUM!"},{"$error":"#NUM!"},64]
[null,{"$f":"wyniki!B82","v":0},{"$f":"wyniki!K82","v":0},-6.4999999999999997E-4,false,{"$f":"wyniki!$A$77","v":0},0,null,null,{"$error":"#NUM!"},{"$f":"-LARGE($E$2:$E$241,65)","v":{"$error":"#NUM!"}},{"$error":"#NUM!"},{"$error":"#NUM!"},65]
[null,{"$f":"wyniki!B83","v":0},{"$f":"wyniki!K83","v":0},-6.6E-4,{"$f":"IF(C67>1,G67+D67)","v":false},{"$f":"wyniki!$A$77","v":0},{"$f":"-C67","v":0},null,null,{"$f":"INDEX($B$2:$E$241,L67,1)","v":{"$error":"#NUM!"}},{"$f":"-LARGE($E$2:$E$241,66)","v":{"$error":"#NUM!"}},{"$error":"#NUM!"},{"$f":"INDEX($E$2:$F$241,L67,2)","v":{"$error":"#NUM!"}},66]
[null,{"$f":"wyniki!B85","v":0},{"$f":"wyniki!K85","v":0},-6.7000000000000002E-4,false,{"$f":"wyniki!$A$84","v":0},0,null,null,{"$error":"#NUM!"},{"$f":"-LARGE($E$2:$E$241,67)","v":{"$error":"#NUM!"}},{"$f":"MATCH(-K68,$E$2:$E$241,0)","v":{"$error":"#NUM!"}},{"$error":"#NUM!"},67]
[null,{"$f":"wyniki!B86","v":0},{"$f":"wyniki!K86","v":0},-6.8000000000000005E-4,false,{"$f":"wyniki!$A$84","v":0},0,null,null,{"$error":"#NUM!"},{"$f":"-LARGE($E$2:$E$241,68)","v":{"$error":"#NUM!"}},{"$error":"#NUM!"},{"$error":"#NUM!"},68]
[null,{"$f":"wyniki!B87","v":0},{"$f":"wyniki!K87","v":0},-6.8999999999999997E-4,false,{"$f":"wyniki!$A$84","v":0},0,null,null,{"$error":"#NUM!"},{"$f":"-LARGE($E$2:$E$241,69)","v":{"$error":"#NUM!"}},{"$error":"#NUM!"},{"$error":"#NUM!"},69]
[null,{"$f":"wyniki!B88","v":0},{"$f":"wyniki!K88","v":0},-6.9999999999999999E-4,false,{"$f":"wyniki!$A$84","v":0},0,null,null,{"$error":"#NUM!"},{"$f":"-LARGE($E$2:$E$241,70)","v":{"$error":"#NUM!"}},{"$error":"#NUM!"},{"$error":"#NUM!"},70]
[null,{"$f":"wyniki!B89","v":0},{"$f":"wyniki!K89","v":0},-7.1000000000000002E-4,false,{"$f":"wyniki!$A$84","v":0},0,null,null,{"$error":"#NUM!"},{"$f":"-LARGE($E$2:$E$241,71)","v":{"$error":"#NUM!"}},{"$error":"#NUM!"},{"$error":"#NUM!"},71]
[null,{"$f":"wyniki!B90","v":0},{"$f":"wyniki!K90","v":0},-7.2000000000000005E-4,false,{"$f":"wyniki!$A$84","v":0},0,null,null,{"$error":"#NUM!"},{"$f":"-LARGE($E$2:$E$241,72)","v":{"$error":"#NUM!"}},{"$error":"#NUM!"},{"$error":"#NUM!"},72]
[null,{"$f":"wyniki!B92","v":0},{"$f":"wyniki!K92","v":0},-7.2999999999999996E-4,false,{"$f":"wyniki!$A$91","v":0},0,null,null,{"$error":"#NUM!"},{"$f":"-LARGE($E$2:$E$241,73)","v":{"$error":"#NUM!"}},{"$error":"#NUM!"},{"$error":"#NUM!"},73]
[null,{"$f":"wyniki!B93","v":0},{"$f":"wyniki!K93","v":0},-7.3999999999999999E-4,false,{"$f":"wyniki!$A$91","v":0},0,null,null,{"$error":"#NUM!"},{"$f":"-LARGE($E$2:$E$241,74)","v":{"$error":"#NUM!"}},{"$error":"#NUM!"},{"$error":"#NUM!"},74]
[null,{"$f":"wyniki!B94","v":0},{"$f":"wyniki!K94","v":0},-7.5000000000000002E-4,false,{"$f":"wyniki!$A$91","v":0},0,null,null,{"$error":"#NUM!"},{"$f":"-LARGE($E$2:$E$241,75)","v":{"$error":"#NUM!"}},{"$error":"#NUM!"},{"$error":"#NUM!"},75]
[null,{"$f":"wyniki!B95","v":0},{"$f":"wyniki!K95","v":0},-7.6000000000000004E-4,false,{"$f":"wyniki!$A$91","v":0},0,null,null,{"$error":"#NUM!"},{"$f":"-LARGE($E$2:$E$241,76)","v":{"$error":"#NUM!"}},{"$error":"#NUM!"},{"$error":"#NUM!"},76]
[null,{"$f":"wyniki!B96","v":0},{"$f":"wyniki!K96","v":0},-7.6999999999999996E-4,false,{"$f":"wyniki!$A$91","v":0},0,null,null,{"$error":"#NUM!"},{"$f":"-LARGE($E$2:$E$241,77)","v":{"$error":"#NUM!"}},{"$error":"#NUM!"},{"$error":"#NUM!"},77]
[null,{"$f":"wyniki!B97","v":0},{"$f":"wyniki!K97","v":0},-7.7999999999999999E-4,false,{"$f":"wyniki!$A$91","v":0},0,null,null,{"$error":"#NUM!"},{"$f":"-LARGE($E$2:$E$241,78)","v":{"$error":"#NUM!"}},{"$error":"#NUM!"},{"$error":"#NUM!"},78]
[null,{"$f":"wyniki!B99","v":0},{"$f":"wyniki!K99","v":0},-7.9000000000000001E-4,false,{"$f":"wyniki!$A$98","v":0},0,null,null,{"$error":"#NUM!"},{"$f":"-LARGE($E$2:$E$241,79)","v":{"$error":"#NUM!"}},{"$error":"#NUM!"},{"$error":"#NUM!"},79]
[null,{"$f":"wyniki!B100","v":0},{"$f":"wyniki!K100","v":0},-8.0000000000000004E-4,false,{"$f":"wyniki!$A$98","v":0},0,null,null,{"$error":"#NUM!"},{"$f":"-LARGE($E$2:$E$241,80)","v":{"$error":"#NUM!"}},{"$error":"#NUM!"},{"$error":"#NUM!"},80]
[null,{"$f":"wyniki!B101","v":0},{"$f":"wyniki!K101","v":0},-8.0999999999999996E-4,false,{"$f":"wyniki!$A$98","v":0},0,null,null,{"$error":"#NUM!"},{"$f":"-LARGE($E$2:$E$241,81)","v":{"$error":"#NUM!"}},{"$error":"#NUM!"},{"$error":"#NUM!"},81]
[null,{"$f":"wyniki!B102","v":0},{"$f":"wyniki!K102","v":0},-8.1999999999999998E-4,false,{"$f":"wyniki!$A$98","v":0},0,null,null,{"$error":"#NUM!"},{"$f":"-LARGE($E$2:$E$241,82)","v":{"$error":"#NUM!"}},{"$error":"#NUM!"},{"$error":"#NUM!"},82]
[null,{"$f":"wyniki!B103","v":0},{"$f":"wyniki!K103","v":0},-8.3000000000000001E-4,false,{"$f":"wyniki!$A$98","v":0},0,null,null,{"$error":"#NUM!"},{"$f":"-LARGE($E$2:$E$241,83)","v":{"$error":"#NUM!"}},{"$error":"#NUM!"},{"$error":"#NUM!"},83]
[null,{"$f":"wyniki!B104","v":0},{"$f":"wyniki!K104","v":0},-8.4000000000000003E-4,false,{"$f":"wyniki!$A$98","v":0},0,null,null,{"$error":"#NUM!"},{"$f":"-LARGE($E$2:$E$241,84)","v":{"$error":"#NUM!"}},{"$error":"#NUM!"},{"$error":"#NUM!"},84]
[null,{"$f":"wyniki!B106","v":0},{"$f":"wyniki!K106","v":0},-8.4999999999999995E-4,false,{"$f":"wyniki!$A$105","v":0},0,null,null,{"$error":"#NUM!"},{"$f":"-LARGE($E$2:$E$241,85)","v":{"$error":"#NUM!"}},{"$error":"#NUM!"},{"$error":"#NUM!"},85]
[null,{"$f":"wyniki!B107","v":0},{"$f":"wyniki!K107","v":0},-8.5999999999999998E-4,false,{"$f":"wyniki!$A$105","v":0},0,null,null,{"$error":"#NUM!"},{"$f":"-LARGE($E$2:$E$241,86)","v":{"$error":"#NUM!"}},{"$error":"#NUM!"},{"$error":"#NUM!"},86]
[null,{"$f":"wyniki!B108","v":0},{"$f":"wyniki!K108","v":0},-8.7000000000000001E-4,false,{"$f":"wyniki!$A$105","v":0},0,null,null,{"$error":"#NUM!"},{"$f":"-LARGE($E$2:$E$241,87)","v":{"$error":"#NUM!"}},{"$error":"#NUM!"},{"$error":"#NUM!"},87]
[null,{"$f":"wyniki!B109","v":0},{"$f":"wyniki!K109","v":0},-8.8000000000000003E-4,false,{"$f":"wyniki!$A$105","v":0},0,null,null,{"$error":"#NUM!"},{"$f":"-LARGE($E$2:$E$241,88)","v":{"$error":"#NUM!"}},{"$error":"#NUM!"},{"$error":"#NUM!"},88]
[null,{"$f":"wyniki!B110","v":0},{"$f":"wyniki!K110","v":0},-8.8999999999999995E-4,false,{"$f":"wyniki!$A$105","v":0},0,null,null,{"$error":"#NUM!"},{"$f":"-LARGE($E$2:$E$241,89)","v":{"$error":"#NUM!"}},{"$error":"#NUM!"},{"$error":"#NUM!"},89]
[null,{"$f":"wyniki!B111","v":0},{"$f":"wyniki!K111","v":0},-8.9999999999999998E-4,false,{"$f":"wyniki!$A$105","v":0},0,null,null,{"$error":"#NUM!"},{"$f":"-LARGE($E$2:$E$241,90)","v":{"$error":"#NUM!"}},{"$error":"#NUM!"},{"$error":"#NUM!"},90]
[null,{"$f":"wyniki!B113","v":0},{"$f":"wyniki!K113","v":0},-9.1E-4,false,{"$f":"wyniki!$A$112","v":0},0,null,null,{"$error":"#NUM!"},{"$f":"-LARGE($E$2:$E$241,91)","v":{"$error":"#NUM!"}},{"$error":"#NUM!"},{"$error":"#NUM!"},91]
[null,{"$f":"wyniki!B114","v":0},{"$f":"wyniki!K114","v":0},-9.2000000000000003E-4,false,{"$f":"wyniki!$A$112","v":0},0,null,null,{"$error":"#NUM!"},{"$f":"-LARGE($E$2:$E$241,92)","v":{"$error":"#NUM!"}},{"$error":"#NUM!"},{"$error":"#NUM!"},92]
[null,{"$f":"wyniki!B115","v":0},{"$f":"wyniki!K115","v":0},-9.3000000000000005E-4,false,{"$f":"wyniki!$A$112","v":0},0,null,null,{"$error":"#NUM!"},{"$f":"-LARGE($E$2:$E$241,93)","v":{"$error":"#NUM!"}},{"$error":"#NUM!"},{"$error":"#NUM!"},93]
[null,{"$f":"wyniki!B116","v":0},{"$f":"wyniki!K116","v":0},-9.3999999999999997E-4,false,{"$f":"wyniki!$A$112","v":0},0,null,null,{"$error":"#NUM!"},{"$f":"-LARGE($E$2:$E$241,94)","v":{"$error":"#NUM!"}},{"$error":"#NUM!"},{"$error":"#NUM!"},94]
[null,{"$f":"wyniki!B117","v":0},{"$f":"wyniki!K117","v":0},-9.5E-4,false,{"$f":"wyniki!$A$112","v":0},0,null,null,{"$error":"#NUM!"},{"$f":"-LARGE($E$2:$E$241,95)","v":{"$error":"#NUM!"}},{"$error":"#NUM!"},{"$error":"#NUM!"},95]
[null,{"$f":"wyniki!B118","v":0},{"$f":"wyniki!K118","v":0},-9.6000000000000002E-4,false,{"$f":"wyniki!$A$112","v":0},0,null,null,{"$error":"#NUM!"},{"$f":"-LARGE($E$2:$E$241,96)","v":{"$error":"#NUM!"}},{"$error":"#NUM!"},{"$error":"#NUM!"},96]
[null,{"$f":"wyniki!B120","v":0},{"$f":"wyniki!K120","v":0},-9.7000000000000005E-4,false,{"$f":"wyniki!$A$119","v":0},0,null,null,{"$error":"#NUM!"},{"$f":"-LARGE($E$2:$E$241,97)","v":{"$error":"#NUM!"}},{"$error":"#NUM!"},{"$error":"#NUM!"},97]
[null,{"$f":"wyniki!B121","v":0},{"$f":"wyniki!K121","v":0},-9.7999999999999997E-4,false,{"$f":"wyniki!$A$119","v":0},0,null,null,{"$error":"#NUM!"},{"$f":"-LARGE($E$2:$E$241,98)","v":{"$error":"#NUM!"}},{"$error":"#NUM!"},{"$error":"#NUM!"},98]
[null,{"$f":"wyniki!B122","v":0},{"$f":"wyniki!K122","v":0},-9.8999999999999999E-4,false,{"$f":"wyniki!$A$119","v":0},0,null,null,{"$error":"#NUM!"},{"$f":"-LARGE($E$2:$E$241,99)","v":{"$error":"#NUM!"}},{"$error":"#NUM!"},{"$error":"#NUM!"},99]
[null,{"$f":"wyniki!B123","v":0},{"$f":"wyniki!K123","v":0},-1E-3,false,{"$f":"wyniki!$A$119","v":0},0,null,null,{"$error":"#NUM!"},{"$f":"-LARGE($E$2:$E$241,100)","v":{"$error":"#NUM!"}},{"$error":"#NUM!"},{"$error":"#NUM!"},100]
[null,{"$f":"wyniki!B124","v":0},{"$f":"wyniki!K124","v":0},-1.01E-3,false,{"$f":"wyniki!$A$119","v":0},0,null,null,{"$error":"#NUM!"},{"$f":"-LARGE($E$2:$E$241,101)","v":{"$error":"#NUM!"}},{"$error":"#NUM!"},{"$error":"#NUM!"},101]
[null,{"$f":"wyniki!B125","v":0},{"$f":"wyniki!K125","v":0},-1.0200000000000001E-3,false,{"$f":"wyniki!$A$119","v":0},0,null,null,{"$error":"#NUM!"},{"$f":"-LARGE($E$2:$E$241,102)","v":{"$error":"#NUM!"}},{"$error":"#NUM!"},{"$error":"#NUM!"},102]
[null,{"$f":"wyniki!B127","v":0},{"$f":"wyniki!K127","v":0},-1.0300000000000001E-3,false,{"$f":"wyniki!$A$126","v":0},0,null,null,{"$error":"#NUM!"},{"$f":"-LARGE($E$2:$E$241,103)","v":{"$error":"#NUM!"}},{"$error":"#NUM!"},{"$error":"#NUM!"},103]
[null,{"$f":"wyniki!B128","v":0},{"$f":"wyniki!K128","v":0},-1.0399999999999999E-3,false,{"$f":"wyniki!$A$126","v":0},0,null,null,{"$error":"#NUM!"},{"$f":"-LARGE($E$2:$E$241,104)","v":{"$error":"#NUM!"}},{"$error":"#NUM!"},{"$error":"#NUM!"},104]
[null,{"$f":"wyniki!B129","v":0},{"$f":"wyniki!K129","v":0},-1.0499999999999999E-3,false,{"$f":"wyniki!$A$126","v":0},0,null,null,{"$error":"#NUM!"},{"$f":"-LARGE($E$2:$E$241,105)","v":{"$error":"#NUM!"}},{"$error":"#NUM!"},{"$error":"#NUM!"},105]
[null,{"$f":"wyniki!B130","v":0},{"$f":"wyniki!K130","v":0},-1.06E-3,false,{"$f":"wyniki!$A$126","v":0},0,null,null,{"$error":"#NUM!"},{"$f":"-LARGE($E$2:$E$241,106)","v":{"$error":"#NUM!"}},{"$error":"#NUM!"},{"$error":"#NUM!"},106]
[null,{"$f":"wyniki!B131","v":0},{"$f":"wyniki!K131","v":0},-1.07E-3,false,{"$f":"wyniki!$A$126","v":0},0,null,null,{"$error":"#NUM!"},{"$f":"-LARGE($E$2:$E$241,107)","v":{"$error":"#NUM!"}},{"$error":"#NUM!"},{"$error":"#NUM!"},107]
[null,{"$f":"wyniki!B132","v":0},{"$f":"wyniki!K132","v":0},-1.08E-3,false,{"$f":"wyniki!$A$126","v":0},0,null,null,{"$error":"#NUM!"},{"$f":"-LARGE($E$2:$E$241,108)","v":{"$error":"#NUM!"}},{"$error":"#NUM!"},{"$error":"#NUM!"},108]
[null,{"$f":"wyniki!B134","v":0},{"$f":"wyniki!K134","v":0},-1.09E-3,false,{"$f":"wyniki!$A$133","v":0},0,null,null,{"$error":"#NUM!"},{"$f":"-LARGE($E$2:$E$241,109)","v":{"$error":"#NUM!"}},{"$error":"#NUM!"},{"$error":"#NUM!"},109]
[null,{"$f":"wyniki!B135","v":0},{"$f":"wyniki!K135","v":0},-1.1000000000000001E-3,false,{"$f":"wyniki!$A$133","v":0},0,null,null,{"$error":"#NUM!"},{"$f":"-LARGE($E$2:$E$241,110)","v":{"$error":"#NUM!"}},{"$error":"#NUM!"},{"$error":"#NUM!"},110]
[null,{"$f":"wyniki!B136","v":0},{"$f":"wyniki!K136","v":0},-1.1100000000000001E-3,false,{"$f":"wyniki!$A$133","v":0},0,null,null,{"$error":"#NUM!"},{"$f":"-LARGE($E$2:$E$241,111)","v":{"$error":"#NUM!"}},{"$error":"#NUM!"},{"$error":"#NUM!"},111]
[null,{"$f":"wyniki!B137","v":0},{"$f":"wyniki!K137","v":0},-1.1199999999999999E-3,false,{"$f":"wyniki!$A$133","v":0},0,null,null,{"$error":"#NUM!"},{"$f":"-LARGE($E$2:$E$241,112)","v":{"$error":"#NUM!"}},{"$error":"#NUM!"},{"$error":"#NUM!"},112]
[null,{"$f":"wyniki!B138","v":0},{"$f":"wyniki!K138","v":0},-1.1299999999999999E-3,false,{"$f":"wyniki!$A$133","v":0},0,null,null,{"$error":"#NUM!"},{"$f":"-LARGE($E$2:$E$241,113)","v":{"$error":"#NUM!"}},{"$error":"#NUM!"},{"$error":"#NUM!"},113]
[null,{"$f":"wyniki!B139","v":0},{"$f":"wyniki!K139","v":0},-1.14E-3,false,{"$f":"wyniki!$A$133","v":0},0,null,null,{"$error":"#NUM!"},{"$f":"-LARGE($E$2:$E$241,114)","v":{"$error":"#NUM!"}},{"$error":"#NUM!"},{"$error":"#NUM!"},114]
[null,{"$f":"wyniki!B141","v":0},{"$f":"wyniki!K141","v":0},-1.15E-3,false,{"$f":"wyniki!$A$140","v":0},0,null,null,{"$error":"#NUM!"},{"$f":"-LARGE($E$2:$E$241,115)","v":{"$error":"#NUM!"}},{"$error":"#NUM!"},{"$error":"#NUM!"},115]
[null,{"$f":"wyniki!B142","v":0},{"$f":"wyniki!K142","v":0},-1.16E-3,false,{"$f":"wyniki!$A$140","v":0},0,null,null,{"$error":"#NUM!"},{"$f":"-LARGE($E$2:$E$241,116)","v":{"$error":"#NUM!"}},{"$error":"#NUM!"},{"$error":"#NUM!"},116]
[null,{"$f":"wyniki!B143","v":0},{"$f":"wyniki!K143","v":0},-1.17E-3,false,{"$f":"wyniki!$A$140","v":0},0,null,null,{"$error":"#NUM!"},{"$f":"-LARGE($E$2:$E$241,117)","v":{"$error":"#NUM!"}},{"$error":"#NUM!"},{"$error":"#NUM!"},117]
[null,{"$f":"wyniki!B144","v":0},{"$f":"wyniki!K144","v":0},-1.1800000000000001E-3,false,{"$f":"wyniki!$A$140","v":0},0,null,null,{"$error":"#NUM!"},{"$f":"-LARGE($E$2:$E$241,118)","v":{"$error":"#NUM!"}},{"$error":"#NUM!"},{"$error":"#NUM!"},118]
[null,{"$f":"wyniki!B145","v":0},{"$f":"wyniki!K145","v":0},-1.1900000000000001E-3,false,{"$f":"wyniki!$A$140","v":0},0,null,null,{"$error":"#NUM!"},{"$f":"-LARGE($E$2:$E$241,119)","v":{"$error":"#NUM!"}},{"$error":"#NUM!"},{"$error":"#NUM!"},119]
[null,{"$f":"wyniki!B146","v":0},{"$f":"wyniki!K146","v":0},-1.1999999999999999E-3,false,{"$f":"wyniki!$A$140","v":0},0,null,null,{"$error":"#NUM!"},{"$f":"-LARGE($E$2:$E$241,120)","v":{"$error":"#NUM!"}},{"$error":"#NUM!"},{"$error":"#NUM!"},120]
[null,{"$f":"wyniki!B148","v":0},{"$f":"wyniki!K148","v":0},-1.2099999999999999E-3,false,{"$f":"wyniki!$A$147","v":0},0,null,null,{"$error":"#NUM!"},{"$f":"-LARGE($E$2:$E$241,121)","v":{"$error":"#NUM!"}},{"$error":"#NUM!"},{"$error":"#NUM!"},121]
[null,{"$f":"wyniki!B149","v":0},{"$f":"wyniki!K149","v":0},-1.2199999999999999E-3,false,{"$f":"wyniki!$A$147","v":0},0,null,null,{"$error":"#NUM!"},{"$f":"-LARGE($E$2:$E$241,122)","v":{"$error":"#NUM!"}},{"$error":"#NUM!"},{"$error":"#NUM!"},122]
[null,{"$f":"wyniki!B150","v":0},{"$f":"wyniki!K150","v":0},-1.23E-3,false,{"$f":"wyniki!$A$147","v":0},0,null,null,{"$error":"#NUM!"},{"$f":"-LARGE($E$2:$E$241,123)","v":{"$error":"#NUM!"}},{"$error":"#NUM!"},{"$error":"#NUM!"},123]
[null,{"$f":"wyniki!B151","v":0},{"$f":"wyniki!K151","v":0},-1.24E-3,false,{"$f":"wyniki!$A$147","v":0},0,null,null,{"$error":"#NUM!"},{"$f":"-LARGE($E$2:$E$241,124)","v":{"$error":"#NUM!"}},{"$error":"#NUM!"},{"$error":"#NUM!"},124]
[null,{"$f":"wyniki!B152","v":0},{"$f":"wyniki!K152","v":0},-1.25E-3,false,{"$f":"wyniki!$A$147","v":0},0,null,null,{"$error":"#NUM!"},{"$f":"-LARGE($E$2:$E$241,125)","v":{"$error":"#NUM!"}},{"$error":"#NUM!"},{"$error":"#NUM!"},125]
[null,{"$f":"wyniki!B153","v":0},{"$f":"wyniki!K153","v":0},-1.2600000000000001E-3,false,{"$f":"wyniki!$A$147","v":0},0,null,null,{"$error":"#NUM!"},{"$f":"-LARGE($E$2:$E$241,126)","v":{"$error":"#NUM!"}},{"$error":"#NUM!"},{"$error":"#NUM!"},126]
[null,{"$f":"wyniki!B155","v":0},{"$f":"wyniki!K155","v":0},-1.2700000000000001E-3,false,{"$f":"wyniki!$A$154","v":0},0,null,null,{"$error":"#NUM!"},{"$f":"-LARGE($E$2:$E$241,127)","v":{"$error":"#NUM!"}},{"$error":"#NUM!"},{"$error":"#NUM!"},127]
[null,{"$f":"wyniki!B156","v":0},{"$f":"wyniki!K156","v":0},-1.2800000000000001E-3,false,{"$f":"wyniki!$A$154","v":0},0,null,null,{"$error":"#NUM!"},{"$f":"-LARGE($E$2:$E$241,128)","v":{"$error":"#NUM!"}},{"$error":"#NUM!"},{"$error":"#NUM!"},128]
[null,{"$f":"wyniki!B157","v":0},{"$f":"wyniki!K157","v":0},-1.2899999999999999E-3,false,{"$f":"wyniki!$A$154","v":0},0,null,null,{"$error":"#NUM!"},{"$f":"-LARGE($E$2:$E$241,129)","v":{"$error":"#NUM!"}},{"$error":"#NUM!"},{"$error":"#NUM!"},129]
[null,{"$f":"wyniki!B158","v":0},{"$f":"wyniki!K158","v":0},-1.2999999999999999E-3,{"$f":"IF(C131>1,G131+D131)","v":false},{"$f":"wyniki!$A$154","v":0},{"$f":"-C131","v":0},null,null,{"$f":"INDEX($B$2:$E$241,L131,1)","v":{"$error":"#NUM!"}},{"$f":"-LARGE($E$2:$E$241,130)","v":{"$error":"#NUM!"}},{"$error":"#NUM!"},{"$f":"INDEX($E$2:$F$241,L131,2)","v":{"$error":"#NUM!"}},130]
[null,{"$f":"wyniki!B159","v":0},{"$f":"wyniki!K159","v":0},-1.31E-3,false,{"$f":"wyniki!$A$154","v":0},0,null,null,{"$error":"#NUM!"},{"$f":"-LARGE($E$2:$E$241,131)","v":{"$error":"#NUM!"}},{"$f":"MATCH(-K132,$E$2:$E$241,0)","v":{"$error":"#NUM!"}},{"$error":"#NUM!"},131]
[null,{"$f":"wyniki!B160","v":0},{"$f":"wyniki!K160","v":0},-1.32E-3,false,{"$f":"wyniki!$A$154","v":0},0,null,null,{"$error":"#NUM!"},{"$f":"-LARGE($E$2:$E$241,132)","v":{"$error":"#NUM!"}},{"$error":"#NUM!"},{"$error":"#NUM!"},132]
[null,{"$f":"wyniki!B162","v":0},{"$f":"wyniki!K162","v":0},-1.33E-3,false,{"$f":"wyniki!$A$161","v":0},0,null,null,{"$error":"#NUM!"},{"$f":"-LARGE($E$2:$E$241,133)","v":{"$error":"#NUM!"}},{"$error":"#NUM!"},{"$error":"#NUM!"},133]
[null,{"$f":"wyniki!B163","v":0},{"$f":"wyniki!K163","v":0},-1.34E-3,false,{"$f":"wyniki!$A$161","v":0},0,null,null,{"$error":"#NUM!"},{"$f":"-LARGE($E$2:$E$241,134)","v":{"$error":"#NUM!"}},{"$error":"#NUM!"},{"$error":"#NUM!"},134]
[null,{"$f":"wyniki!B164","v":0},{"$f":"wyniki!K164","v":0},-1.3500000000000001E-3,false,{"$f":"wyniki!$A$161","v":0},0,null,null,{"$error":"#NUM!"},{"$f":"-LARGE($E$2:$E$241,135)","v":{"$error":"#NUM!"}},{"$error":"#NUM!"},{"$error":"#NUM!"},135]
[null,{"$f":"wyniki!B165","v":0},{"$f":"wyniki!K165","v":0},-1.3600000000000001E-3,false,{"$f":"wyniki!$A$161","v":0},0,null,null,{"$error":"#NUM!"},{"$f":"-LARGE($E$2:$E$241,136)","v":{"$error":"#NUM!"}},{"$error":"#NUM!"},{"$error":"#NUM!"},136]
[null,{"$f":"wyniki!B166","v":0},{"$f":"wyniki!K166","v":0},-1.3699999999999999E-3,false,{"$f":"wyniki!$A$161","v":0},0,null,null,{"$error":"#NUM!"},{"$f":"-LARGE($E$2:$E$241,137)","v":{"$error":"#NUM!"}},{"$error":"#NUM!"},{"$error":"#NUM!"},137]
[null,{"$f":"wyniki!B167","v":0},{"$f":"wyniki!K167","v":0},-1.3799999999999999E-3,false,{"$f":"wyniki!$A$161","v":0},0,null,null,{"$error":"#NUM!"},{"$f":"-LARGE($E$2:$E$241,138)","v":{"$error":"#NUM!"}},{"$error":"#NUM!"},{"$error":"#NUM!"},138]
[null,{"$f":"wyniki!B169","v":0},{"$f":"wyniki!K169","v":0},-1.39E-3,false,{"$f":"wyniki!$A$168","v":0},0,null,null,{"$error":"#NUM!"},{"$f":"-LARGE($E$2:$E$241,139)","v":{"$error":"#NUM!"}},{"$error":"#NUM!"},{"$error":"#NUM!"},139]
[null,{"$f":"wyniki!B170","v":0},{"$f":"wyniki!K170","v":0},-1.4E-3,false,{"$f":"wyniki!$A$168","v":0},0,null,null,{"$error":"#NUM!"},{"$f":"-LARGE($E$2:$E$241,140)","v":{"$error":"#NUM!"}},{"$error":"#NUM!"},{"$error":"#NUM!"},140]
[null,{"$f":"wyniki!B171","v":0},{"$f":"wyniki!K171","v":0},-1.41E-3,false,{"$f":"wyniki!$A$168","v":0},0,null,null,{"$error":"#NUM!"},{"$f":"-LARGE($E$2:$E$241,141)","v":{"$error":"#NUM!"}},{"$error":"#NUM!"},{"$error":"#NUM!"},141]
[null,{"$f":"wyniki!B172","v":0},{"$f":"wyniki!K172","v":0},-1.42E-3,false,{"$f":"wyniki!$A$168","v":0},0,null,null,{"$error":"#NUM!"},{"$f":"-LARGE($E$2:$E$241,142)","v":{"$error":"#NUM!"}},{"$error":"#NUM!"},{"$error":"#NUM!"},142]
[null,{"$f":"wyniki!B173","v":0},{"$f":"wyniki!K173","v":0},-1.4300000000000001E-3,false,{"$f":"wyniki!$A$168","v":0},0,null,null,{"$error":"#NUM!"},{"$f":"-LARGE($E$2:$E$241,143)","v":{"$error":"#NUM!"}},{"$error":"#NUM!"},{"$error":"#NUM!"},143]
[null,{"$f":"wyniki!B174","v":0},{"$f":"wyniki!K174","v":0},-1.4400000000000001E-3,false,{"$f":"wyniki!$A$168","v":0},0,null,null,{"$error":"#NUM!"},{"$f":"-LARGE($E$2:$E$241,144)","v":{"$error":"#NUM!"}},{"$error":"#NUM!"},{"$error":"#NUM!"},144]
[null,{"$f":"wyniki!B176","v":0},{"$f":"wyniki!K176","v":0},-1.4499999999999999E-3,false,{"$f":"wyniki!$A$175","v":0},0,null,null,{"$error":"#NUM!"},{"$f":"-LARGE($E$2:$E$241,145)","v":{"$error":"#NUM!"}},{"$error":"#NUM!"},{"$error":"#NUM!"},145]
[null,{"$f":"wyniki!B177","v":0},{"$f":"wyniki!K177","v":0},-1.4599999999999999E-3,false,{"$f":"wyniki!$A$175","v":0},0,null,null,{"$error":"#NUM!"},{"$f":"-LARGE($E$2:$E$241,146)","v":{"$error":"#NUM!"}},{"$error":"#NUM!"},{"$error":"#NUM!"},146]
[null,{"$f":"wyniki!B178","v":0},{"$f":"wyniki!K178","v":0},-1.47E-3,false,{"$f":"wyniki!$A$175","v":0},0,null,null,{"$error":"#NUM!"},{"$f":"-LARGE($E$2:$E$241,147)","v":{"$error":"#NUM!"}},{"$error":"#NUM!"},{"$error":"#NUM!"},147]
[null,{"$f":"wyniki!B179","v":0},{"$f":"wyniki!K179","v":0},-1.48E-3,false,{"$f":"wyniki!$A$175","v":0},0,null,null,{"$error":"#NUM!"},{"$f":"-LARGE($E$2:$E$241,148)","v":{"$error":"#NUM!"}},{"$error":"#NUM!"},{"$error":"#NUM!"},148]
[null,{"$f":"wyniki!B180","v":0},{"$f":"wyniki!K180","v":0},-1.49E-3,false,{"$f":"wyniki!$A$175","v":0},0,null,null,{"$error":"#NUM!"},{"$f":"-LARGE($E$2:$E$241,149)","v":{"$error":"#NUM!"}},{"$error":"#NUM!"},{"$error":"#NUM!"},149]
[null,{"$f":"wyniki!B181","v":0},{"$f":"wyniki!K181","v":0},-1.5E-3,false,{"$f":"wyniki!$A$175","v":0},0,null,null,{"$error":"#NUM!"},{"$f":"-LARGE($E$2:$E$241,150)","v":{"$error":"#NUM!"}},{"$error":"#NUM!"},{"$error":"#NUM!"},150]
[null,{"$f":"wyniki!B183","v":0},{"$f":"wyniki!K183","v":0},-1.5100000000000001E-3,false,{"$f":"wyniki!$A$182","v":0},0,null,null,{"$error":"#NUM!"},{"$f":"-LARGE($E$2:$E$241,151)","v":{"$error":"#NUM!"}},{"$error":"#NUM!"},{"$error":"#NUM!"},151]
[null,{"$f":"wyniki!B184","v":0},{"$f":"wyniki!K184","v":0},-1.5200000000000001E-3,false,{"$f":"wyniki!$A$182","v":0},0,null,null,{"$error":"#NUM!"},{"$f":"-LARGE($E$2:$E$241,152)","v":{"$error":"#NUM!"}},{"$error":"#NUM!"},{"$error":"#NUM!"},152]
[null,{"$f":"wyniki!B185","v":0},{"$f":"wyniki!K185","v":0},-1.5299999999999999E-3,false,{"$f":"wyniki!$A$182","v":0},0,null,null,{"$error":"#NUM!"},{"$f":"-LARGE($E$2:$E$241,153)","v":{"$error":"#NUM!"}},{"$error":"#NUM!"},{"$error":"#NUM!"},153]
[null,{"$f":"wyniki!B186","v":0},{"$f":"wyniki!K186","v":0},-1.5399999999999999E-3,false,{"$f":"wyniki!$A$182","v":0},0,null,null,{"$error":"#NUM!"},{"$f":"-LARGE($E$2:$E$241,154)","v":{"$error":"#NUM!"}},{"$error":"#NUM!"},{"$error":"#NUM!"},154]
[null,{"$f":"wyniki!B187","v":0},{"$f":"wyniki!K187","v":0},-1.5499999999999999E-3,false,{"$f":"wyniki!$A$182","v":0},0,null,null,{"$error":"#NUM!"},{"$f":"-LARGE($E$2:$E$241,155)","v":{"$error":"#NUM!"}},{"$error":"#NUM!"},{"$error":"#NUM!"},155]
[null,{"$f":"wyniki!B188","v":0},{"$f":"wyniki!K188","v":0},-1.56E-3,false,{"$f":"wyniki!$A$182","v":0},0,null,null,{"$error":"#NUM!"},{"$f":"-LARGE($E$2:$E$241,156)","v":{"$error":"#NUM!"}},{"$error":"#NUM!"},{"$error":"#NUM!"},156]
[null,{"$f":"wyniki!B190","v":0},{"$f":"wyniki!K190","v":0},-1.57E-3,false,{"$f":"wyniki!$A$189","v":0},0,null,null,{"$error":"#NUM!"},{"$f":"-LARGE($E$2:$E$241,157)","v":{"$error":"#NUM!"}},{"$error":"#NUM!"},{"$error":"#NUM!"},157]
[null,{"$f":"wyniki!B191","v":0},{"$f":"wyniki!K191","v":0},-1.58E-3,false,{"$f":"wyniki!$A$189","v":0},0,null,null,{"$error":"#NUM!"},{"$f":"-LARGE($E$2:$E$241,158)","v":{"$error":"#NUM!"}},{"$error":"#NUM!"},{"$error":"#NUM!"},158]
[null,{"$f":"wyniki!B192","v":0},{"$f":"wyniki!K192","v":0},-1.5900000000000001E-3,false,{"$f":"wyniki!$A$189","v":0},0,null,null,{"$error":"#NUM!"},{"$f":"-LARGE($E$2:$E$241,159)","v":{"$error":"#NUM!"}},{"$error":"#NUM!"},{"$error":"#NUM!"},159]
[null,{"$f":"wyniki!B193","v":0},{"$f":"wyniki!K193","v":0},-1.6000000000000001E-3,false,{"$f":"wyniki!$A$189","v":0},0,null,null,{"$error":"#NUM!"},{"$f":"-LARGE($E$2:$E$241,160)","v":{"$error":"#NUM!"}},{"$error":"#NUM!"},{"$error":"#NUM!"},160]
[null,{"$f":"wyniki!B194","v":0},{"$f":"wyniki!K194","v":0},-1.6100000000000001E-3,false,{"$f":"wyniki!$A$189","v":0},0,null,null,{"$error":"#NUM!"},{"$f":"-LARGE($E$2:$E$241,161)","v":{"$error":"#NUM!"}},{"$error":"#NUM!"},{"$error":"#NUM!"},161]
[null,{"$f":"wyniki!B195","v":0},{"$f":"wyniki!K195","v":0},-1.6199999999999999E-3,false,{"$f":"wyniki!$A$189","v":0},0,null,null,{"$error":"#NUM!"},{"$f":"-LARGE($E$2:$E$241,162)","v":{"$error":"#NUM!"}},{"$error":"#NUM!"},{"$error":"#NUM!"},162]
[null,{"$f":"wyniki!B197","v":0},{"$f":"wyniki!K197","v":0},-1.6299999999999999E-3,false,{"$f":"wyniki!$A$196","v":0},0,null,null,{"$error":"#NUM!"},{"$f":"-LARGE($E$2:$E$241,163)","v":{"$error":"#NUM!"}},{"$error":"#NUM!"},{"$error":"#NUM!"},163]
[null,{"$f":"wyniki!B198","v":0},{"$f":"wyniki!K198","v":0},-1.64E-3,false,{"$f":"wyniki!$A$196","v":0},0,null,null,{"$error":"#NUM!"},{"$f":"-LARGE($E$2:$E$241,164)","v":{"$error":"#NUM!"}},{"$error":"#NUM!"},{"$error":"#NUM!"},164]
[null,{"$f":"wyniki!B199","v":0},{"$f":"wyniki!K199","v":0},-1.65E-3,false,{"$f":"wyniki!$A$196","v":0},0,null,null,{"$error":"#NUM!"},{"$f":"-LARGE($E$2:$E$241,165)","v":{"$error":"#NUM!"}},{"$error":"#NUM!"},{"$error":"#NUM!"},165]
[null,{"$f":"wyniki!B200","v":0},{"$f":"wyniki!K200","v":0},-1.66E-3,false,{"$f":"wyniki!$A$196","v":0},0,null,null,{"$error":"#NUM!"},{"$f":"-LARGE($E$2:$E$241,166)","v":{"$error":"#NUM!"}},{"$error":"#NUM!"},{"$error":"#NUM!"},166]
[null,{"$f":"wyniki!B201","v":0},{"$f":"wyniki!K201","v":0},-1.67E-3,false,{"$f":"wyniki!$A$196","v":0},0,null,null,{"$error":"#NUM!"},{"$f":"-LARGE($E$2:$E$241,167)","v":{"$error":"#NUM!"}},{"$error":"#NUM!"},{"$error":"#NUM!"},167]
[null,{"$f":"wyniki!B202","v":0},{"$f":"wyniki!K202","v":0},-1.6800000000000001E-3,false,{"$f":"wyniki!$A$196","v":0},0,null,null,{"$error":"#NUM!"},{"$f":"-LARGE($E$2:$E$241,168)","v":{"$error":"#NUM!"}},{"$error":"#NUM!"},{"$error":"#NUM!"},168]
[null,{"$f":"wyniki!B204","v":0},{"$f":"wyniki!K204","v":0},-1.6900000000000001E-3,false,{"$f":"wyniki!$A$203","v":0},0,null,null,{"$error":"#NUM!"},{"$f":"-LARGE($E$2:$E$241,169)","v":{"$error":"#NUM!"}},{"$error":"#NUM!"},{"$error":"#NUM!"},169]
[null,{"$f":"wyniki!B205","v":0},{"$f":"wyniki!K205","v":0},-1.6999999999999999E-3,false,{"$f":"wyniki!$A$203","v":0},0,null,null,{"$error":"#NUM!"},{"$f":"-LARGE($E$2:$E$241,170)","v":{"$error":"#NUM!"}},{"$error":"#NUM!"},{"$error":"#NUM!"},170]
[null,{"$f":"wyniki!B206","v":0},{"$f":"wyniki!K206","v":0},-1.7099999999999999E-3,false,{"$f":"wyniki!$A$203","v":0},0,null,null,{"$error":"#NUM!"},{"$f":"-LARGE($E$2:$E$241,171)","v":{"$error":"#NUM!"}},{"$error":"#NUM!"},{"$error":"#NUM!"},171]
[null,{"$f":"wyniki!B207","v":0},{"$f":"wyniki!K207","v":0},-1.72E-3,false,{"$f":"wyniki!$A$203","v":0},0,null,null,{"$error":"#NUM!"},{"$f":"-LARGE($E$2:$E$241,172)","v":{"$error":"#NUM!"}},{"$error":"#NUM!"},{"$error":"#NUM!"},172]
[null,{"$f":"wyniki!B208","v":0},{"$f":"wyniki!K208","v":0},-1.73E-3,false,{"$f":"wyniki!$A$203","v":0},0,null,null,{"$error":"#NUM!"},{"$f":"-LARGE($E$2:$E$241,173)","v":{"$error":"#NUM!"}},{"$error":"#NUM!"},{"$error":"#NUM!"},173]
[null,{"$f":"wyniki!B209","v":0},{"$f":"wyniki!K209","v":0},-1.74E-3,false,{"$f":"wyniki!$A$203","v":0},0,null,null,{"$error":"#NUM!"},{"$f":"-LARGE($E$2:$E$241,174)","v":{"$error":"#NUM!"}},{"$error":"#NUM!"},{"$error":"#NUM!"},174]
[null,{"$f":"wyniki!B211","v":0},{"$f":"wyniki!K211","v":0},-1.75E-3,false,{"$f":"wyniki!$A$210","v":0},0,null,null,{"$error":"#NUM!"},{"$f":"-LARGE($E$2:$E$241,175)","v":{"$error":"#NUM!"}},{"$error":"#NUM!"},{"$error":"#NUM!"},175]
[null,{"$f":"wyniki!B212","v":0},{"$f":"wyniki!K212","v":0},-1.7600000000000001E-3,false,{"$f":"wyniki!$A$210","v":0},0,null,null,{"$error":"#NUM!"},{"$f":"-LARGE($E$2:$E$241,176)","v":{"$error":"#NUM!"}},{"$error":"#NUM!"},{"$error":"#NUM!"},176]
[null,{"$f":"wyniki!B213","v":0},{"$f":"wyniki!K213","v":0},-1.7700000000000001E-3,false,{"$f":"wyniki!$A$210","v":0},0,null,null,{"$error":"#NUM!"},{"$f":"-LARGE($E$2:$E$241,177)","v":{"$error":"#NUM!"}},{"$error":"#NUM!"},{"$error":"#NUM!"},177]
[null,{"$f":"wyniki!B214","v":0},{"$f":"wyniki!K214","v":0},-1.7799999999999999E-3,false,{"$f":"wyniki!$A$210","v":0},0,null,null,{"$error":"#NUM!"},{"$f":"-LARGE($E$2:$E$241,178)","v":{"$error":"#NUM!"}},{"$error":"#NUM!"},{"$error":"#NUM!"},178]
[null,{"$f":"wyniki!B215","v":0},{"$f":"wyniki!K215","v":0},-1.7899999999999999E-3,false,{"$f":"wyniki!$A$210","v":0},0,null,null,{"$error":"#NUM!"},{"$f":"-LARGE($E$2:$E$241,179)","v":{"$error":"#NUM!"}},{"$error":"#NUM!"},{"$error":"#NUM!"},179]
[null,{"$f":"wyniki!B216","v":0},{"$f":"wyniki!K216","v":0},-1.8E-3,false,{"$f":"wyniki!$A$210","v":0},0,null,null,{"$error":"#NUM!"},{"$f":"-LARGE($E$2:$E$241,180)","v":{"$error":"#NUM!"}},{"$error":"#NUM!"},{"$error":"#NUM!"},180]
[null,{"$f":"wyniki!B218","v":0},{"$f":"wyniki!K218","v":0},-1.81E-3,false,{"$f":"wyniki!$A$217","v":0},0,null,null,{"$error":"#NUM!"},{"$f":"-LARGE($E$2:$E$241,181)","v":{"$error":"#NUM!"}},{"$error":"#NUM!"},{"$error":"#NUM!"},181]
[null,{"$f":"wyniki!B219","v":0},{"$f":"wyniki!K219","v":0},-1.82E-3,false,{"$f":"wyniki!$A$217","v":0},0,null,null,{"$error":"#NUM!"},{"$f":"-LARGE($E$2:$E$241,182)","v":{"$error":"#NUM!"}},{"$error":"#NUM!"},{"$error":"#NUM!"},182]
[null,{"$f":"wyniki!B220","v":0},{"$f":"wyniki!K220","v":0},-1.83E-3,false,{"$f":"wyniki!$A$217","v":0},0,null,null,{"$error":"#NUM!"},{"$f":"-LARGE($E$2:$E$241,183)","v":{"$error":"#NUM!"}},{"$error":"#NUM!"},{"$error":"#NUM!"},183]
[null,{"$f":"wyniki!B221","v":0},{"$f":"wyniki!K221","v":0},-1.8400000000000001E-3,false,{"$f":"wyniki!$A$217","v":0},0,null,null,{"$error":"#NUM!"},{"$f":"-LARGE($E$2:$E$241,184)","v":{"$error":"#NUM!"}},{"$error":"#NUM!"},{"$error":"#NUM!"},184]
[null,{"$f":"wyniki!B222","v":0},{"$f":"wyniki!K222","v":0},-1.8500000000000001E-3,false,{"$f":"wyniki!$A$217","v":0},0,null,null,{"$error":"#NUM!"},{"$f":"-LARGE($E$2:$E$241,185)","v":{"$error":"#NUM!"}},{"$error":"#NUM!"},{"$error":"#NUM!"},185]
[null,{"$f":"wyniki!B223","v":0},{"$f":"wyniki!K223","v":0},-1.8600000000000001E-3,false,{"$f":"wyniki!$A$217","v":0},0,null,null,{"$error":"#NUM!"},{"$f":"-LARGE($E$2:$E$241,186)","v":{"$error":"#NUM!"}},{"$error":"#NUM!"},{"$error":"#NUM!"},186]
[null,{"$f":"wyniki!B225","v":0},{"$f":"wyniki!K225","v":0},-1.8699999999999999E-3,false,{"$f":"wyniki!$A$224","v":0},0,null,null,{"$error":"#NUM!"},{"$f":"-LARGE($E$2:$E$241,187)","v":{"$error":"#NUM!"}},{"$error":"#NUM!"},{"$error":"#NUM!"},187]
[null,{"$f":"wyniki!B226","v":0},{"$f":"wyniki!K226","v":0},-1.8799999999999999E-3,false,{"$f":"wyniki!$A$224","v":0},0,null,null,{"$error":"#NUM!"},{"$f":"-LARGE($E$2:$E$241,188)","v":{"$error":"#NUM!"}},{"$error":"#NUM!"},{"$error":"#NUM!"},188]
[null,{"$f":"wyniki!B227","v":0},{"$f":"wyniki!K227","v":0},-1.89E-3,false,{"$f":"wyniki!$A$224","v":0},0,null,null,{"$error":"#NUM!"},{"$f":"-LARGE($E$2:$E$241,189)","v":{"$error":"#NUM!"}},{"$error":"#NUM!"},{"$error":"#NUM!"},189]
[null,{"$f":"wyniki!B228","v":0},{"$f":"wyniki!K228","v":0},-1.9E-3,false,{"$f":"wyniki!$A$224","v":0},0,null,null,{"$error":"#NUM!"},{"$f":"-LARGE($E$2:$E$241,190)","v":{"$error":"#NUM!"}},{"$error":"#NUM!"},{"$error":"#NUM!"},190]
[null,{"$f":"wyniki!B229","v":0},{"$f":"wyniki!K229","v":0},-1.91E-3,false,{"$f":"wyniki!$A$224","v":0},0,null,null,{"$error":"#NUM!"},{"$f":"-LARGE($E$2:$E$241,191)","v":{"$error":"#NUM!"}},{"$error":"#NUM!"},{"$error":"#NUM!"},191]
[null,{"$f":"wyniki!B230","v":0},{"$f":"wyniki!K230","v":0},-1.92E-3,false,{"$f":"wyniki!$A$224","v":0},0,null,null,{"$error":"#NUM!"},{"$f":"-LARGE($E$2:$E$241,192)","v":{"$error":"#NUM!"}},{"$error":"#NUM!"},{"$error":"#NUM!"},192]
[null,{"$f":"wyniki!B232","v":0},{"$f":"wyniki!K232","v":0},-1.9300000000000001E-3,false,{"$f":"wyniki!$A$231","v":0},0,null,null,{"$error":"#NUM!"},{"$f":"-LARGE($E$2:$E$241,193)","v":{"$error":"#NUM!"}},{"$error":"#NUM!"},{"$error":"#NUM!"},193]
[null,{"$f":"wyniki!B233","v":0},{"$f":"wyniki!K233","v":0},-1.9400000000000001E-3,{"$f":"IF(C195>1,G195+D195)","v":false},{"$f":"wyniki!$A$231","v":0},{"$f":"-C195","v":0},null,null,{"$f":"INDEX($B$2:$E$241,L195,1)","v":{"$error":"#NUM!"}},{"$f":"-LARGE($E$2:$E$241,194)","v":{"$error":"#NUM!"}},{"$error":"#NUM!"},{"$f":"INDEX($E$2:$F$241,L195,2)","v":{"$error":"#NUM!"}},194]
[null,{"$f":"wyniki!B234","v":0},{"$f":"wyniki!K234","v":0},-1.9499999999999999E-3,false,{"$f":"wyniki!$A$231","v":0},0,null,null,{"$error":"#NUM!"},{"$f":"-LARGE($E$2:$E$241,195)","v":{"$error":"#NUM!"}},{"$f":"MATCH(-K196,$E$2:$E$241,0)","v":{"$error":"#NUM!"}},{"$error":"#NUM!"},195]
[null,{"$f":"wyniki!B235","v":0},{"$f":"wyniki!K235","v":0},-1.9599999999999999E-3,false,{"$f":"wyniki!$A$231","v":0},0,null,null,{"$error":"#NUM!"},{"$f":"-LARGE($E$2:$E$241,196)","v":{"$error":"#NUM!"}},{"$error":"#NUM!"},{"$error":"#NUM!"},196]
[null,{"$f":"wyniki!B236","v":0},{"$f":"wyniki!K236","v":0},-1.97E-3,false,{"$f":"wyniki!$A$231","v":0},0,null,null,{"$error":"#NUM!"},{"$f":"-LARGE($E$2:$E$241,197)","v":{"$error":"#NUM!"}},{"$error":"#NUM!"},{"$error":"#NUM!"},197]
[null,{"$f":"wyniki!B237","v":0},{"$f":"wyniki!K237","v":0},-1.98E-3,false,{"$f":"wyniki!$A$231","v":0},0,null,null,{"$error":"#NUM!"},{"$f":"-LARGE($E$2:$E$241,198)","v":{"$error":"#NUM!"}},{"$error":"#NUM!"},{"$error":"#NUM!"},198]
[null,{"$f":"wyniki!B239","v":0},{"$f":"wyniki!K239","v":0},-1.99E-3,false,{"$f":"wyniki!$A$238","v":0},0,null,null,{"$error":"#NUM!"},{"$f":"-LARGE($E$2:$E$241,199)","v":{"$error":"#NUM!"}},{"$error":"#NUM!"},{"$error":"#NUM!"},199]
[null,{"$f":"wyniki!B240","v":0},{"$f":"wyniki!K240","v":0},-2E-3,false,{"$f":"wyniki!$A$238","v":0},0,null,null,{"$error":"#NUM!"},{"$f":"-LARGE($E$2:$E$241,200)","v":{"$error":"#NUM!"}},{"$error":"#NUM!"},{"$error":"#NUM!"},200]
[null,{"$f":"wyniki!B241","v":0},{"$f":"wyniki!K241","v":0},-2.0100000000000001E-3,false,{"$f":"wyniki!$A$238","v":0},0,null,null,{"$error":"#NUM!"},{"$f":"-LARGE($E$2:$E$241,201)","v":{"$error":"#NUM!"}},{"$error":"#NUM!"},{"$error":"#NUM!"},201]
[null,{"$f":"wyniki!B242","v":0},{"$f":"wyniki!K242","v":0},-2.0200000000000001E-3,false,{"$f":"wyniki!$A$238","v":0},0,null,null,{"$error":"#NUM!"},{"$f":"-LARGE($E$2:$E$241,202)","v":{"$error":"#NUM!"}},{"$error":"#NUM!"},{"$error":"#NUM!"},202]
[null,{"$f":"wyniki!B243","v":0},{"$f":"wyniki!K243","v":0},-2.0300000000000001E-3,false,{"$f":"wyniki!$A$238","v":0},0,null,null,{"$error":"#NUM!"},{"$f":"-LARGE($E$2:$E$241,203)","v":{"$error":"#NUM!"}},{"$error":"#NUM!"},{"$error":"#NUM!"},203]
[null,{"$f":"wyniki!B244","v":0},{"$f":"wyniki!K244","v":0},-2.0400000000000001E-3,false,{"$f":"wyniki!$A$238","v":0},0,null,null,{"$error":"#NUM!"},{"$f":"-LARGE($E$2:$E$241,204)","v":{"$error":"#NUM!"}},{"$error":"#NUM!"},{"$error":"#NUM!"},204]
[null,{"$f":"wyniki!B246","v":0},{"$f":"wyniki!K246","v":0},-2.0500000000000002E-3,false,{"$f":"wyniki!$A$245","v":0},0,null,null,{"$error":"#NUM!"},{"$f":"-LARGE($E$2:$E$241,205)","v":{"$error":"#NUM!"}},{"$error":"#NUM!"},{"$error":"#NUM!"},205]
[null,{"$f":"wyniki!B247","v":0},{"$f":"wyniki!K247","v":0},-2.0600000000000002E-3,false,{"$f":"wyniki!$A$245","v":0},0,null,null,{"$error":"#NUM!"},{"$f":"-LARGE($E$2:$E$241,206)","v":{"$error":"#NUM!"}},{"$error":"#NUM!"},{"$error":"#NUM!"},206]
[null,{"$f":"wyniki!B248","v":0},{"$f":"wyniki!K248","v":0},-2.0699999999999998E-3,false,{"$f":"wyniki!$A$245","v":0},0,null,null,{"$error":"#NUM!"},{"$f":"-LARGE($E$2:$E$241,207)","v":{"$error":"#NUM!"}},{"$error":"#NUM!"},{"$error":"#NUM!"},207]
[null,{"$f":"wyniki!B249","v":0},{"$f":"wyniki!K249","v":0},-2.0799999999999998E-3,false,{"$f":"wyniki!$A$245","v":0},0,null,null,{"$error":"#NUM!"},{"$f":"-LARGE($E$2:$E$241,208)","v":{"$error":"#NUM!"}},{"$error":"#NUM!"},{"$error":"#NUM!"},208]
[null,{"$f":"wyniki!B250","v":0},{"$f":"wyniki!K250","v":0},-2.0899999999999998E-3,false,{"$f":"wyniki!$A$245","v":0},0,null,null,{"$error":"#NUM!"},{"$f":"-LARGE($E$2:$E$241,209)","v":{"$error":"#NUM!"}},{"$error":"#NUM!"},{"$error":"#NUM!"},209]
[null,{"$f":"wyniki!B251","v":0},{"$f":"wyniki!K251","v":0},-2.0999999999999999E-3,false,{"$f":"wyniki!$A$245","v":0},0,null,null,{"$error":"#NUM!"},{"$f":"-LARGE($E$2:$E$241,210)","v":{"$error":"#NUM!"}},{"$error":"#NUM!"},{"$error":"#NUM!"},210]
[null,{"$f":"wyniki!B253","v":0},{"$f":"wyniki!K253","v":0},-2.1099999999999999E-3,false,{"$f":"wyniki!$A$252","v":0},0,null,null,{"$error":"#NUM!"},{"$f":"-LARGE($E$2:$E$241,211)","v":{"$error":"#NUM!"}},{"$error":"#NUM!"},{"$error":"#NUM!"},211]
[null,{"$f":"wyniki!B254","v":0},{"$f":"wyniki!K254","v":0},-2.1199999999999999E-3,false,{"$f":"wyniki!$A$252","v":0},0,null,null,{"$error":"#NUM!"},{"$f":"-LARGE($E$2:$E$241,212)","v":{"$error":"#NUM!"}},{"$error":"#NUM!"},{"$error":"#NUM!"},212]
[null,{"$f":"wyniki!B255","v":0},{"$f":"wyniki!K255","v":0},-2.1299999999999999E-3,false,{"$f":"wyniki!$A$252","v":0},0,null,null,{"$error":"#NUM!"},{"$f":"-LARGE($E$2:$E$241,213)","v":{"$error":"#NUM!"}},{"$error":"#NUM!"},{"$error":"#NUM!"},213]
[null,{"$f":"wyniki!B256","v":0},{"$f":"wyniki!K256","v":0},-2.14E-3,false,{"$f":"wyniki!$A$252","v":0},0,null,null,{"$error":"#NUM!"},{"$f":"-LARGE($E$2:$E$241,214)","v":{"$error":"#NUM!"}},{"$error":"#NUM!"},{"$error":"#NUM!"},214]
[null,{"$f":"wyniki!B257","v":0},{"$f":"wyniki!K257","v":0},-2.15E-3,false,{"$f":"wyniki!$A$252","v":0},0,null,null,{"$error":"#NUM!"},{"$f":"-LARGE($E$2:$E$241,215)","v":{"$error":"#NUM!"}},{"$error":"#NUM!"},{"$error":"#NUM!"},215]
[null,{"$f":"wyniki!B258","v":0},{"$f":"wyniki!K258","v":0},-2.16E-3,false,{"$f":"wyniki!$A$252","v":0},0,null,null,{"$error":"#NUM!"},{"$f":"-LARGE($E$2:$E$241,216)","v":{"$error":"#NUM!"}},{"$error":"#NUM!"},{"$error":"#NUM!"},216]
[null,{"$f":"wyniki!B260","v":0},{"$f":"wyniki!K260","v":0},-2.1700000000000001E-3,false,{"$f":"wyniki!$A$259","v":0},0,null,null,{"$error":"#NUM!"},{"$f":"-LARGE($E$2:$E$241,217)","v":{"$error":"#NUM!"}},{"$error":"#NUM!"},{"$error":"#NUM!"},217]
[null,{"$f":"wyniki!B261","v":0},{"$f":"wyniki!K261","v":0},-2.1800000000000001E-3,false,{"$f":"wyniki!$A$259","v":0},0,null,null,{"$error":"#NUM!"},{"$f":"-LARGE($E$2:$E$241,218)","v":{"$error":"#NUM!"}},{"$error":"#NUM!"},{"$error":"#NUM!"},218]
[null,{"$f":"wyniki!B262","v":0},{"$f":"wyniki!K262","v":0},-2.1900000000000001E-3,false,{"$f":"wyniki!$A$259","v":0},0,null,null,{"$error":"#NUM!"},{"$f":"-LARGE($E$2:$E$241,219)","v":{"$error":"#NUM!"}},{"$error":"#NUM!"},{"$error":"#NUM!"},219]
[null,{"$f":"wyniki!B263","v":0},{"$f":"wyniki!K263","v":0},-2.2000000000000001E-3,false,{"$f":"wyniki!$A$259","v":0},0,null,null,{"$error":"#NUM!"},{"$f":"-LARGE($E$2:$E$241,220)","v":{"$error":"#NUM!"}},{"$error":"#NUM!"},{"$error":"#NUM!"},220]
[null,{"$f":"wyniki!B264","v":0},{"$f":"wyniki!K264","v":0},-2.2100000000000002E-3,false,{"$f":"wyniki!$A$259","v":0},0,null,null,{"$error":"#NUM!"},{"$f":"-LARGE($E$2:$E$241,221)","v":{"$error":"#NUM!"}},{"$error":"#NUM!"},{"$error":"#NUM!"},221]
[null,{"$f":"wyniki!B265","v":0},{"$f":"wyniki!K265","v":0},-2.2200000000000002E-3,false,{"$f":"wyniki!$A$259","v":0},0,null,null,{"$error":"#NUM!"},{"$f":"-LARGE($E$2:$E$241,222)","v":{"$error":"#NUM!"}},{"$error":"#NUM!"},{"$error":"#NUM!"},222]
[null,{"$f":"wyniki!B267","v":0},{"$f":"wyniki!K267","v":0},-2.2300000000000002E-3,false,{"$f":"wyniki!$A$266","v":0},0,null,null,{"$error":"#NUM!"},{"$f":"-LARGE($E$2:$E$241,223)","v":{"$error":"#NUM!"}},{"$error":"#NUM!"},{"$error":"#NUM!"},223]
[null,{"$f":"wyniki!B268","v":0},{"$f":"wyniki!K268","v":0},-2.2399999999999998E-3,false,{"$f":"wyniki!$A$266","v":0},0,null,null,{"$error":"#NUM!"},{"$f":"-LARGE($E$2:$E$241,224)","v":{"$error":"#NUM!"}},{"$error":"#NUM!"},{"$error":"#NUM!"},224]
[null,{"$f":"wyniki!B269","v":0},{"$f":"wyniki!K269","v":0},-2.2499999999999998E-3,false,{"$f":"wyniki!$A$266","v":0},0,null,null,{"$error":"#NUM!"},{"$f":"-LARGE($E$2:$E$241,225)","v":{"$error":"#NUM!"}},{"$error":"#NUM!"},{"$error":"#NUM!"},225]
[null,{"$f":"wyniki!B270","v":0},{"$f":"wyniki!K270","v":0},-2.2599999999999999E-3,false,{"$f":"wyniki!$A$266","v":0},0,null,null,{"$error":"#NUM!"},{"$f":"-LARGE($E$2:$E$241,226)","v":{"$error":"#NUM!"}},{"$error":"#NUM!"},{"$error":"#NUM!"},226]
[null,{"$f":"wyniki!B271","v":0},{"$f":"wyniki!K271","v":0},-2.2699999999999999E-3,false,{"$f":"wyniki!$A$266","v":0},0,null,null,{"$error":"#NUM!"},{"$f":"-LARGE($E$2:$E$241,227)","v":{"$error":"#NUM!"}},{"$error":"#NUM!"},{"$error":"#NUM!"},227]
[null,{"$f":"wyniki!B272","v":0},{"$f":"wyniki!K272","v":0},-2.2799999999999999E-3,false,{"$f":"wyniki!$A$266","v":0},0,null,null,{"$error":"#NUM!"},{"$f":"-LARGE($E$2:$E$241,228)","v":{"$error":"#NUM!"}},{"$error":"#NUM!"},{"$error":"#NUM!"},228]
[null,{"$f":"wyniki!B274","v":0},{"$f":"wyniki!K274","v":0},-2.2899999999999999E-3,false,{"$f":"wyniki!$A$273","v":0},0,null,null,{"$error":"#NUM!"},{"$f":"-LARGE($E$2:$E$241,229)","v":{"$error":"#NUM!"}},{"$error":"#NUM!"},{"$error":"#NUM!"},229]
[null,{"$f":"wyniki!B275","v":0},{"$f":"wyniki!K275","v":0},-2.3E-3,false,{"$f":"wyniki!$A$273","v":0},0,null,null,{"$error":"#NUM!"},{"$f":"-LARGE($E$2:$E$241,230)","v":{"$error":"#NUM!"}},{"$error":"#NUM!"},{"$error":"#NUM!"},230]
[null,{"$f":"wyniki!B276","v":0},{"$f":"wyniki!K276","v":0},-2.31E-3,false,{"$f":"wyniki!$A$273","v":0},0,null,null,{"$error":"#NUM!"},{"$f":"-LARGE($E$2:$E$241,231)","v":{"$error":"#NUM!"}},{"$error":"#NUM!"},{"$error":"#NUM!"},231]
[null,{"$f":"wyniki!B277","v":0},{"$f":"wyniki!K277","v":0},-2.32E-3,false,{"$f":"wyniki!$A$273","v":0},0,null,null,{"$error":"#NUM!"},{"$f":"-LARGE($E$2:$E$241,232)","v":{"$error":"#NUM!"}},{"$error":"#NUM!"},{"$error":"#NUM!"},232]
[null,{"$f":"wyniki!B278","v":0},{"$f":"wyniki!K278","v":0},-2.33E-3,false,{"$f":"wyniki!$A$273","v":0},0,null,null,{"$error":"#NUM!"},{"$f":"-LARGE($E$2:$E$241,233)","v":{"$error":"#NUM!"}},{"$error":"#NUM!"},{"$error":"#NUM!"},233]
[null,{"$f":"wyniki!B279","v":0},{"$f":"wyniki!K279","v":0},-2.3400000000000001E-3,false,{"$f":"wyniki!$A$273","v":0},0,null,null,{"$error":"#NUM!"},{"$f":"-LARGE($E$2:$E$241,234)","v":{"$error":"#NUM!"}},{"$error":"#NUM!"},{"$error":"#NUM!"},234]
[null,{"$f":"wyniki!B281","v":0},{"$f":"wyniki!K281","v":0},-2.3500000000000001E-3,false,{"$f":"wyniki!$A$280","v":0},0,null,null,{"$error":"#NUM!"},{"$f":"-LARGE($E$2:$E$241,235)","v":{"$error":"#NUM!"}},{"$error":"#NUM!"},{"$error":"#NUM!"},235]
[null,{"$f":"wyniki!B282","v":0},{"$f":"wyniki!K282","v":0},-2.3600000000000001E-3,false,{"$f":"wyniki!$A$280","v":0},0,null,null,{"$error":"#NUM!"},{"$f":"-LARGE($E$2:$E$241,236)","v":{"$error":"#NUM!"}},{"$error":"#NUM!"},{"$error":"#NUM!"},236]
[null,{"$f":"wyniki!B283","v":0},{"$f":"wyniki!K283","v":0},-2.3700000000000001E-3,false,{"$f":"wyniki!$A$280","v":0},0,null,null,{"$error":"#NUM!"},{"$f":"-LARGE($E$2:$E$241,237)","v":{"$error":"#NUM!"}},{"$error":"#NUM!"},{"$error":"#NUM!"},237]
[null,{"$f":"wyniki!B284","v":0},{"$f":"wyniki!K284","v":0},-2.3800000000000002E-3,false,{"$f":"wyniki!$A$280","v":0},0,null,null,{"$error":"#NUM!"},{"$f":"-LARGE($E$2:$E$241,238)","v":{"$error":"#NUM!"}},{"$error":"#NUM!"},{"$error":"#NUM!"},238]
[null,{"$f":"wyniki!B285","v":0},{"$f":"wyniki!K285","v":0},-2.3900000000000002E-3,false,{"$f":"wyniki!$A$280","v":0},0,null,null,{"$error":"#NUM!"},{"$f":"-LARGE($E$2:$E$241,239)","v":{"$error":"#NUM!"}},{"$error":"#NUM!"},{"$error":"#NUM!"},239]
[null,{"$f":"wyniki!B286","v":0},{"$f":"wyniki!K286","v":0},-2.3999999999999998E-3,false,{"$f":"wyniki!$A$280","v":0},0,null,null,{"$error":"#NUM!"},{"$f":"-LARGE($E$2:$E$241,240)","v":{"$error":"#NUM!"}},{"$error":"#NUM!"},{"$error":"#NUM!"},240]

{"sheet":"Suma indyw.","index":7,"n_rows":241,"n_cols":13,"rows_kept":241,"cut":false,"hidden":false,"merged":[]}
[null,null,null,null,null,null,null,null,"Miejsce","Nazwisko/imię",null,"Szkoła","Wynik"]
[null,{"$f":"wyniki!B8","v":"zawodnik 1"},{"$f":"wyniki!N8","v":52},1.0000000000000001E-5,{"$f":"C2+D2","v":52.000010000000003},{"$f":"wyniki!$A$7","v":"SP 234 Kursk"},{"$f":"wyniki!G8","v":0},null,1,{"$f":"INDEX($B$2:$E$2411,K2,1)","v":"zawodnik 1"},{"$f":"MATCH(M2,$E$2:$E$241,0)","v":1},{"$f":"INDEX($E$2:$F$241,K2,2)","v":"SP 234 Kursk"},{"$f":"LARGE($E$2:$E$241,1)","v":52.000010000000003}]
[null,{"$f":"wyniki!B9","v":"zawodnik 2"},{"$f":"wyniki!N9","v":0},2.0000000000000002E-5,{"$f":"C3+D3","v":2.0000000000000002E-5},{"$f":"wyniki!$A$7","v":"SP 234 Kursk"},{"$f":"wyniki!G9","v":0},null,2,{"$f":"INDEX($B$2:$E$2411,K3,1)","v":0},49,{"$f":"INDEX($E$2:$F$241,K3,2)","v":0},{"$f":"LARGE($E$2:$E$241,2)","v":8.0004899999999992}]
[null,{"$f":"wyniki!B10","v":"zawodnik 3"},{"$f":"wyniki!N10","v":0},3.0000000000000001E-5,3.0000000000000001E-5,{"$f":"wyniki!$A$7","v":"SP 234 Kursk"},{"$f":"wyniki!G10","v":0},null,3,0,240,0,{"$f":"LARGE($E$2:$E$241,3)","v":2.3999999999999998E-3}]
[null,{"$f":"wyniki!B11","v":"zawodnik 4"},{"$f":"wyniki!N11","v":0},4.0000000000000003E-5,4.0000000000000003E-5,{"$f":"wyniki!$A$7","v":"SP 234 Kursk"},{"$f":"wyniki!G11","v":0},null,4,0,239,0,{"$f":"LARGE($E$2:$E$241,4)","v":2.3900000000000002E-3}]
[null,{"$f":"wyniki!B12","v":"zawodnik 5"},{"$f":"wyniki!N12","v":0},5.0000000000000002E-5,5.0000000000000002E-5,{"$f":"wyniki!$A$7","v":"SP 234 Kursk"},{"$f":"wyniki!G12","v":0},null,5,0,238,0,{"$f":"LARGE($E$2:$E$241,5)","v":2.3800000000000002E-3}]
[null,{"$f":"wyniki!B13","v":0},{"$f":"wyniki!N13","v":0},6.0000000000000002E-5,6.0000000000000002E-5,{"$f":"wyniki!$A$7","v":"SP 234 Kursk"},{"$f":"wyniki!G13","v":0},null,6,0,237,0,{"$f":"LARGE($E$2:$E$241,6)","v":2.3700000000000001E-3}]
[null,{"$f":"wyniki!B15","v":0},{"$f":"wyniki!N15","v":0},6.9999999999999994E-5,6.9999999999999994E-5,{"$f":"wyniki!$A$14","v":0},{"$f":"wyniki!G15","v":0},null,7,0,236,0,{"$f":"LARGE($E$2:$E$241,7)","v":2.3600000000000001E-3}]
[null,{"$f":"wyniki!B16","v":0},{"$f":"wyniki!N16","v":0},8.0000000000000007E-5,8.0000000000000007E-5,{"$f":"wyniki!$A$14","v":0},{"$f":"wyniki!G16","v":0},null,8,0,235,0,{"$f":"LARGE($E$2:$E$241,8)","v":2.3500000000000001E-3}]
[null,{"$f":"wyniki!B17","v":0},{"$f":"wyniki!N17","v":0},9.0000000000000006E-5,9.0000000000000006E-5,{"$f":"wyniki!$A$14","v":0},{"$f":"wyniki!G17","v":0},null,9,0,234,0,{"$f":"LARGE($E$2:$E$241,9)","v":2.3400000000000001E-3}]
[null,{"$f":"wyniki!B18","v":0},{"$f":"wyniki!N18","v":0},1E-4,1E-4,{"$f":"wyniki!$A$14","v":0},{"$f":"wyniki!G18","v":0},null,10,0,233,0,{"$f":"LARGE($E$2:$E$241,10)","v":2.33E-3}]
[null,{"$f":"wyniki!B19","v":0},{"$f":"wyniki!N19","v":0},1.1E-4,1.1E-4,{"$f":"wyniki!$A$14","v":0},{"$f":"wyniki!G19","v":0},null,11,0,232,0,{"$f":"LARGE($E$2:$E$241,11)","v":2.32E-3}]
[null,{"$f":"wyniki!B20","v":0},{"$f":"wyniki!N20","v":0},1.2E-4,1.2E-4,{"$f":"wyniki!$A$14","v":0},{"$f":"wyniki!G20","v":0},null,12,0,231,0,{"$f":"LARGE($E$2:$E$241,12)","v":2.31E-3}]
[null,{"$f":"wyniki!B22","v":0},{"$f":"wyniki!N22","v":0},1.2999999999999999E-4,1.2999999999999999E-4,{"$f":"wyniki!$A$21","v":0},{"$f":"wyniki!G22","v":0},null,13,0,230,0,{"$f":"LARGE($E$2:$E$241,13)","v":2.3E-3}]
[null,{"$f":"wyniki!B23","v":0},{"$f":"wyniki!N23","v":0},1.3999999999999999E-4,1.3999999999999999E-4,{"$f":"wyniki!$A$21","v":0},{"$f":"wyniki!G23","v":0},null,14,0,229,0,{"$f":"LARGE($E$2:$E$241,14)","v":2.2899999999999999E-3}]
[null,{"$f":"wyniki!B24","v":0},{"$f":"wyniki!N24","v":0},1.4999999999999999E-4,1.4999999999999999E-4,{"$f":"wyniki!$A$21","v":0},{"$f":"wyniki!G24","v":0},null,15,0,228,0,{"$f":"LARGE($E$2:$E$241,15)","v":2.2799999999999999E-3}]
[null,{"$f":"wyniki!B25","v":0},{"$f":"wyniki!N25","v":0},1.6000000000000001E-4,1.6000000000000001E-4,{"$f":"wyniki!$A$21","v":0},{"$f":"wyniki!G25","v":0},null,16,0,227,0,{"$f":"LARGE($E$2:$E$241,16)","v":2.2699999999999999E-3}]
[null,{"$f":"wyniki!B26","v":0},{"$f":"wyniki!N26","v":0},1.7000000000000001E-4,1.7000000000000001E-4,{"$f":"wyniki!$A$21","v":0},{"$f":"wyniki!G26","v":0},null,17,0,226,0,{"$f":"LARGE($E$2:$E$241,17)","v":2.2599999999999999E-3}]
[null,{"$f":"wyniki!B27","v":0},{"$f":"wyniki!N27","v":0},1.8000000000000001E-4,1.8000000000000001E-4,{"$f":"wyniki!$A$21","v":0},{"$f":"wyniki!G27","v":0},null,18,0,225,0,{"$f":"LARGE($E$2:$E$241,18)","v":2.2499999999999998E-3}]
[null,{"$f":"wyniki!B29","v":0},{"$f":"wyniki!N29","v":0},1.9000000000000001E-4,1.9000000000000001E-4,{"$f":"wyniki!$A$28","v":0},{"$f":"wyniki!G29","v":0},null,19,0,224,0,{"$f":"LARGE($E$2:$E$241,19)","v":2.2399999999999998E-3}]
[null,{"$f":"wyniki!B30","v":0},{"$f":"wyniki!N30","v":0},2.0000000000000001E-4,2.0000000000000001E-4,{"$f":"wyniki!$A$28","v":0},{"$f":"wyniki!G30","v":0},null,20,0,223,0,{"$f":"LARGE($E$2:$E$241,20)","v":2.2300000000000002E-3}]
[null,{"$f":"wyniki!B31","v":0},{"$f":"wyniki!N31","v":0},2.1000000000000001E-4,2.1000000000000001E-4,{"$f":"wyniki!$A$28","v":0},{"$f":"wyniki!G31","v":0},null,21,0,222,0,{"$f":"LARGE($E$2:$E$241,21)","v":2.2200000000000002E-3}]
[null,{"$f":"wyniki!B32","v":0},{"$f":"wyniki!N32","v":0},2.2000000000000001E-4,2.2000000000000001E-4,{"$f":"wyniki!$A$28","v":0},{"$f":"wyniki!G32","v":0},null,22,0,221,0,{"$f":"LARGE($E$2:$E$241,22)","v":2.2100000000000002E-3}]
[null,{"$f":"wyniki!B33","v":0},{"$f":"wyniki!N33","v":0},2.3000000000000001E-4,2.3000000000000001E-4,{"$f":"wyniki!$A$28","v":0},{"$f":"wyniki!G33","v":0},null,23,0,220,0,{"$f":"LARGE($E$2:$E$241,23)","v":2.2000000000000001E-3}]
[null,{"$f":"wyniki!B34","v":0},{"$f":"wyniki!N34","v":0},2.4000000000000001E-4,2.4000000000000001E-4,{"$f":"wyniki!$A$28","v":0},{"$f":"wyniki!G34","v":0},null,24,0,219,0,{"$f":"LARGE($E$2:$E$241,24)","v":2.1900000000000001E-3}]
[null,{"$f":"wyniki!B36","v":0},{"$f":"wyniki!N36","v":0},2.5000000000000001E-4,2.5000000000000001E-4,{"$f":"wyniki!$A$35","v":0},{"$f":"wyniki!G36","v":0},null,25,0,218,0,{"$f":"LARGE($E$2:$E$241,25)","v":2.1800000000000001E-3}]
[null,{"$f":"wyniki!B37","v":0},{"$f":"wyniki!N37","v":0},2.5999999999999998E-4,2.5999999999999998E-4,{"$f":"wyniki!$A$35","v":0},{"$f":"wyniki!G37","v":0},null,26,0,217,0,{"$f":"LARGE($E$2:$E$241,26)","v":2.1700000000000001E-3}]
[null,{"$f":"wyniki!B38","v":0},{"$f":"wyniki!N38","v":0},2.7E-4,2.7E-4,{"$f":"wyniki!$A$35","v":0},{"$f":"wyniki!G38","v":0},null,27,0,216,0,{"$f":"LARGE($E$2:$E$241,27)","v":2.16E-3}]
[null,{"$f":"wyniki!B39","v":0},{"$f":"wyniki!N39","v":0},2.7999999999999998E-4,2.7999999999999998E-4,{"$f":"wyniki!$A$35","v":0},{"$f":"wyniki!G39","v":0},null,28,0,215,0,{"$f":"LARGE($E$2:$E$241,28)","v":2.15E-3}]
[null,{"$f":"wyniki!B40","v":0},{"$f":"wyniki!N40","v":0},2.9E-4,2.9E-4,{"$f":"wyniki!$A$35","v":0},{"$f":"wyniki!G40","v":0},null,29,0,214,0,{"$f":"LARGE($E$2:$E$241,29)","v":2.14E-3}]
[null,{"$f":"wyniki!B41","v":0},{"$f":"wyniki!N41","v":0},2.9999999999999997E-4,2.9999999999999997E-4,{"$f":"wyniki!$A$35","v":0},{"$f":"wyniki!G41","v":0},null,30,0,213,0,{"$f":"LARGE($E$2:$E$241,30)","v":2.1299999999999999E-3}]
[null,{"$f":"wyniki!B43","v":0},{"$f":"wyniki!N43","v":0},3.1E-4,3.1E-4,{"$f":"wyniki!$A$42","v":0},{"$f":"wyniki!G43","v":0},null,31,0,212,0,{"$f":"LARGE($E$2:$E$241,31)","v":2.1199999999999999E-3}]
[null,{"$f":"wyniki!B44","v":0},{"$f":"wyniki!N44","v":0},3.2000000000000003E-4,3.2000000000000003E-4,{"$f":"wyniki!$A$42","v":0},{"$f":"wyniki!G44","v":0},null,32,0,211,0,{"$f":"LARGE($E$2:$E$241,32)","v":2.1099999999999999E-3}]
[null,{"$f":"wyniki!B45","v":0},{"$f":"wyniki!N45","v":0},3.3E-4,3.3E-4,{"$f":"wyniki!$A$42","v":0},{"$f":"wyniki!G45","v":0},null,33,0,210,0,{"$f":"LARGE($E$2:$E$241,33)","v":2.0999999999999999E-3}]
[null,{"$f":"wyniki!B46","v":0},{"$f":"wyniki!N46","v":0},3.4000000000000002E-4,3.4000000000000002E-4,{"$f":"wyniki!$A$42","v":0},{"$f":"wyniki!G46","v":0},null,34,0,209,0,{"$f":"LARGE($E$2:$E$241,34)","v":2.0899999999999998E-3}]
[null,{"$f":"wyniki!B47","v":0},{"$f":"wyniki!N47","v":0},3.5E-4,3.5E-4,{"$f":"wyniki!$A$42","v":0},{"$f":"wyniki!G47","v":0},null,35,0,208,0,{"$f":"LARGE($E$2:$E$241,35)","v":2.0799999999999998E-3}]
[null,{"$f":"wyniki!B48","v":0},{"$f":"wyniki!N48","v":0},3.6000000000000002E-4,3.6000000000000002E-4,{"$f":"wyniki!$A$42","v":0},{"$f":"wyniki!G48","v":0},null,36,0,207,0,{"$f":"LARGE($E$2:$E$241,36)","v":2.0699999999999998E-3}]
[null,{"$f":"wyniki!B50","v":0},{"$f":"wyniki!N50","v":0},3.6999999999999999E-4,3.6999999999999999E-4,{"$f":"wyniki!$A$49","v":0},{"$f":"wyniki!G50","v":0},null,37,0,206,0,{"$f":"LARGE($E$2:$E$241,37)","v":2.0600000000000002E-3}]
[null,{"$f":"wyniki!B51","v":0},{"$f":"wyniki!N51","v":0},3.8000000000000002E-4,3.8000000000000002E-4,{"$f":"wyniki!$A$49","v":0},{"$f":"wyniki!G51","v":0},null,38,0,205,0,{"$f":"LARGE($E$2:$E$241,38)","v":2.0500000000000002E-3}]
[null,{"$f":"wyniki!B52","v":0},{"$f":"wyniki!N52","v":0},3.8999999999999999E-4,3.8999999999999999E-4,{"$f":"wyniki!$A$49","v":0},{"$f":"wyniki!G52","v":0},null,39,0,204,0,{"$f":"LARGE($E$2:$E$241,39)","v":2.0400000000000001E-3}]
[null,{"$f":"wyniki!B53","v":0},{"$f":"wyniki!N53","v":0},4.0000000000000002E-4,4.0000000000000002E-4,{"$f":"wyniki!$A$49","v":0},{"$f":"wyniki!G53","v":0},null,40,0,203,0,{"$f":"LARGE($E$2:$E$241,40)","v":2.0300000000000001E-3}]
[null,{"$f":"wyniki!B54","v":0},{"$f":"wyniki!N54","v":0},4.0999999999999999E-4,4.0999999999999999E-4,{"$f":"wyniki!$A$49","v":0},{"$f":"wyniki!G54","v":0},null,41,0,202,0,{"$f":"LARGE($E$2:$E$241,41)","v":2.0200000000000001E-3}]
[null,{"$f":"wyniki!B55","v":0},{"$f":"wyniki!N55","v":0},4.2000000000000002E-4,4.2000000000000002E-4,{"$f":"wyniki!$A$49","v":0},{"$f":"wyniki!G55","v":0},null,42,0,201,0,{"$f":"LARGE($E$2:$E$241,42)","v":2.0100000000000001E-3}]
[null,{"$f":"wyniki!B57","v":0},{"$f":"wyniki!N57","v":0},4.2999999999999999E-4,4.2999999999999999E-4,{"$f":"wyniki!$A$56","v":0},{"$f":"wyniki!G57","v":0},null,43,0,200,0,{"$f":"LARGE($E$2:$E$241,43)","v":2E-3}]
[null,{"$f":"wyniki!B58","v":0},{"$f":"wyniki!N58","v":0},4.4000000000000002E-4,4.4000000000000002E-4,{"$f":"wyniki!$A$56","v":0},{"$f":"wyniki!G58","v":0},null,44,0,199,0,{"$f":"LARGE($E$2:$E$241,44)","v":1.99E-3}]
[null,{"$f":"wyniki!B59","v":0},{"$f":"wyniki!N59","v":0},4.4999999999999999E-4,4.4999999999999999E-4,{"$f":"wyniki!$A$56","v":0},{"$f":"wyniki!G59","v":0},null,45,0,198,0,{"$f":"LARGE($E$2:$E$241,45)","v":1.98E-3}]
[null,{"$f":"wyniki!B60","v":0},{"$f":"wyniki!N60","v":0},4.6000000000000001E-4,4.6000000000000001E-4,{"$f":"wyniki!$A$56","v":0},{"$f":"wyniki!G60","v":0},null,46,0,197,0,{"$f":"LARGE($E$2:$E$241,46)","v":1.97E-3}]
[null,{"$f":"wyniki!B61","v":0},{"$f":"wyniki!N61","v":0},4.6999999999999999E-4,4.6999999999999999E-4,{"$f":"wyniki!$A$56","v":0},{"$f":"wyniki!G61","v":0},null,47,0,196,0,{"$f":"LARGE($E$2:$E$241,47)","v":1.9599999999999999E-3}]
[null,{"$f":"wyniki!B62","v":0},{"$f":"wyniki!N62","v":0},4.8000000000000001E-4,4.8000000000000001E-4,{"$f":"wyniki!$A$56","v":0},{"$f":"wyniki!G62","v":0},null,48,0,195,0,{"$f":"LARGE($E$2:$E$241,48)","v":1.9499999999999999E-3}]
[null,{"$f":"wyniki!B64","v":0},{"$f":"wyniki!N64","v":8},4.8999999999999998E-4,8.0004899999999992,{"$f":"wyniki!$A$63","v":0},{"$f":"wyniki!G64","v":0},null,49,0,194,0,{"$f":"LARGE($E$2:$E$241,49)","v":1.9400000000000001E-3}]
[null,{"$f":"wyniki!B65","v":0},{"$f":"wyniki!N65","v":0},5.0000000000000001E-4,5.0000000000000001E-4,{"$f":"wyniki!$A$63","v":0},{"$f":"wyniki!G65","v":0},null,50,0,193,0,{"$f":"LARGE($E$2:$E$241,50)","v":1.9300000000000001E-3}]
[null,{"$f":"wyniki!B66","v":0},{"$f":"wyniki!N66","v":0},5.1000000000000004E-4,5.1000000000000004E-4,{"$f":"wyniki!$A$63","v":0},{"$f":"wyniki!G66","v":0},null,51,0,192,0,{"$f":"LARGE($E$2:$E$241,51)","v":1.92E-3}]
[null,{"$f":"wyniki!B67","v":0},{"$f":"wyniki!N67","v":0},5.1999999999999995E-4,5.1999999999999995E-4,{"$f":"wyniki!$A$63","v":0},{"$f":"wyniki!G67","v":0},null,52,0,191,0,{"$f":"LARGE($E$2:$E$241,52)","v":1.91E-3}]
[null,{"$f":"wyniki!B68","v":0},{"$f":"wyniki!N68","v":0},5.2999999999999998E-4,5.2999999999999998E-4,{"$f":"wyniki!$A$63","v":0},{"$f":"wyniki!G68","v":0},null,53,0,190,0,{"$f":"LARGE($E$2:$E$241,53)","v":1.9E-3}]
[null,{"$f":"wyniki!B69","v":0},{"$f":"wyniki!N69","v":0},5.4000000000000001E-4,5.4000000000000001E-4,{"$f":"wyniki!$A$63","v":0},{"$f":"wyniki!G69","v":0},null,54,0,189,0,{"$f":"LARGE($E$2:$E$241,54)","v":1.89E-3}]
[null,{"$f":"wyniki!B71","v":0},{"$f":"wyniki!N71","v":0},5.5000000000000003E-4,5.5000000000000003E-4,{"$f":"wyniki!$A$70","v":0},{"$f":"wyniki!G71","v":0},null,55,0,188,0,{"$f":"LARGE($E$2:$E$241,55)","v":1.8799999999999999E-3}]
[null,{"$f":"wyniki!B72","v":0},{"$f":"wyniki!N72","v":0},5.5999999999999995E-4,5.5999999999999995E-4,{"$f":"wyniki!$A$70","v":0},{"$f":"wyniki!G72","v":0},null,56,0,187,0,{"$f":"LARGE($E$2:$E$241,56)","v":1.8699999999999999E-3}]
[null,{"$f":"wyniki!B73","v":0},{"$f":"wyniki!N73","v":0},5.6999999999999998E-4,5.6999999999999998E-4,{"$f":"wyniki!$A$70","v":0},{"$f":"wyniki!G73","v":0},null,57,0,186,0,{"$f":"LARGE($E$2:$E$241,57)","v":1.8600000000000001E-3}]
[null,{"$f":"wyniki!B74","v":0},{"$f":"wyniki!N74","v":0},5.8E-4,5.8E-4,{"$f":"wyniki!$A$70","v":0},{"$f":"wyniki!G74","v":0},null,58,0,185,0,{"$f":"LARGE($E$2:$E$241,58)","v":1.8500000000000001E-3}]
[null,{"$f":"wyniki!B75","v":0},{"$f":"wyniki!N75","v":0},5.9000000000000003E-4,5.9000000000000003E-4,{"$f":"wyniki!$A$70","v":0},{"$f":"wyniki!G75","v":0},null,59,0,184,0,{"$f":"LARGE($E$2:$E$241,59)","v":1.8400000000000001E-3}]
[null,{"$f":"wyniki!B76","v":0},{"$f":"wyniki!N76","v":0},5.9999999999999995E-4,5.9999999999999995E-4,{"$f":"wyniki!$A$70","v":0},{"$f":"wyniki!G76","v":0},null,60,0,183,0,{"$f":"LARGE($E$2:$E$241,60)","v":1.83E-3}]
[null,{"$f":"wyniki!B78","v":0},{"$f":"wyniki!N78","v":0},6.0999999999999997E-4,6.0999999999999997E-4,{"$f":"wyniki!$A$77","v":0},{"$f":"wyniki!G78","v":0},null,61,0,182,0,{"$f":"LARGE($E$2:$E$241,61)","v":1.82E-3}]
[null,{"$f":"wyniki!B79","v":0},{"$f":"wyniki!N79","v":0},6.2E-4,6.2E-4,{"$f":"wyniki!$A$77","v":0},{"$f":"wyniki!G79","v":0},null,62,0,181,0,{"$f":"LARGE($E$2:$E$241,62)","v":1.81E-3}]
[null,{"$f":"wyniki!B80","v":0},{"$f":"wyniki!N80","v":0},6.3000000000000003E-4,6.3000000000000003E-4,{"$f":"wyniki!$A$77","v":0},{"$f":"wyniki!G80","v":0},null,63,0,180,0,{"$f":"LARGE($E$2:$E$241,63)","v":1.8E-3}]
[null,{"$f":"wyniki!B81","v":0},{"$f":"wyniki!N81","v":0},6.4000000000000005E-4,6.4000000000000005E-4,{"$f":"wyniki!$A$77","v":0},{"$f":"wyniki!G81","v":0},null,64,0,179,0,{"$f":"LARGE($E$2:$E$241,64)","v":1.7899999999999999E-3}]
[null,{"$f":"wyniki!B82","v":0},{"$f":"wyniki!N82","v":0},6.4999999999999997E-4,6.4999999999999997E-4,{"$f":"wyniki!$A$77","v":0},{"$f":"wyniki!G82","v":0},null,65,0,{"$f":"MATCH(M66,$E$2:$E$241,0)","v":178},0,{"$f":"LARGE($E$2:$E$241,65)","v":1.7799999999999999E-3}]
[null,{"$f":"wyniki!B83","v":0},{"$f":"wyniki!N83","v":0},6.6E-4,{"$f":"C67+D67","v":6.6E-4},{"$f":"wyniki!$A$77","v":0},{"$f":"wyniki!G83","v":0},null,66,{"$f":"INDEX($B$2:$E$2411,K67,1)","v":0},177,{"$f":"INDEX($E$2:$F$241,K67,2)","v":0},{"$f":"LARGE($E$2:$E$241,66)","v":1.7700000000000001E-3}]
[null,{"$f":"wyniki!B85","v":0},{"$f":"wyniki!N85","v":0},6.7000000000000002E-4,6.7000000000000002E-4,{"$f":"wyniki!$A$84","v":0},{"$f":"wyniki!G85","v":0},null,67,0,176,0,{"$f":"LARGE($E$2:$E$241,67)","v":1.7600000000000001E-3}]
[null,{"$f":"wyniki!B86","v":0},{"$f":"wyniki!N86","v":0},6.8000000000000005E-4,6.8000000000000005E-4,{"$f":"wyniki!$A$84","v":0},{"$f":"wyniki!G86","v":0},null,68,0,175,0,{"$f":"LARGE($E$2:$E$241,68)","v":1.75E-3}]
[null,{"$f":"wyniki!B87","v":0},{"$f":"wyniki!N87","v":0},6.8999999999999997E-4,6.8999999999999997E-4,{"$f":"wyniki!$A$84","v":0},{"$f":"wyniki!G87","v":0},null,69,0,174,0,{"$f":"LARGE($E$2:$E$241,69)","v":1.74E-3}]
[null,{"$f":"wyniki!B88","v":0},{"$f":"wyniki!N88","v":0},6.9999999999999999E-4,6.9999999999999999E-4,{"$f":"wyniki!$A$84","v":0},{"$f":"wyniki!G88","v":0},null,70,0,173,0,{"$f":"LARGE($E$2:$E$241,70)","v":1.73E-3}]
[null,{"$f":"wyniki!B89","v":0},{"$f":"wyniki!N89","v":0},7.1000000000000002E-4,7.1000000000000002E-4,{"$f":"wyniki!$A$84","v":0},{"$f":"wyniki!G89","v":0},null,71,0,172,0,{"$f":"LARGE($E$2:$E$241,71)","v":1.72E-3}]
[null,{"$f":"wyniki!B90","v":0},{"$f":"wyniki!N90","v":0},7.2000000000000005E-4,7.2000000000000005E-4,{"$f":"wyniki!$A$84","v":0},{"$f":"wyniki!G90","v":0},null,72,0,171,0,{"$f":"LARGE($E$2:$E$241,72)","v":1.7099999999999999E-3}]
[null,{"$f":"wyniki!B92","v":0},{"$f":"wyniki!N92","v":0},7.2999999999999996E-4,7.2999999999999996E-4,{"$f":"wyniki!$A$91","v":0},{"$f":"wyniki!G92","v":0},null,73,0,170,0,{"$f":"LARGE($E$2:$E$241,73)","v":1.6999999999999999E-3}]
[null,{"$f":"wyniki!B93","v":0},{"$f":"wyniki!N93","v":0},7.3999999999999999E-4,7.3999999999999999E-4,{"$f":"wyniki!$A$91","v":0},{"$f":"wyniki!G93","v":0},null,74,0,169,0,{"$f":"LARGE($E$2:$E$241,74)","v":1.6900000000000001E-3}]
[null,{"$f":"wyniki!B94","v":0},{"$f":"wyniki!N94","v":0},7.5000000000000002E-4,7.5000000000000002E-4,{"$f":"wyniki!$A$91","v":0},{"$f":"wyniki!G94","v":0},null,75,0,168,0,{"$f":"LARGE($E$2:$E$241,75)","v":1.6800000000000001E-3}]
[null,{"$f":"wyniki!B95","v":0},{"$f":"wyniki!N95","v":0},7.6000000000000004E-4,7.6000000000000004E-4,{"$f":"wyniki!$A$91","v":0},{"$f":"wyniki!G95","v":0},null,76,0,167,0,{"$f":"LARGE($E$2:$E$241,76)","v":1.67E-3}]
[null,{"$f":"wyniki!B96","v":0},{"$f":"wyniki!N96","v":0},7.6999999999999996E-4,7.6999999999999996E-4,{"$f":"wyniki!$A$91","v":0},{"$f":"wyniki!G96","v":0},null,77,0,166,0,{"$f":"LARGE($E$2:$E$241,77)","v":1.66E-3}]
[null,{"$f":"wyniki!B97","v":0},{"$f":"wyniki!N97","v":0},7.7999999999999999E-4,7.7999999999999999E-4,{"$f":"wyniki!$A$91","v":0},{"$f":"wyniki!G97","v":0},null,78,0,165,0,{"$f":"LARGE($E$2:$E$241,78)","v":1.65E-3}]
[null,{"$f":"wyniki!B99","v":0},{"$f":"wyniki!N99","v":0},7.9000000000000001E-4,7.9000000000000001E-4,{"$f":"wyniki!$A$98","v":0},{"$f":"wyniki!G99","v":0},null,79,0,164,0,{"$f":"LARGE($E$2:$E$241,79)","v":1.64E-3}]
[null,{"$f":"wyniki!B100","v":0},{"$f":"wyniki!N100","v":0},8.0000000000000004E-4,8.0000000000000004E-4,{"$f":"wyniki!$A$98","v":0},{"$f":"wyniki!G100","v":0},null,80,0,163,0,{"$f":"LARGE($E$2:$E$241,80)","v":1.6299999999999999E-3}]
[null,{"$f":"wyniki!B101","v":0},{"$f":"wyniki!N101","v":0},8.0999999999999996E-4,8.0999999999999996E-4,{"$f":"wyniki!$A$98","v":0},{"$f":"wyniki!G101","v":0},null,81,0,162,0,{"$f":"LARGE($E$2:$E$241,81)","v":1.6199999999999999E-3}]
[null,{"$f":"wyniki!B102","v":0},{"$f":"wyniki!N102","v":0},8.1999999999999998E-4,8.1999999999999998E-4,{"$f":"wyniki!$A$98","v":0},{"$f":"wyniki!G102","v":0},null,82,0,161,0,{"$f":"LARGE($E$2:$E$241,82)","v":1.6100000000000001E-3}]
[null,{"$f":"wyniki!B103","v":0},{"$f":"wyniki!N103","v":0},8.3000000000000001E-4,8.3000000000000001E-4,{"$f":"wyniki!$A$98","v":0},{"$f":"wyniki!G103","v":0},null,83,0,160,0,{"$f":"LARGE($E$2:$E$241,83)","v":1.6000000000000001E-3}]
[null,{"$f":"wyniki!B104","v":0},{"$f":"wyniki!N104","v":0},8.4000000000000003E-4,8.4000000000000003E-4,{"$f":"wyniki!$A$98","v":0},{"$f":"wyniki!G104","v":0},null,84,0,159,0,{"$f":"LARGE($E$2:$E$241,84)","v":1.5900000000000001E-3}]
[null,{"$f":"wyniki!B106","v":0},{"$f":"wyniki!N106","v":0},8.4999999999999995E-4,8.4999999999999995E-4,{"$f":"wyniki!$A$105","v":0},{"$f":"wyniki!G106","v":0},null,85,0,158,0,{"$f":"LARGE($E$2:$E$241,85)","v":1.58E-3}]
[null,{"$f":"wyniki!B107","v":0},{"$f":"wyniki!N107","v":0},8.5999999999999998E-4,8.5999999999999998E-4,{"$f":"wyniki!$A$105","v":0},{"$f":"wyniki!G107","v":0},null,86,0,157,0,{"$f":"LARGE($E$2:$E$241,86)","v":1.57E-3}]
[null,{"$f":"wyniki!B108","v":0},{"$f":"wyniki!N108","v":0},8.7000000000000001E-4,8.7000000000000001E-4,{"$f":"wyniki!$A$105","v":0},{"$f":"wyniki!G108","v":0},null,87,0,156,0,{"$f":"LARGE($E$2:$E$241,87)","v":1.56E-3}]
[null,{"$f":"wyniki!B109","v":0},{"$f":"wyniki!N109","v":0},8.8000000000000003E-4,8.8000000000000003E-4,{"$f":"wyniki!$A$105","v":0},{"$f":"wyniki!G109","v":0},null,88,0,155,0,{"$f":"LARGE($E$2:$E$241,88)","v":1.5499999999999999E-3}]
[null,{"$f":"wyniki!B110","v":0},{"$f":"wyniki!N110","v":0},8.8999999999999995E-4,8.8999999999999995E-4,{"$f":"wyniki!$A$105","v":0},{"$f":"wyniki!G110","v":0},null,89,0,154,0,{"$f":"LARGE($E$2:$E$241,89)","v":1.5399999999999999E-3}]
[null,{"$f":"wyniki!B111","v":0},{"$f":"wyniki!N111","v":0},8.9999999999999998E-4,8.9999999999999998E-4,{"$f":"wyniki!$A$105","v":0},{"$f":"wyniki!G111","v":0},null,90,0,153,0,{"$f":"LARGE($E$2:$E$241,90)","v":1.5299999999999999E-3}]
[null,{"$f":"wyniki!B113","v":0},{"$f":"wyniki!N113","v":0},9.1E-4,9.1E-4,{"$f":"wyniki!$A$112","v":0},{"$f":"wyniki!G113","v":0},null,91,0,152,0,{"$f":"LARGE($E$2:$E$241,91)","v":1.5200000000000001E-3}]
[null,{"$f":"wyniki!B114","v":0},{"$f":"wyniki!N114","v":0},9.2000000000000003E-4,9.2000000000000003E-4,{"$f":"wyniki!$A$112","v":0},{"$f":"wyniki!G114","v":0},null,92,0,151,0,{"$f":"LARGE($E$2:$E$241,92)","v":1.5100000000000001E-3}]
[null,{"$f":"wyniki!B115","v":0},{"$f":"wyniki!N115","v":0},9.3000000000000005E-4,9.3000000000000005E-4,{"$f":"wyniki!$A$112","v":0},{"$f":"wyniki!G115","v":0},null,93,0,150,0,{"$f":"LARGE($E$2:$E$241,93)","v":1.5E-3}]
[null,{"$f":"wyniki!B116","v":0},{"$f":"wyniki!N116","v":0},9.3999999999999997E-4,9.3999999999999997E-4,{"$f":"wyniki!$A$112","v":0},{"$f":"wyniki!G116","v":0},null,94,0,149,0,{"$f":"LARGE($E$2:$E$241,94)","v":1.49E-3}]
[null,{"$f":"wyniki!B117","v":0},{"$f":"wyniki!N117","v":0},9.5E-4,9.5E-4,{"$f":"wyniki!$A$112","v":0},{"$f":"wyniki!G117","v":0},null,95,0,148,0,{"$f":"LARGE($E$2:$E$241,95)","v":1.48E-3}]
[null,{"$f":"wyniki!B118","v":0},{"$f":"wyniki!N118","v":0},9.6000000000000002E-4,9.6000000000000002E-4,{"$f":"wyniki!$A$112","v":0},{"$f":"wyniki!G118","v":0},null,96,0,147,0,{"$f":"LARGE($E$2:$E$241,96)","v":1.47E-3}]
[null,{"$f":"wyniki!B120","v":0},{"$f":"wyniki!N120","v":0},9.7000000000000005E-4,9.7000000000000005E-4,{"$f":"wyniki!$A$119","v":0},{"$f":"wyniki!G120","v":0},null,97,0,146,0,{"$f":"LARGE($E$2:$E$241,97)","v":1.4599999999999999E-3}]
[null,{"$f":"wyniki!B121","v":0},{"$f":"wyniki!N121","v":0},9.7999999999999997E-4,9.7999999999999997E-4,{"$f":"wyniki!$A$119","v":0},{"$f":"wyniki!G121","v":0},null,98,0,145,0,{"$f":"LARGE($E$2:$E$241,98)","v":1.4499999999999999E-3}]
[null,{"$f":"wyniki!B122","v":0},{"$f":"wyniki!N122","v":0},9.8999999999999999E-4,9.8999999999999999E-4,{"$f":"wyniki!$A$119","v":0},{"$f":"wyniki!G122","v":0},null,99,0,144,0,{"$f":"LARGE($E$2:$E$241,99)","v":1.4400000000000001E-3}]
[null,{"$f":"wyniki!B123","v":0},{"$f":"wyniki!N123","v":0},1E-3,1E-3,{"$f":"wyniki!$A$119","v":0},{"$f":"wyniki!G123","v":0},null,100,0,143,0,{"$f":"LARGE($E$2:$E$241,100)","v":1.4300000000000001E-3}]
[null,{"$f":"wyniki!B124","v":0},{"$f":"wyniki!N124","v":0},1.01E-3,1.01E-3,{"$f":"wyniki!$A$119","v":0},{"$f":"wyniki!G124","v":0},null,101,0,142,0,{"$f":"LARGE($E$2:$E$241,101)","v":1.42E-3}]
[null,{"$f":"wyniki!B125","v":0},{"$f":"wyniki!N125","v":0},1.0200000000000001E-3,1.0200000000000001E-3,{"$f":"wyniki!$A$119","v":0},{"$f":"wyniki!G125","v":0},null,102,0,141,0,{"$f":"LARGE($E$2:$E$241,102)","v":1.41E-3}]
[null,{"$f":"wyniki!B127","v":0},{"$f":"wyniki!N127","v":0},1.0300000000000001E-3,1.0300000000000001E-3,{"$f":"wyniki!$A$126","v":0},{"$f":"wyniki!G127","v":0},null,103,0,140,0,{"$f":"LARGE($E$2:$E$241,103)","v":1.4E-3}]
[null,{"$f":"wyniki!B128","v":0},{"$f":"wyniki!N128","v":0},1.0399999999999999E-3,1.0399999999999999E-3,{"$f":"wyniki!$A$126","v":0},{"$f":"wyniki!G128","v":0},null,104,0,139,0,{"$f":"LARGE($E$2:$E$241,104)","v":1.39E-3}]
[null,{"$f":"wyniki!B129","v":0},{"$f":"wyniki!N129","v":0},1.0499999999999999E-3,1.0499999999999999E-3,{"$f":"wyniki!$A$126","v":0},{"$f":"wyniki!G129","v":0},null,105,0,138,0,{"$f":"LARGE($E$2:$E$241,105)","v":1.3799999999999999E-3}]
[null,{"$f":"wyniki!B130","v":0},{"$f":"wyniki!N130","v":0},1.06E-3,1.06E-3,{"$f":"wyniki!$A$126","v":0},{"$f":"wyniki!G130","v":0},null,106,0,137,0,{"$f":"LARGE($E$2:$E$241,106)","v":1.3699999999999999E-3}]
[null,{"$f":"wyniki!B131","v":0},{"$f":"wyniki!N131","v":0},1.07E-3,1.07E-3,{"$f":"wyniki!$A$126","v":0},{"$f":"wyniki!G131","v":0},null,107,0,136,0,{"$f":"LARGE($E$2:$E$241,107)","v":1.3600000000000001E-3}]
[null,{"$f":"wyniki!B132","v":0},{"$f":"wyniki!N132","v":0},1.08E-3,1.08E-3,{"$f":"wyniki!$A$126","v":0},{"$f":"wyniki!G132","v":0},null,108,0,135,0,{"$f":"LARGE($E$2:$E$241,108)","v":1.3500000000000001E-3}]
[null,{"$f":"wyniki!B134","v":0},{"$f":"wyniki!N134","v":0},1.09E-3,1.09E-3,{"$f":"wyniki!$A$133","v":0},{"$f":"wyniki!G134","v":0},null,109,0,134,0,{"$f":"LARGE($E$2:$E$241,109)","v":1.34E-3}]
[null,{"$f":"wyniki!B135","v":0},{"$f":"wyniki!N135","v":0},1.1000000000000001E-3,1.1000000000000001E-3,{"$f":"wyniki!$A$133","v":0},{"$f":"wyniki!G135","v":0},null,110,0,133,0,{"$f":"LARGE($E$2:$E$241,110)","v":1.33E-3}]
[null,{"$f":"wyniki!B136","v":0},{"$f":"wyniki!N136","v":0},1.1100000000000001E-3,1.1100000000000001E-3,{"$f":"wyniki!$A$133","v":0},{"$f":"wyniki!G136","v":0},null,111,0,132,0,{"$f":"LARGE($E$2:$E$241,111)","v":1.32E-3}]
[null,{"$f":"wyniki!B137","v":0},{"$f":"wyniki!N137","v":0},1.1199999999999999E-3,1.1199999999999999E-3,{"$f":"wyniki!$A$133","v":0},{"$f":"wyniki!G137","v":0},null,112,0,131,0,{"$f":"LARGE($E$2:$E$241,112)","v":1.31E-3}]
[null,{"$f":"wyniki!B138","v":0},{"$f":"wyniki!N138","v":0},1.1299999999999999E-3,1.1299999999999999E-3,{"$f":"wyniki!$A$133","v":0},{"$f":"wyniki!G138","v":0},null,113,0,130,0,{"$f":"LARGE($E$2:$E$241,113)","v":1.2999999999999999E-3}]
[null,{"$f":"wyniki!B139","v":0},{"$f":"wyniki!N139","v":0},1.14E-3,1.14E-3,{"$f":"wyniki!$A$133","v":0},{"$f":"wyniki!G139","v":0},null,114,0,129,0,{"$f":"LARGE($E$2:$E$241,114)","v":1.2899999999999999E-3}]
[null,{"$f":"wyniki!B141","v":0},{"$f":"wyniki!N141","v":0},1.15E-3,1.15E-3,{"$f":"wyniki!$A$140","v":0},{"$f":"wyniki!G141","v":0},null,115,0,128,0,{"$f":"LARGE($E$2:$E$241,115)","v":1.2800000000000001E-3}]
[null,{"$f":"wyniki!B142","v":0},{"$f":"wyniki!N142","v":0},1.16E-3,1.16E-3,{"$f":"wyniki!$A$140","v":0},{"$f":"wyniki!G142","v":0},null,116,0,127,0,{"$f":"LARGE($E$2:$E$241,116)","v":1.2700000000000001E-3}]
[null,{"$f":"wyniki!B143","v":0},{"$f":"wyniki!N143","v":0},1.17E-3,1.17E-3,{"$f":"wyniki!$A$140","v":0},{"$f":"wyniki!G143","v":0},null,117,0,126,0,{"$f":"LARGE($E$2:$E$241,117)","v":1.2600000000000001E-3}]
[null,{"$f":"wyniki!B144","v":0},{"$f":"wyniki!N144","v":0},1.1800000000000001E-3,1.1800000000000001E-3,{"$f":"wyniki!$A$140","v":0},{"$f":"wyniki!G144","v":0},null,118,0,125,0,{"$f":"LARGE($E$2:$E$241,118)","v":1.25E-3}]
[null,{"$f":"wyniki!B145","v":0},{"$f":"wyniki!N145","v":0},1.1900000000000001E-3,1.1900000000000001E-3,{"$f":"wyniki!$A$140","v":0},{"$f":"wyniki!G145","v":0},null,119,0,124,0,{"$f":"LARGE($E$2:$E$241,119)","v":1.24E-3}]
[null,{"$f":"wyniki!B146","v":0},{"$f":"wyniki!N146","v":0},1.1999999999999999E-3,1.1999999999999999E-3,{"$f":"wyniki!$A$140","v":0},{"$f":"wyniki!G146","v":0},null,120,0,123,0,{"$f":"LARGE($E$2:$E$241,120)","v":1.23E-3}]
[null,{"$f":"wyniki!B148","v":0},{"$f":"wyniki!N148","v":0},1.2099999999999999E-3,1.2099999999999999E-3,{"$f":"wyniki!$A$147","v":0},{"$f":"wyniki!G148","v":0},null,121,0,122,0,{"$f":"LARGE($E$2:$E$241,121)","v":1.2199999999999999E-3}]
[null,{"$f":"wyniki!B149","v":0},{"$f":"wyniki!N149","v":0},1.2199999999999999E-3,1.2199999999999999E-3,{"$f":"wyniki!$A$147","v":0},{"$f":"wyniki!G149","v":0},null,122,0,121,0,{"$f":"LARGE($E$2:$E$241,122)","v":1.2099999999999999E-3}]
[null,{"$f":"wyniki!B150","v":0},{"$f":"wyniki!N150","v":0},1.23E-3,1.23E-3,{"$f":"wyniki!$A$147","v":0},{"$f":"wyniki!G150","v":0},null,123,0,120,0,{"$f":"LARGE($E$2:$E$241,123)","v":1.1999999999999999E-3}]
[null,{"$f":"wyniki!B151","v":0},{"$f":"wyniki!N151","v":0},1.24E-3,1.24E-3,{"$f":"wyniki!$A$147","v":0},{"$f":"wyniki!G151","v":0},null,124,0,119,0,{"$f":"LARGE($E$2:$E$241,124)","v":1.1900000000000001E-3}]
[null,{"$f":"wyniki!B152","v":0},{"$f":"wyniki!N152","v":0},1.25E-3,1.25E-3,{"$f":"wyniki!$A$147","v":0},{"$f":"wyniki!G152","v":0},null,125,0,118,0,{"$f":"LARGE($E$2:$E$241,125)","v":1.1800000000000001E-3}]
[null,{"$f":"wyniki!B153","v":0},{"$f":"wyniki!N153","v":0},1.2600000000000001E-3,1.2600000000000001E-3,{"$f":"wyniki!$A$147","v":0},{"$f":"wyniki!G153","v":0},null,126,0,117,0,{"$f":"LARGE($E$2:$E$241,126)","v":1.17E-3}]
[null,{"$f":"wyniki!B155","v":0},{"$f":"wyniki!N155","v":0},1.2700000000000001E-3,1.2700000000000001E-3,{"$f":"wyniki!$A$154","v":0},{"$f":"wyniki!G155","v":0},null,127,0,116,0,{"$f":"LARGE($E$2:$E$241,127)","v":1.16E-3}]
[null,{"$f":"wyniki!B156","v":0},{"$f":"wyniki!N156","v":0},1.2800000000000001E-3,1.2800000000000001E-3,{"$f":"wyniki!$A$154","v":0},{"$f":"wyniki!G156","v":0},null,128,0,115,0,{"$f":"LARGE($E$2:$E$241,128)","v":1.15E-3}]
[null,{"$f":"wyniki!B157","v":0},{"$f":"wyniki!N157","v":0},1.2899999999999999E-3,1.2899999999999999E-3,{"$f":"wyniki!$A$154","v":0},{"$f":"wyniki!G157","v":0},null,129,0,{"$f":"MATCH(M130,$E$2:$E$241,0)","v":114},0,{"$f":"LARGE($E$2:$E$241,129)","v":1.14E-3}]
[null,{"$f":"wyniki!B158","v":0},{"$f":"wyniki!N158","v":0},1.2999999999999999E-3,{"$f":"C131+D131","v":1.2999999999999999E-3},{"$f":"wyniki!$A$154","v":0},{"$f":"wyniki!G158","v":0},null,130,{"$f":"INDEX($B$2:$E$2411,K131,1)","v":0},113,{"$f":"INDEX($E$2:$F$241,K131,2)","v":0},{"$f":"LARGE($E$2:$E$241,130)","v":1.1299999999999999E-3}]
[null,{"$f":"wyniki!B159","v":0},{"$f":"wyniki!N159","v":0},1.31E-3,1.31E-3,{"$f":"wyniki!$A$154","v":0},{"$f":"wyniki!G159","v":0},null,131,0,112,0,{"$f":"LARGE($E$2:$E$241,131)","v":1.1199999999999999E-3}]
[null,{"$f":"wyniki!B160","v":0},{"$f":"wyniki!N160","v":0},1.32E-3,1.32E-3,{"$f":"wyniki!$A$154","v":0},{"$f":"wyniki!G160","v":0},null,132,0,111,0,{"$f":"LARGE($E$2:$E$241,132)","v":1.1100000000000001E-3}]
[null,{"$f":"wyniki!B162","v":0},{"$f":"wyniki!N162","v":0},1.33E-3,1.33E-3,{"$f":"wyniki!$A$161","v":0},{"$f":"wyniki!G162","v":0},null,133,0,110,0,{"$f":"LARGE($E$2:$E$241,133)","v":1.1000000000000001E-3}]
[null,{"$f":"wyniki!B163","v":0},{"$f":"wyniki!N163","v":0},1.34E-3,1.34E-3,{"$f":"wyniki!$A$161","v":0},{"$f":"wyniki!G163","v":0},null,134,0,109,0,{"$f":"LARGE($E$2:$E$241,134)","v":1.09E-3}]
[null,{"$f":"wyniki!B164","v":0},{"$f":"wyniki!N164","v":0},1.3500000000000001E-3,1.3500000000000001E-3,{"$f":"wyniki!$A$161","v":0},{"$f":"wyniki!G164","v":0},null,135,0,108,0,{"$f":"LARGE($E$2:$E$241,135)","v":1.08E-3}]
[null,{"$f":"wyniki!B165","v":0},{"$f":"wyniki!N165","v":0},1.3600000000000001E-3,1.3600000000000001E-3,{"$f":"wyniki!$A$161","v":0},{"$f":"wyniki!G165","v":0},null,136,0,107,0,{"$f":"LARGE($E$2:$E$241,136)","v":1.07E-3}]
[null,{"$f":"wyniki!B166","v":0},{"$f":"wyniki!N166","v":0},1.3699999999999999E-3,1.3699999999999999E-3,{"$f":"wyniki!$A$161","v":0},{"$f":"wyniki!G166","v":0},null,137,0,106,0,{"$f":"LARGE($E$2:$E$241,137)","v":1.06E-3}]
[null,{"$f":"wyniki!B167","v":0},{"$f":"wyniki!N167","v":0},1.3799999999999999E-3,1.3799999999999999E-3,{"$f":"wyniki!$A$161","v":0},{"$f":"wyniki!G167","v":0},null,138,0,105,0,{"$f":"LARGE($E$2:$E$241,138)","v":1.0499999999999999E-3}]
[null,{"$f":"wyniki!B169","v":0},{"$f":"wyniki!N169","v":0},1.39E-3,1.39E-3,{"$f":"wyniki!$A$168","v":0},{"$f":"wyniki!G169","v":0},null,139,0,104,0,{"$f":"LARGE($E$2:$E$241,139)","v":1.0399999999999999E-3}]
[null,{"$f":"wyniki!B170","v":0},{"$f":"wyniki!N170","v":0},1.4E-3,1.4E-3,{"$f":"wyniki!$A$168","v":0},{"$f":"wyniki!G170","v":0},null,140,0,103,0,{"$f":"LARGE($E$2:$E$241,140)","v":1.0300000000000001E-3}]
[null,{"$f":"wyniki!B171","v":0},{"$f":"wyniki!N171","v":0},1.41E-3,1.41E-3,{"$f":"wyniki!$A$168","v":0},{"$f":"wyniki!G171","v":0},null,141,0,102,0,{"$f":"LARGE($E$2:$E$241,141)","v":1.0200000000000001E-3}]
[null,{"$f":"wyniki!B172","v":0},{"$f":"wyniki!N172","v":0},1.42E-3,1.42E-3,{"$f":"wyniki!$A$168","v":0},{"$f":"wyniki!G172","v":0},null,142,0,101,0,{"$f":"LARGE($E$2:$E$241,142)","v":1.01E-3}]
[null,{"$f":"wyniki!B173","v":0},{"$f":"wyniki!N173","v":0},1.4300000000000001E-3,1.4300000000000001E-3,{"$f":"wyniki!$A$168","v":0},{"$f":"wyniki!G173","v":0},null,143,0,100,0,{"$f":"LARGE($E$2:$E$241,143)","v":1E-3}]
[null,{"$f":"wyniki!B174","v":0},{"$f":"wyniki!N174","v":0},1.4400000000000001E-3,1.4400000000000001E-3,{"$f":"wyniki!$A$168","v":0},{"$f":"wyniki!G174","v":0},null,144,0,99,0,{"$f":"LARGE($E$2:$E$241,144)","v":9.8999999999999999E-4}]
[null,{"$f":"wyniki!B176","v":0},{"$f":"wyniki!N176","v":0},1.4499999999999999E-3,1.4499999999999999E-3,{"$f":"wyniki!$A$175","v":0},{"$f":"wyniki!G176","v":0},null,145,0,98,0,{"$f":"LARGE($E$2:$E$241,145)","v":9.7999999999999997E-4}]
[null,{"$f":"wyniki!B177","v":0},{"$f":"wyniki!N177","v":0},1.4599999999999999E-3,1.4599999999999999E-3,{"$f":"wyniki!$A$175","v":0},{"$f":"wyniki!G177","v":0},null,146,0,97,0,{"$f":"LARGE($E$2:$E$241,146)","v":9.7000000000000005E-4}]
[null,{"$f":"wyniki!B178","v":0},{"$f":"wyniki!N178","v":0},1.47E-3,1.47E-3,{"$f":"wyniki!$A$175","v":0},{"$f":"wyniki!G178","v":0},null,147,0,96,0,{"$f":"LARGE($E$2:$E$241,147)","v":9.6000000000000002E-4}]
[null,{"$f":"wyniki!B179","v":0},{"$f":"wyniki!N179","v":0},1.48E-3,1.48E-3,{"$f":"wyniki!$A$175","v":0},{"$f":"wyniki!G179","v":0},null,148,0,95,0,{"$f":"LARGE($E$2:$E$241,148)","v":9.5E-4}]
[null,{"$f":"wyniki!B180","v":0},{"$f":"wyniki!N180","v":0},1.49E-3,1.49E-3,{"$f":"wyniki!$A$175","v":0},{"$f":"wyniki!G180","v":0},null,149,0,94,0,{"$f":"LARGE($E$2:$E$241,149)","v":9.3999999999999997E-4}]
[null,{"$f":"wyniki!B181","v":0},{"$f":"wyniki!N181","v":0},1.5E-3,1.5E-3,{"$f":"wyniki!$A$175","v":0},{"$f":"wyniki!G181","v":0},null,150,0,93,0,{"$f":"LARGE($E$2:$E$241,150)","v":9.3000000000000005E-4}]
[null,{"$f":"wyniki!B183","v":0},{"$f":"wyniki!N183","v":0},1.5100000000000001E-3,1.5100000000000001E-3,{"$f":"wyniki!$A$182","v":0},{"$f":"wyniki!G183","v":0},null,151,0,92,0,{"$f":"LARGE($E$2:$E$241,151)","v":9.2000000000000003E-4}]
[null,{"$f":"wyniki!B184","v":0},{"$f":"wyniki!N184","v":0},1.5200000000000001E-3,1.5200000000000001E-3,{"$f":"wyniki!$A$182","v":0},{"$f":"wyniki!G184","v":0},null,152,0,91,0,{"$f":"LARGE($E$2:$E$241,152)","v":9.1E-4}]
[null,{"$f":"wyniki!B185","v":0},{"$f":"wyniki!N185","v":0},1.5299999999999999E-3,1.5299999999999999E-3,{"$f":"wyniki!$A$182","v":0},{"$f":"wyniki!G185","v":0},null,153,0,90,0,{"$f":"LARGE($E$2:$E$241,153)","v":8.9999999999999998E-4}]
[null,{"$f":"wyniki!B186","v":0},{"$f":"wyniki!N186","v":0},1.5399999999999999E-3,1.5399999999999999E-3,{"$f":"wyniki!$A$182","v":0},{"$f":"wyniki!G186","v":0},null,154,0,89,0,{"$f":"LARGE($E$2:$E$241,154)","v":8.8999999999999995E-4}]
[null,{"$f":"wyniki!B187","v":0},{"$f":"wyniki!N187","v":0},1.5499999999999999E-3,1.5499999999999999E-3,{"$f":"wyniki!$A$182","v":0},{"$f":"wyniki!G187","v":0},null,155,0,88,0,{"$f":"LARGE($E$2:$E$241,155)","v":8.8000000000000003E-4}]
[null,{"$f":"wyniki!B188","v":0},{"$f":"wyniki!N188","v":0},1.56E-3,1.56E-3,{"$f":"wyniki!$A$182","v":0},{"$f":"wyniki!G188","v":0},null,156,0,87,0,{"$f":"LARGE($E$2:$E$241,156)","v":8.7000000000000001E-4}]
[null,{"$f":"wyniki!B190","v":0},{"$f":"wyniki!N190","v":0},1.57E-3,1.57E-3,{"$f":"wyniki!$A$189","v":0},{"$f":"wyniki!G190","v":0},null,157,0,86,0,{"$f":"LARGE($E$2:$E$241,157)","v":8.5999999999999998E-4}]
[null,{"$f":"wyniki!B191","v":0},{"$f":"wyniki!N191","v":0},1.58E-3,1.58E-3,{"$f":"wyniki!$A$189","v":0},{"$f":"wyniki!G191","v":0},null,158,0,85,0,{"$f":"LARGE($E$2:$E$241,158)","v":8.4999999999999995E-4}]
[null,{"$f":"wyniki!B192","v":0},{"$f":"wyniki!N192","v":0},1.5900000000000001E-3,1.5900000000000001E-3,{"$f":"wyniki!$A$189","v":0},{"$f":"wyniki!G192","v":0},null,159,0,84,0,{"$f":"LARGE($E$2:$E$241,159)","v":8.4000000000000003E-4}]
[null,{"$f":"wyniki!B193","v":0},{"$f":"wyniki!N193","v":0},1.6000000000000001E-3,1.6000000000000001E-3,{"$f":"wyniki!$A$189","v":0},{"$f":"wyniki!G193","v":0},null,160,0,83,0,{"$f":"LARGE($E$2:$E$241,160)","v":8.3000000000000001E-4}]
[null,{"$f":"wyniki!B194","v":0},{"$f":"wyniki!N194","v":0},1.6100000000000001E-3,1.6100000000000001E-3,{"$f":"wyniki!$A$189","v":0},{"$f":"wyniki!G194","v":0},null,161,0,82,0,{"$f":"LARGE($E$2:$E$241,161)","v":8.1999999999999998E-4}]
[null,{"$f":"wyniki!B195","v":0},{"$f":"wyniki!N195","v":0},1.6199999999999999E-3,1.6199999999999999E-3,{"$f":"wyniki!$A$189","v":0},{"$f":"wyniki!G195","v":0},null,162,0,81,0,{"$f":"LARGE($E$2:$E$241,162)","v":8.0999999999999996E-4}]
[null,{"$f":"wyniki!B197","v":0},{"$f":"wyniki!N197","v":0},1.6299999999999999E-3,1.6299999999999999E-3,{"$f":"wyniki!$A$196","v":0},{"$f":"wyniki!G197","v":0},null,163,0,80,0,{"$f":"LARGE($E$2:$E$241,163)","v":8.0000000000000004E-4}]
[null,{"$f":"wyniki!B198","v":0},{"$f":"wyniki!N198","v":0},1.64E-3,1.64E-3,{"$f":"wyniki!$A$196","v":0},{"$f":"wyniki!G198","v":0},null,164,0,79,0,{"$f":"LARGE($E$2:$E$241,164)","v":7.9000000000000001E-4}]
[null,{"$f":"wyniki!B199","v":0},{"$f":"wyniki!N199","v":0},1.65E-3,1.65E-3,{"$f":"wyniki!$A$196","v":0},{"$f":"wyniki!G199","v":0},null,165,0,78,0,{"$f":"LARGE($E$2:$E$241,165)","v":7.7999999999999999E-4}]
[null,{"$f":"wyniki!B200","v":0},{"$f":"wyniki!N200","v":0},1.66E-3,1.66E-3,{"$f":"wyniki!$A$196","v":0},{"$f":"wyniki!G200","v":0},null,166,0,77,0,{"$f":"LARGE($E$2:$E$241,166)","v":7.6999999999999996E-4}]
[null,{"$f":"wyniki!B201","v":0},{"$f":"wyniki!N201","v":0},1.67E-3,1.67E-3,{"$f":"wyniki!$A$196","v":0},{"$f":"wyniki!G201","v":0},null,167,0,76,0,{"$f":"LARGE($E$2:$E$241,167)","v":7.6000000000000004E-4}]
[null,{"$f":"wyniki!B202","v":0},{"$f":"wyniki!N202","v":0},1.6800000000000001E-3,1.6800000000000001E-3,{"$f":"wyniki!$A$196","v":0},{"$f":"wyniki!G202","v":0},null,168,0,75,0,{"$f":"LARGE($E$2:$E$241,168)","v":7.5000000000000002E-4}]
[null,{"$f":"wyniki!B204","v":0},{"$f":"wyniki!N204","v":0},1.6900000000000001E-3,1.6900000000000001E-3,{"$f":"wyniki!$A$203","v":0},{"$f":"wyniki!G204","v":0},null,169,0,74,0,{"$f":"LARGE($E$2:$E$241,169)","v":7.3999999999999999E-4}]
[null,{"$f":"wyniki!B205","v":0},{"$f":"wyniki!N205","v":0},1.6999999999999999E-3,1.6999999999999999E-3,{"$f":"wyniki!$A$203","v":0},{"$f":"wyniki!G205","v":0},null,170,0,73,0,{"$f":"LARGE($E$2:$E$241,170)","v":7.2999999999999996E-4}]
[null,{"$f":"wyniki!B206","v":0},{"$f":"wyniki!N206","v":0},1.7099999999999999E-3,1.7099999999999999E-3,{"$f":"wyniki!$A$203","v":0},{"$f":"wyniki!G206","v":0},null,171,0,72,0,{"$f":"LARGE($E$2:$E$241,171)","v":7.2000000000000005E-4}]
[null,{"$f":"wyniki!B207","v":0},{"$f":"wyniki!N207","v":0},1.72E-3,1.72E-3,{"$f":"wyniki!$A$203","v":0},{"$f":"wyniki!G207","v":0},null,172,0,71,0,{"$f":"LARGE($E$2:$E$241,172)","v":7.1000000000000002E-4}]
[null,{"$f":"wyniki!B208","v":0},{"$f":"wyniki!N208","v":0},1.73E-3,1.73E-3,{"$f":"wyniki!$A$203","v":0},{"$f":"wyniki!G208","v":0},null,173,0,70,0,{"$f":"LARGE($E$2:$E$241,173)","v":6.9999999999999999E-4}]
[null,{"$f":"wyniki!B209","v":0},{"$f":"wyniki!N209","v":0},1.74E-3,1.74E-3,{"$f":"wyniki!$A$203","v":0},{"$f":"wyniki!G209","v":0},null,174,0,69,0,{"$f":"LARGE($E$2:$E$241,174)","v":6.8999999999999997E-4}]
[null,{"$f":"wyniki!B211","v":0},{"$f":"wyniki!N211","v":0},1.75E-3,1.75E-3,{"$f":"wyniki!$A$210","v":0},{"$f":"wyniki!G211","v":0},null,175,0,68,0,{"$f":"LARGE($E$2:$E$241,175)","v":6.8000000000000005E-4}]
[null,{"$f":"wyniki!B212","v":0},{"$f":"wyniki!N212","v":0},1.7600000000000001E-3,1.7600000000000001E-3,{"$f":"wyniki!$A$210","v":0},{"$f":"wyniki!G212","v":0},null,176,0,67,0,{"$f":"LARGE($E$2:$E$241,176)","v":6.7000000000000002E-4}]
[null,{"$f":"wyniki!B213","v":0},{"$f":"wyniki!N213","v":0},1.7700000000000001E-3,1.7700000000000001E-3,{"$f":"wyniki!$A$210","v":0},{"$f":"wyniki!G213","v":0},null,177,0,66,0,{"$f":"LARGE($E$2:$E$241,177)","v":6.6E-4}]
[null,{"$f":"wyniki!B214","v":0},{"$f":"wyniki!N214","v":0},1.7799999999999999E-3,1.7799999999999999E-3,{"$f":"wyniki!$A$210","v":0},{"$f":"wyniki!G214","v":0},null,178,0,65,0,{"$f":"LARGE($E$2:$E$241,178)","v":6.4999999999999997E-4}]
[null,{"$f":"wyniki!B215","v":0},{"$f":"wyniki!N215","v":0},1.7899999999999999E-3,1.7899999999999999E-3,{"$f":"wyniki!$A$210","v":0},{"$f":"wyniki!G215","v":0},null,179,0,64,0,{"$f":"LARGE($E$2:$E$241,179)","v":6.4000000000000005E-4}]
[null,{"$f":"wyniki!B216","v":0},{"$f":"wyniki!N216","v":0},1.8E-3,1.8E-3,{"$f":"wyniki!$A$210","v":0},{"$f":"wyniki!G216","v":0},null,180,0,63,0,{"$f":"LARGE($E$2:$E$241,180)","v":6.3000000000000003E-4}]
[null,{"$f":"wyniki!B218","v":0},{"$f":"wyniki!N218","v":0},1.81E-3,1.81E-3,{"$f":"wyniki!$A$217","v":0},{"$f":"wyniki!G218","v":0},null,181,0,62,0,{"$f":"LARGE($E$2:$E$241,181)","v":6.2E-4}]
[null,{"$f":"wyniki!B219","v":0},{"$f":"wyniki!N219","v":0},1.82E-3,1.82E-3,{"$f":"wyniki!$A$217","v":0},{"$f":"wyniki!G219","v":0},null,182,0,61,0,{"$f":"LARGE($E$2:$E$241,182)","v":6.0999999999999997E-4}]
[null,{"$f":"wyniki!B220","v":0},{"$f":"wyniki!N220","v":0},1.83E-3,1.83E-3,{"$f":"wyniki!$A$217","v":0},{"$f":"wyniki!G220","v":0},null,183,0,60,0,{"$f":"LARGE($E$2:$E$241,183)","v":5.9999999999999995E-4}]
[null,{"$f":"wyniki!B221","v":0},{"$f":"wyniki!N221","v":0},1.8400000000000001E-3,1.8400000000000001E-3,{"$f":"wyniki!$A$217","v":0},{"$f":"wyniki!G221","v":0},null,184,0,59,0,{"$f":"LARGE($E$2:$E$241,184)","v":5.9000000000000003E-4}]
[null,{"$f":"wyniki!B222","v":0},{"$f":"wyniki!N222","v":0},1.8500000000000001E-3,1.8500000000000001E-3,{"$f":"wyniki!$A$217","v":0},{"$f":"wyniki!G222","v":0},null,185,0,58,0,{"$f":"LARGE($E$2:$E$241,185)","v":5.8E-4}]
[null,{"$f":"wyniki!B223","v":0},{"$f":"wyniki!N223","v":0},1.8600000000000001E-3,1.8600000000000001E-3,{"$f":"wyniki!$A$217","v":0},{"$f":"wyniki!G223","v":0},null,186,0,57,0,{"$f":"LARGE($E$2:$E$241,186)","v":5.6999999999999998E-4}]
[null,{"$f":"wyniki!B225","v":0},{"$f":"wyniki!N225","v":0},1.8699999999999999E-3,1.8699999999999999E-3,{"$f":"wyniki!$A$224","v":0},{"$f":"wyniki!G225","v":0},null,187,0,56,0,{"$f":"LARGE($E$2:$E$241,187)","v":5.5999999999999995E-4}]
[null,{"$f":"wyniki!B226","v":0},{"$f":"wyniki!N226","v":0},1.8799999999999999E-3,1.8799999999999999E-3,{"$f":"wyniki!$A$224","v":0},{"$f":"wyniki!G226","v":0},null,188,0,55,0,{"$f":"LARGE($E$2:$E$241,188)","v":5.5000000000000003E-4}]
[null,{"$f":"wyniki!B227","v":0},{"$f":"wyniki!N227","v":0},1.89E-3,1.89E-3,{"$f":"wyniki!$A$224","v":0},{"$f":"wyniki!G227","v":0},null,189,0,54,0,{"$f":"LARGE($E$2:$E$241,189)","v":5.4000000000000001E-4}]
[null,{"$f":"wyniki!B228","v":0},{"$f":"wyniki!N228","v":0},1.9E-3,1.9E-3,{"$f":"wyniki!$A$224","v":0},{"$f":"wyniki!G228","v":0},null,190,0,53,0,{"$f":"LARGE($E$2:$E$241,190)","v":5.2999999999999998E-4}]
[null,{"$f":"wyniki!B229","v":0},{"$f":"wyniki!N229","v":0},1.91E-3,1.91E-3,{"$f":"wyniki!$A$224","v":0},{"$f":"wyniki!G229","v":0},null,191,0,52,0,{"$f":"LARGE($E$2:$E$241,191)","v":5.1999999999999995E-4}]
[null,{"$f":"wyniki!B230","v":0},{"$f":"wyniki!N230","v":0},1.92E-3,1.92E-3,{"$f":"wyniki!$A$224","v":0},{"$f":"wyniki!G230","v":0},null,192,0,51,0,{"$f":"LARGE($E$2:$E$241,192)","v":5.1000000000000004E-4}]
[null,{"$f":"wyniki!B232","v":0},{"$f":"wyniki!N232","v":0},1.9300000000000001E-3,1.9300000000000001E-3,{"$f":"wyniki!$A$231","v":0},{"$f":"wyniki!G232","v":0},null,193,0,{"$f":"MATCH(M194,$E$2:$E$241,0)","v":50},0,{"$f":"LARGE($E$2:$E$241,193)","v":5.0000000000000001E-4}]
[null,{"$f":"wyniki!B233","v":0},{"$f":"wyniki!N233","v":0},1.9400000000000001E-3,{"$f":"C195+D195","v":1.9400000000000001E-3},{"$f":"wyniki!$A$231","v":0},{"$f":"wyniki!G233","v":0},null,194,{"$f":"INDEX($B$2:$E$2411,K195,1)","v":0},48,{"$f":"INDEX($E$2:$F$241,K195,2)","v":0},{"$f":"LARGE($E$2:$E$241,194)","v":4.8000000000000001E-4}]
[null,{"$f":"wyniki!B234","v":0},{"$f":"wyniki!N234","v":0},1.9499999999999999E-3,1.9499999999999999E-3,{"$f":"wyniki!$A$231","v":0},{"$f":"wyniki!G234","v":0},null,195,0,47,0,{"$f":"LARGE($E$2:$E$241,195)","v":4.6999999999999999E-4}]
[null,{"$f":"wyniki!B235","v":0},{"$f":"wyniki!N235","v":0},1.9599999999999999E-3,1.9599999999999999E-3,{"$f":"wyniki!$A$231","v":0},{"$f":"wyniki!G235","v":0},null,196,0,46,0,{"$f":"LARGE($E$2:$E$241,196)","v":4.6000000000000001E-4}]
[null,{"$f":"wyniki!B236","v":0},{"$f":"wyniki!N236","v":0},1.97E-3,1.97E-3,{"$f":"wyniki!$A$231","v":0},{"$f":"wyniki!G236","v":0},null,197,0,45,0,{"$f":"LARGE($E$2:$E$241,197)","v":4.4999999999999999E-4}]
[null,{"$f":"wyniki!B237","v":0},{"$f":"wyniki!N237","v":0},1.98E-3,1.98E-3,{"$f":"wyniki!$A$231","v":0},{"$f":"wyniki!G237","v":0},null,198,0,44,0,{"$f":"LARGE($E$2:$E$241,198)","v":4.4000000000000002E-4}]
[null,{"$f":"wyniki!B239","v":0},{"$f":"wyniki!N239","v":0},1.99E-3,1.99E-3,{"$f":"wyniki!$A$238","v":0},{"$f":"wyniki!G239","v":0},null,199,0,43,0,{"$f":"LARGE($E$2:$E$241,199)","v":4.2999999999999999E-4}]
[null,{"$f":"wyniki!B240","v":0},{"$f":"wyniki!N240","v":0},2E-3,2E-3,{"$f":"wyniki!$A$238","v":0},{"$f":"wyniki!G240","v":0},null,200,0,42,0,{"$f":"LARGE($E$2:$E$241,200)","v":4.2000000000000002E-4}]
[null,{"$f":"wyniki!B241","v":0},{"$f":"wyniki!N241","v":0},2.0100000000000001E-3,2.0100000000000001E-3,{"$f":"wyniki!$A$238","v":0},{"$f":"wyniki!G241","v":0},null,201,0,41,0,{"$f":"LARGE($E$2:$E$241,201)","v":4.0999999999999999E-4}]
[null,{"$f":"wyniki!B242","v":0},{"$f":"wyniki!N242","v":0},2.0200000000000001E-3,2.0200000000000001E-3,{"$f":"wyniki!$A$238","v":0},{"$f":"wyniki!G242","v":0},null,202,0,40,0,{"$f":"LARGE($E$2:$E$241,202)","v":4.0000000000000002E-4}]
[null,{"$f":"wyniki!B243","v":0},{"$f":"wyniki!N243","v":0},2.0300000000000001E-3,2.0300000000000001E-3,{"$f":"wyniki!$A$238","v":0},{"$f":"wyniki!G243","v":0},null,203,0,39,0,{"$f":"LARGE($E$2:$E$241,203)","v":3.8999999999999999E-4}]
[null,{"$f":"wyniki!B244","v":0},{"$f":"wyniki!N244","v":0},2.0400000000000001E-3,2.0400000000000001E-3,{"$f":"wyniki!$A$238","v":0},{"$f":"wyniki!G244","v":0},null,204,0,38,0,{"$f":"LARGE($E$2:$E$241,204)","v":3.8000000000000002E-4}]
[null,{"$f":"wyniki!B246","v":0},{"$f":"wyniki!N246","v":0},2.0500000000000002E-3,2.0500000000000002E-3,{"$f":"wyniki!$A$245","v":0},{"$f":"wyniki!G246","v":0},null,205,0,37,0,{"$f":"LARGE($E$2:$E$241,205)","v":3.6999999999999999E-4}]
[null,{"$f":"wyniki!B247","v":0},{"$f":"wyniki!N247","v":0},2.0600000000000002E-3,2.0600000000000002E-3,{"$f":"wyniki!$A$245","v":0},{"$f":"wyniki!G247","v":0},null,206,0,36,0,{"$f":"LARGE($E$2:$E$241,206)","v":3.6000000000000002E-4}]
[null,{"$f":"wyniki!B248","v":0},{"$f":"wyniki!N248","v":0},2.0699999999999998E-3,2.0699999999999998E-3,{"$f":"wyniki!$A$245","v":0},{"$f":"wyniki!G248","v":0},null,207,0,35,0,{"$f":"LARGE($E$2:$E$241,207)","v":3.5E-4}]
[null,{"$f":"wyniki!B249","v":0},{"$f":"wyniki!N249","v":0},2.0799999999999998E-3,2.0799999999999998E-3,{"$f":"wyniki!$A$245","v":0},{"$f":"wyniki!G249","v":0},null,208,0,34,0,{"$f":"LARGE($E$2:$E$241,208)","v":3.4000000000000002E-4}]
[null,{"$f":"wyniki!B250","v":0},{"$f":"wyniki!N250","v":0},2.0899999999999998E-3,2.0899999999999998E-3,{"$f":"wyniki!$A$245","v":0},{"$f":"wyniki!G250","v":0},null,209,0,33,0,{"$f":"LARGE($E$2:$E$241,209)","v":3.3E-4}]
[null,{"$f":"wyniki!B251","v":0},{"$f":"wyniki!N251","v":0},2.0999999999999999E-3,2.0999999999999999E-3,{"$f":"wyniki!$A$245","v":0},{"$f":"wyniki!G251","v":0},null,210,0,32,0,{"$f":"LARGE($E$2:$E$241,210)","v":3.2000000000000003E-4}]
[null,{"$f":"wyniki!B253","v":0},{"$f":"wyniki!N253","v":0},2.1099999999999999E-3,2.1099999999999999E-3,{"$f":"wyniki!$A$252","v":0},{"$f":"wyniki!G253","v":0},null,211,0,31,0,{"$f":"LARGE($E$2:$E$241,211)","v":3.1E-4}]
[null,{"$f":"wyniki!B254","v":0},{"$f":"wyniki!N254","v":0},2.1199999999999999E-3,2.1199999999999999E-3,{"$f":"wyniki!$A$252","v":0},{"$f":"wyniki!G254","v":0},null,212,0,30,0,{"$f":"LARGE($E$2:$E$241,212)","v":2.9999999999999997E-4}]
[null,{"$f":"wyniki!B255","v":0},{"$f":"wyniki!N255","v":0},2.1299999999999999E-3,2.1299999999999999E-3,{"$f":"wyniki!$A$252","v":0},{"$f":"wyniki!G255","v":0},null,213,0,29,0,{"$f":"LARGE($E$2:$E$241,213)","v":2.9E-4}]
[null,{"$f":"wyniki!B256","v":0},{"$f":"wyniki!N256","v":0},2.14E-3,2.14E-3,{"$f":"wyniki!$A$252","v":0},{"$f":"wyniki!G256","v":0},null,214,0,28,0,{"$f":"LARGE($E$2:$E$241,214)","v":2.7999999999999998E-4}]
[null,{"$f":"wyniki!B257","v":0},{"$f":"wyniki!N257","v":0},2.15E-3,2.15E-3,{"$f":"wyniki!$A$252","v":0},{"$f":"wyniki!G257","v":0},null,215,0,27,0,{"$f":"LARGE($E$2:$E$241,215)","v":2.7E-4}]
[null,{"$f":"wyniki!B258","v":0},{"$f":"wyniki!N258","v":0},2.16E-3,2.16E-3,{"$f":"wyniki!$A$252","v":0},{"$f":"wyniki!G258","v":0},null,216,0,26,0,{"$f":"LARGE($E$2:$E$241,216)","v":2.5999999999999998E-4}]
[null,{"$f":"wyniki!B260","v":0},{"$f":"wyniki!N260","v":0},2.1700000000000001E-3,2.1700000000000001E-3,{"$f":"wyniki!$A$259","v":0},{"$f":"wyniki!G260","v":0},null,217,0,25,0,{"$f":"LARGE($E$2:$E$241,217)","v":2.5000000000000001E-4}]
[null,{"$f":"wyniki!B261","v":0},{"$f":"wyniki!N261","v":0},2.1800000000000001E-3,2.1800000000000001E-3,{"$f":"wyniki!$A$259","v":0},{"$f":"wyniki!G261","v":0},null,218,0,24,0,{"$f":"LARGE($E$2:$E$241,218)","v":2.4000000000000001E-4}]
[null,{"$f":"wyniki!B262","v":0},{"$f":"wyniki!N262","v":0},2.1900000000000001E-3,2.1900000000000001E-3,{"$f":"wyniki!$A$259","v":0},{"$f":"wyniki!G262","v":0},null,219,0,23,0,{"$f":"LARGE($E$2:$E$241,219)","v":2.3000000000000001E-4}]
[null,{"$f":"wyniki!B263","v":0},{"$f":"wyniki!N263","v":0},2.2000000000000001E-3,2.2000000000000001E-3,{"$f":"wyniki!$A$259","v":0},{"$f":"wyniki!G263","v":0},null,220,0,22,0,{"$f":"LARGE($E$2:$E$241,220)","v":2.2000000000000001E-4}]
[null,{"$f":"wyniki!B264","v":0},{"$f":"wyniki!N264","v":0},2.2100000000000002E-3,2.2100000000000002E-3,{"$f":"wyniki!$A$259","v":0},{"$f":"wyniki!G264","v":0},null,221,0,21,0,{"$f":"LARGE($E$2:$E$241,221)","v":2.1000000000000001E-4}]
[null,{"$f":"wyniki!B265","v":0},{"$f":"wyniki!N265","v":0},2.2200000000000002E-3,2.2200000000000002E-3,{"$f":"wyniki!$A$259","v":0},{"$f":"wyniki!G265","v":0},null,222,0,20,0,{"$f":"LARGE($E$2:$E$241,222)","v":2.0000000000000001E-4}]
[null,{"$f":"wyniki!B267","v":0},{"$f":"wyniki!N267","v":0},2.2300000000000002E-3,2.2300000000000002E-3,{"$f":"wyniki!$A$266","v":0},{"$f":"wyniki!G267","v":0},null,223,0,19,0,{"$f":"LARGE($E$2:$E$241,223)","v":1.9000000000000001E-4}]
[null,{"$f":"wyniki!B268","v":0},{"$f":"wyniki!N268","v":0},2.2399999999999998E-3,2.2399999999999998E-3,{"$f":"wyniki!$A$266","v":0},{"$f":"wyniki!G268","v":0},null,224,0,18,0,{"$f":"LARGE($E$2:$E$241,224)","v":1.8000000000000001E-4}]
[null,{"$f":"wyniki!B269","v":0},{"$f":"wyniki!N269","v":0},2.2499999999999998E-3,2.2499999999999998E-3,{"$f":"wyniki!$A$266","v":0},{"$f":"wyniki!G269","v":0},null,225,0,17,0,{"$f":"LARGE($E$2:$E$241,225)","v":1.7000000000000001E-4}]
[null,{"$f":"wyniki!B270","v":0},{"$f":"wyniki!N270","v":0},2.2599999999999999E-3,2.2599999999999999E-3,{"$f":"wyniki!$A$266","v":0},{"$f":"wyniki!G270","v":0},null,226,0,16,0,{"$f":"LARGE($E$2:$E$241,226)","v":1.6000000000000001E-4}]
[null,{"$f":"wyniki!B271","v":0},{"$f":"wyniki!N271","v":0},2.2699999999999999E-3,2.2699999999999999E-3,{"$f":"wyniki!$A$266","v":0},{"$f":"wyniki!G271","v":0},null,227,0,15,0,{"$f":"LARGE($E$2:$E$241,227)","v":1.4999999999999999E-4}]
[null,{"$f":"wyniki!B272","v":0},{"$f":"wyniki!N272","v":0},2.2799999999999999E-3,2.2799999999999999E-3,{"$f":"wyniki!$A$266","v":0},{"$f":"wyniki!G272","v":0},null,228,0,14,0,{"$f":"LARGE($E$2:$E$241,228)","v":1.3999999999999999E-4}]
[null,{"$f":"wyniki!B274","v":0},{"$f":"wyniki!N274","v":0},2.2899999999999999E-3,2.2899999999999999E-3,{"$f":"wyniki!$A$273","v":0},{"$f":"wyniki!G274","v":0},null,229,0,13,0,{"$f":"LARGE($E$2:$E$241,229)","v":1.2999999999999999E-4}]
[null,{"$f":"wyniki!B275","v":0},{"$f":"wyniki!N275","v":0},2.3E-3,2.3E-3,{"$f":"wyniki!$A$273","v":0},{"$f":"wyniki!G275","v":0},null,230,0,12,0,{"$f":"LARGE($E$2:$E$241,230)","v":1.2E-4}]
[null,{"$f":"wyniki!B276","v":0},{"$f":"wyniki!N276","v":0},2.31E-3,2.31E-3,{"$f":"wyniki!$A$273","v":0},{"$f":"wyniki!G276","v":0},null,231,0,11,0,{"$f":"LARGE($E$2:$E$241,231)","v":1.1E-4}]
[null,{"$f":"wyniki!B277","v":0},{"$f":"wyniki!N277","v":0},2.32E-3,2.32E-3,{"$f":"wyniki!$A$273","v":0},{"$f":"wyniki!G277","v":0},null,232,0,10,0,{"$f":"LARGE($E$2:$E$241,232)","v":1E-4}]
[null,{"$f":"wyniki!B278","v":0},{"$f":"wyniki!N278","v":0},2.33E-3,2.33E-3,{"$f":"wyniki!$A$273","v":0},{"$f":"wyniki!G278","v":0},null,233,0,9,0,{"$f":"LARGE($E$2:$E$241,233)","v":9.0000000000000006E-5}]
[null,{"$f":"wyniki!B279","v":0},{"$f":"wyniki!N279","v":0},2.3400000000000001E-3,2.3400000000000001E-3,{"$f":"wyniki!$A$273","v":0},{"$f":"wyniki!G279","v":0},null,234,0,8,0,{"$f":"LARGE($E$2:$E$241,234)","v":8.0000000000000007E-5}]
[null,{"$f":"wyniki!B281","v":0},{"$f":"wyniki!N281","v":0},2.3500000000000001E-3,2.3500000000000001E-3,{"$f":"wyniki!$A$280","v":0},{"$f":"wyniki!G281","v":0},null,235,0,7,0,{"$f":"LARGE($E$2:$E$241,235)","v":6.9999999999999994E-5}]
[null,{"$f":"wyniki!B282","v":0},{"$f":"wyniki!N282","v":0},2.3600000000000001E-3,2.3600000000000001E-3,{"$f":"wyniki!$A$280","v":0},{"$f":"wyniki!G282","v":0},null,236,0,6,"SP 234 Kursk",{"$f":"LARGE($E$2:$E$241,236)","v":6.0000000000000002E-5}]
[null,{"$f":"wyniki!B283","v":0},{"$f":"wyniki!N283","v":0},2.3700000000000001E-3,2.3700000000000001E-3,{"$f":"wyniki!$A$280","v":0},{"$f":"wyniki!G283","v":0},null,237,"zawodnik 5",5,"SP 234 Kursk",{"$f":"LARGE($E$2:$E$241,237)","v":5.0000000000000002E-5}]
[null,{"$f":"wyniki!B284","v":0},{"$f":"wyniki!N284","v":0},2.3800000000000002E-3,2.3800000000000002E-3,{"$f":"wyniki!$A$280","v":0},{"$f":"wyniki!G284","v":0},null,238,"zawodnik 4",4,"SP 234 Kursk",{"$f":"LARGE($E$2:$E$241,238)","v":4.0000000000000003E-5}]
[null,{"$f":"wyniki!B285","v":0},{"$f":"wyniki!N285","v":0},2.3900000000000002E-3,2.3900000000000002E-3,{"$f":"wyniki!$A$280","v":0},{"$f":"wyniki!G285","v":0},null,239,"zawodnik 3",3,"SP 234 Kursk",{"$f":"LARGE($E$2:$E$241,239)","v":3.0000000000000001E-5}]
[null,{"$f":"wyniki!B286","v":0},{"$f":"wyniki!N286","v":0},2.3999999999999998E-3,2.3999999999999998E-3,{"$f":"wyniki!$A$280","v":0},{"$f":"wyniki!G286","v":0},null,240,"zawodnik 2",2,"SP 234 Kursk",{"$f":"LARGE($E$2:$E$241,240)","v":2.0000000000000002E-5}]

{"sheet":"I DZIEN","index":8,"n_rows":41,"n_cols":16,"rows_kept":41,"cut":false,"hidden":true,"merged":[]}
[null,null,null,null,null,null,"Miejsce","Punkty(6)",null,"Szkoła"]
[null,{"$f":"wyniki!O12","v":52},1.0000000000000001E-5,{"$f":"B2+C2","v":52.000010000000003},{"$f":"wyniki!A7","v":"SP 234 Kursk"},null,1,{"$f":"LARGE($D$2:$D$41,1)","v":52.000010000000003},{"$f":"MATCH(H2,$D$2:$D$41,0)","v":1},{"$f":"INDEX($D$2:$E$41,I2,2)","v":"SP 234 Kursk"},null,"SP Wasilków",{"$f":"MATCH(L2,wyniki!$A:$A,0)+1","v":{"$error":"#N/A"}},8,"60m","p.pal"]
[null,{"$f":"wyniki!O19","v":0},2.0000000000000002E-5,{"$f":"B3+C3","v":2.0000000000000002E-5},{"$f":"wyniki!A14","v":0},null,2,{"$f":"LARGE($D$2:$D$41,2)","v":8.0000900000000001},{"$f":"MATCH(H3,$D$2:$D$41,0)","v":9},{"$f":"INDEX($D$2:$E$41,I3,2)","v":0},null,"SP1 Łapy",{"$f":"MATCH(L3,wyniki!$A:$A,0)+1","v":{"$error":"#N/A"}},15,"60m"]
[null,{"$f":"wyniki!O26","v":0},3.0000000000000001E-5,3.0000000000000001E-5,{"$f":"wyniki!A21","v":0},null,3,{"$f":"LARGE($D$2:$D$41,3)","v":4.0000000000000002E-4},40,0,null,"SP2 Czarna B-cka",{"$f":"MATCH(L4,wyniki!$A:$A,0)+1","v":{"$error":"#N/A"}},22,"60m"]
[null,{"$f":"wyniki!O33","v":0},4.0000000000000003E-5,4.0000000000000003E-5,{"$f":"wyniki!A28","v":0},null,4,{"$f":"LARGE($D$2:$D$41,4)","v":3.8999999999999999E-4},39,0,null,"SP Szerszenie",{"$f":"MATCH(L5,wyniki!$A:$A,0)+1","v":{"$error":"#N/A"}},85,"60m"]
[null,{"$f":"wyniki!O40","v":0},5.0000000000000002E-5,5.0000000000000002E-5,{"$f":"wyniki!A35","v":0},null,5,{"$f":"LARGE($D$2:$D$41,5)","v":3.8000000000000002E-4},38,0,null,"SP Drohiczyn",{"$f":"MATCH(L6,wyniki!$A:$A,0)+1","v":{"$error":"#N/A"}},78,"60m"]
[null,{"$f":"wyniki!O47","v":0},6.0000000000000002E-5,6.0000000000000002E-5,{"$f":"wyniki!A42","v":0},null,6,{"$f":"LARGE($D$2:$D$41,6)","v":3.6999999999999999E-4},37,0,null,"SP1 Siemiatycze",{"$f":"MATCH(L7,wyniki!$A:$A,0)+1","v":{"$error":"#N/A"}},71,"60m"]
[null,{"$f":"wyniki!O54","v":0},6.9999999999999994E-5,6.9999999999999994E-5,{"$f":"wyniki!A49","v":0},null,7,{"$f":"LARGE($D$2:$D$41,7)","v":3.6000000000000002E-4},36,0,null,"SP Narew",{"$f":"MATCH(L8,wyniki!$A:$A,0)+1","v":{"$error":"#N/A"}},64,"60m"]
[null,{"$f":"wyniki!O61","v":0},8.0000000000000007E-5,8.0000000000000007E-5,{"$f":"wyniki!A56","v":0},null,8,{"$f":"LARGE($D$2:$D$41,8)","v":3.5E-4},35,0,null,0,{"$f":"MATCH(L9,wyniki!$A:$A,0)+1","v":15},92]
[null,{"$f":"wyniki!O68","v":8},9.0000000000000006E-5,8.0000900000000001,{"$f":"wyniki!A63","v":0},null,9,{"$f":"LARGE($D$2:$D$41,9)","v":3.4000000000000002E-4},34,0,null,0,{"$f":"MATCH(L10,wyniki!$A:$A,0)+1","v":15},92]
[null,{"$f":"wyniki!O75","v":0},1E-4,1E-4,{"$f":"wyniki!A70","v":0},null,10,{"$f":"LARGE($D$2:$D$41,10)","v":3.3E-4},33,0,null,0,{"$f":"MATCH(L11,wyniki!$A:$A,0)+1","v":15},92]
[null,{"$f":"wyniki!O82","v":0},1.1E-4,1.1E-4,{"$f":"wyniki!A77","v":0},null,11,{"$f":"LARGE($D$2:$D$41,11)","v":3.2000000000000003E-4},32,0,null,0,{"$f":"MATCH(L12,wyniki!$A:$A,0)+1","v":15},92]
[null,{"$f":"wyniki!O89","v":0},1.2E-4,1.2E-4,{"$f":"wyniki!A84","v":0},null,12,{"$f":"LARGE($D$2:$D$41,12)","v":3.1E-4},31,0,null,0,{"$f":"MATCH(L13,wyniki!$A:$A,0)+1","v":15},92]
[null,{"$f":"wyniki!O96","v":0},1.2999999999999999E-4,1.2999999999999999E-4,{"$f":"wyniki!A91","v":0},null,13,{"$f":"LARGE($D$2:$D$41,13)","v":2.9999999999999997E-4},30,0,null,0,{"$f":"MATCH(L14,wyniki!$A:$A,0)+1","v":15},92]
[null,{"$f":"wyniki!O103","v":0},1.3999999999999999E-4,1.3999999999999999E-4,{"$f":"wyniki!A98","v":0},null,14,{"$f":"LARGE($D$2:$D$41,14)","v":2.9E-4},29,0,null,0,{"$f":"MATCH(L15,wyniki!$A:$A,0)+1","v":15},92]
[null,{"$f":"wyniki!O110","v":0},1.4999999999999999E-4,1.4999999999999999E-4,{"$f":"wyniki!A105","v":0},null,15,{"$f":"LARGE($D$2:$D$41,15)","v":2.7999999999999998E-4},28,0,null,0,{"$f":"MATCH(L16,wyniki!$A:$A,0)+1","v":15},92]
[null,{"$f":"wyniki!O117","v":0},1.6000000000000001E-4,1.6000000000000001E-4,{"$f":"wyniki!A112","v":0},null,16,{"$f":"LARGE($D$2:$D$41,16)","v":2.7E-4},27,0,null,0,{"$f":"MATCH(L17,wyniki!$A:$A,0)+1","v":15},92]
[null,{"$f":"wyniki!O124","v":0},1.7000000000000001E-4,1.7000000000000001E-4,{"$f":"wyniki!A119","v":0},null,17,{"$f":"LARGE($D$2:$D$41,17)","v":2.5999999999999998E-4},26,0,null,0,{"$f":"MATCH(L18,wyniki!$A:$A,0)+1","v":15},92]
[null,{"$f":"wyniki!O131","v":0},1.8000000000000001E-4,1.8000000000000001E-4,{"$f":"wyniki!A126","v":0},null,18,{"$f":"LARGE($D$2:$D$41,18)","v":2.5000000000000001E-4},25,0,null,0,{"$f":"MATCH(L19,wyniki!$A:$A,0)+1","v":15},92]
[null,{"$f":"wyniki!O138","v":0},1.9000000000000001E-4,1.9000000000000001E-4,{"$f":"wyniki!A133","v":0},null,19,{"$f":"LARGE($D$2:$D$41,19)","v":2.4000000000000001E-4},24,0,null,0,{"$f":"MATCH(L20,wyniki!$A:$A,0)+1","v":15},92]
[null,{"$f":"wyniki!O145","v":0},2.0000000000000001E-4,2.0000000000000001E-4,{"$f":"wyniki!A140","v":0},null,20,{"$f":"LARGE($D$2:$D$41,20)","v":2.3000000000000001E-4},23,0,null,0,{"$f":"MATCH(L21,wyniki!$A:$A,0)+1","v":15},92]
[null,{"$f":"wyniki!O152","v":0},2.1000000000000001E-4,2.1000000000000001E-4,{"$f":"wyniki!A147","v":0},null,21,{"$f":"LARGE($D$2:$D$41,21)","v":2.2000000000000001E-4},22,0,null,0,{"$f":"MATCH(L22,wyniki!$A:$A,0)+1","v":15},92]
[null,{"$f":"wyniki!O159","v":0},2.2000000000000001E-4,2.2000000000000001E-4,{"$f":"wyniki!A154","v":0},null,22,{"$f":"LARGE($D$2:$D$41,22)","v":2.1000000000000001E-4},21,0,null,0,{"$f":"MATCH(L23,wyniki!$A:$A,0)+1","v":15},92]
[null,{"$f":"wyniki!O166","v":0},2.3000000000000001E-4,2.3000000000000001E-4,{"$f":"wyniki!A161","v":0},null,23,{"$f":"LARGE($D$2:$D$41,23)","v":2.0000000000000001E-4},20,0,null,0,{"$f":"MATCH(L24,wyniki!$A:$A,0)+1","v":15},92]
[null,{"$f":"wyniki!O173","v":0},2.4000000000000001E-4,2.4000000000000001E-4,{"$f":"wyniki!A168","v":0},null,24,{"$f":"LARGE($D$2:$D$41,24)","v":1.9000000000000001E-4},19,0,null,0,{"$f":"MATCH(L25,wyniki!$A:$A,0)+1","v":15},92]
[null,{"$f":"wyniki!O180","v":0},2.5000000000000001E-4,2.5000000000000001E-4,{"$f":"wyniki!A175","v":0},null,25,{"$f":"LARGE($D$2:$D$41,25)","v":1.8000000000000001E-4},18,0,null,0,{"$f":"MATCH(L26,wyniki!$A:$A,0)+1","v":15},92]
[null,{"$f":"wyniki!O187","v":0},2.5999999999999998E-4,2.5999999999999998E-4,{"$f":"wyniki!A182","v":0},null,26,{"$f":"LARGE($D$2:$D$41,26)","v":1.7000000000000001E-4},17,0,null,0,{"$f":"MATCH(L27,wyniki!$A:$A,0)+1","v":15},92]
[null,{"$f":"wyniki!O194","v":0},2.7E-4,2.7E-4,{"$f":"wyniki!A189","v":0},null,27,{"$f":"LARGE($D$2:$D$41,27)","v":1.6000000000000001E-4},16,0,null,0,{"$f":"MATCH(L28,wyniki!$A:$A,0)+1","v":15},92]
[null,{"$f":"wyniki!O201","v":0},2.7999999999999998E-4,2.7999999999999998E-4,{"$f":"wyniki!A196","v":0},null,28,{"$f":"LARGE($D$2:$D$41,28)","v":1.4999999999999999E-4},15,0,null,0,{"$f":"MATCH(L29,wyniki!$A:$A,0)+1","v":15},92]
[null,{"$f":"wyniki!O208","v":0},2.9E-4,2.9E-4,{"$f":"wyniki!A203","v":0},null,29,{"$f":"LARGE($D$2:$D$41,29)","v":1.3999999999999999E-4},14,0,null,0,{"$f":"MATCH(L30,wyniki!$A:$A,0)+1","v":15},92]
[null,{"$f":"wyniki!O215","v":0},2.9999999999999997E-4,2.9999999999999997E-4,{"$f":"wyniki!A210","v":0},null,30,{"$f":"LARGE($D$2:$D$41,30)","v":1.2999999999999999E-4},13,0,null,0,{"$f":"MATCH(L31,wyniki!$A:$A,0)+1","v":15},92]
[null,{"$f":"wyniki!O222","v":0},3.1E-4,3.1E-4,{"$f":"wyniki!A217","v":0},null,31,{"$f":"LARGE($D$2:$D$41,31)","v":1.2E-4},12,0,null,0,{"$f":"MATCH(L32,wyniki!$A:$A,0)+1","v":15},92]
[null,{"$f":"wyniki!O229","v":0},3.2000000000000003E-4,3.2000000000000003E-4,{"$f":"wyniki!A224","v":0},null,32,{"$f":"LARGE($D$2:$D$41,32)","v":1.1E-4},11,0,null,0,{"$f":"MATCH(L33,wyniki!$A:$A,0)+1","v":15},92]
[null,{"$f":"wyniki!O236","v":0},3.3E-4,3.3E-4,{"$f":"wyniki!A231","v":0},null,33,{"$f":"LARGE($D$2:$D$41,33)","v":1E-4},10,0,null,0,{"$f":"MATCH(L34,wyniki!$A:$A,0)+1","v":15},92]
[null,{"$f":"wyniki!O243","v":0},3.4000000000000002E-4,3.4000000000000002E-4,{"$f":"wyniki!A238","v":0},null,34,{"$f":"LARGE($D$2:$D$41,34)","v":8.0000000000000007E-5},8,0,null,0,{"$f":"MATCH(L35,wyniki!$A:$A,0)+1","v":15},92]
[null,{"$f":"wyniki!O250","v":0},3.5E-4,3.5E-4,{"$f":"wyniki!A245","v":0},null,35,{"$f":"LARGE($D$2:$D$41,35)","v":6.9999999999999994E-5},7,0,null,0,{"$f":"MATCH(L36,wyniki!$A:$A,0)+1","v":15},92]
[null,{"$f":"wyniki!O257","v":0},3.6000000000000002E-4,3.6000000000000002E-4,{"$f":"wyniki!A252","v":0},null,36,{"$f":"LARGE($D$2:$D$41,36)","v":6.0000000000000002E-5},6,0,null,"SP2 Hajnówka",{"$f":"MATCH(L37,wyniki!$A:$A,0)+1","v":{"$error":"#N/A"}},57]
[null,{"$f":"wyniki!O264","v":0},3.6999999999999999E-4,3.6999999999999999E-4,{"$f":"wyniki!A259","v":0},null,37,{"$f":"LARGE($D$2:$D$41,37)","v":5.0000000000000002E-5},5,0,null,"SP6 Hajnówka",{"$f":"MATCH(L38,wyniki!$A:$A,0)+1","v":{"$error":"#N/A"}},50]
[null,{"$f":"wyniki!O271","v":0},3.8000000000000002E-4,3.8000000000000002E-4,{"$f":"wyniki!A266","v":0},null,38,{"$f":"LARGE($D$2:$D$41,38)","v":4.0000000000000003E-5},4,0,null,"SP Knyszyn",{"$f":"MATCH(L39,wyniki!$A:$A,0)+1","v":{"$error":"#N/A"}},43]
[null,{"$f":"wyniki!O278","v":0},3.8999999999999999E-4,3.8999999999999999E-4,{"$f":"wyniki!A273","v":0},null,39,{"$f":"LARGE($D$2:$D$41,39)","v":3.0000000000000001E-5},3,0,null,"SP2 Mońki",{"$f":"MATCH(L40,wyniki!$A:$A,0)+1","v":{"$error":"#N/A"}},36]
[null,{"$f":"wyniki!O285","v":0},4.0000000000000002E-4,4.0000000000000002E-4,{"$f":"wyniki!A280","v":0},null,40,{"$f":"LARGE($D$2:$D$41,40)","v":2.0000000000000002E-5},2,0,null,"SP1 Mońki",{"$f":"MATCH(L41,wyniki!$A:$A,0)+1","v":{"$error":"#N/A"}},29]

{"sheet":"Suma szkół","index":9,"n_rows":41,"n_cols":21,"rows_kept":41,"cut":false,"hidden":false,"merged":[]}
[null,null,null,null,null,null,"Miejsce",null,"Szkoła","Punkty"]
[null,{"$f":"wyniki!O13","v":52},1.0000000000000001E-5,{"$f":"B2+C2","v":52.000010000000003},{"$f":"wyniki!A7","v":"SP 234 Kursk"},null,1,{"$f":"MATCH(J2,$D$2:$D$41,0)","v":1},{"$f":"INDEX($D$2:$E$41,H2,2)","v":"SP 234 Kursk"},{"$f":"LARGE($D$2:$D$41,1)","v":52.000010000000003},45,52.000010000000003,"SP2 Czarna Białostocka","SP2 Czarna Białostocka",43,"60m","p.pal",null,null,null,{"$f":"INDEX(#REF!,H2,1)","v":{"$error":"#REF!"}}]
[null,{"$f":"wyniki!O20","v":0},2.0000000000000002E-5,{"$f":"B3+C3","v":2.0000000000000002E-5},{"$f":"wyniki!A14","v":0},null,2,9,{"$f":"INDEX($D$2:$E$41,H3,2)","v":0},{"$f":"LARGE($D$2:$D$41,2)","v":8.0000900000000001},39,8.0000900000000001,"SP3 Bielsk Podlaski","SP3 Bielsk Podlaski",92,"60m",null,null,null,null,{"$f":"INDEX(#REF!,H3,1)","v":{"$error":"#REF!"}}]
[null,{"$f":"wyniki!O27","v":0},3.0000000000000001E-5,3.0000000000000001E-5,{"$f":"wyniki!A21","v":0},null,3,40,{"$f":"INDEX($D$2:$E$41,H4,2)","v":0},{"$f":"LARGE($D$2:$D$41,3)","v":4.0000000000000002E-4},34,4.0000000000000002E-4,"SP Trzcianne","SP Trzcianne",8,"60m",null,null,null,null,{"$f":"INDEX(#REF!,H4,1)","v":{"$error":"#REF!"}}]
[null,{"$f":"wyniki!O34","v":0},4.0000000000000003E-5,4.0000000000000003E-5,{"$f":"wyniki!A28","v":0},null,4,39,0,{"$f":"LARGE($D$2:$D$41,4)","v":3.8999999999999999E-4},30,3.8999999999999999E-4,"SP Kleosin","SP Kleosin",50,"60m",null,null,null,null,{"$f":"INDEX(#REF!,H5,1)","v":{"$error":"#REF!"}}]
[null,{"$f":"wyniki!O41","v":0},5.0000000000000002E-5,5.0000000000000002E-5,{"$f":"wyniki!A35","v":0},null,5,38,0,{"$f":"LARGE($D$2:$D$41,5)","v":3.8000000000000002E-4},27,3.8000000000000002E-4,"SP4 Bielsk Podlaski","SP4 Bielsk Podlaski",99,"60m",null,null,null,null,{"$f":"INDEX(#REF!,H6,1)","v":{"$error":"#REF!"}}]
[null,{"$f":"wyniki!O48","v":0},6.0000000000000002E-5,6.0000000000000002E-5,{"$f":"wyniki!A42","v":0},null,6,37,0,{"$f":"LARGE($D$2:$D$41,6)","v":3.6999999999999999E-4},25,3.6999999999999999E-4,"SSP Supraśl","SSP Supraśl",71,"60m",null,null,null,null,{"$f":"INDEX(#REF!,H7,1)","v":{"$error":"#REF!"}}]
[null,{"$f":"wyniki!O55","v":0},6.9999999999999994E-5,6.9999999999999994E-5,{"$f":"wyniki!A49","v":0},null,7,36,0,{"$f":"LARGE($D$2:$D$41,7)","v":3.6000000000000002E-4},24,3.6000000000000002E-4,"SP2 Mońki","SP2 Mońki",22,"60m",null,null,null,null,{"$f":"INDEX(#REF!,H8,1)","v":{"$error":"#REF!"}}]
[null,{"$f":"wyniki!O62","v":0},8.0000000000000007E-5,8.0000000000000007E-5,{"$f":"wyniki!A56","v":0},null,8,35,0,{"$f":"LARGE($D$2:$D$41,8)","v":3.5E-4},23,3.5E-4,"SP Wasilków","SP Wasilków",64,null,null,null,null,null,{"$f":"INDEX(#REF!,H9,1)","v":{"$error":"#REF!"}}]
[null,{"$f":"wyniki!O69","v":8},9.0000000000000006E-5,8.0000900000000001,{"$f":"wyniki!A63","v":0},null,9,34,0,{"$f":"LARGE($D$2:$D$41,9)","v":3.4000000000000002E-4},22,3.4000000000000002E-4,"SP2 Hajnówka","SP2 Hajnówka",106,null,null,null,null,null,{"$f":"INDEX(#REF!,H10,1)","v":{"$error":"#REF!"}}]
[null,{"$f":"wyniki!O76","v":0},1E-4,1E-4,{"$f":"wyniki!A70","v":0},null,10,33,0,{"$f":"LARGE($D$2:$D$41,10)","v":3.3E-4},21,3.3E-4,"SP1 Mońki","SP1 Mońki",36,null,null,null,null,null,{"$f":"INDEX(#REF!,H11,1)","v":{"$error":"#REF!"}}]
[null,{"$f":"wyniki!O83","v":0},1.1E-4,1.1E-4,{"$f":"wyniki!A77","v":0},null,11,32,0,{"$f":"LARGE($D$2:$D$41,11)","v":3.2000000000000003E-4},20,3.2000000000000003E-4,"SP5 Hajnówka","SP5 Hajnówka",78,null,null,null,null,null,{"$f":"INDEX(#REF!,H12,1)","v":{"$error":"#REF!"}}]
[null,{"$f":"wyniki!O90","v":0},1.2E-4,1.2E-4,{"$f":"wyniki!A84","v":0},null,12,31,0,{"$f":"LARGE($D$2:$D$41,12)","v":3.1E-4},19,3.1E-4,0,0,29,null,null,null,null,null,{"$f":"INDEX(#REF!,H13,1)","v":{"$error":"#REF!"}}]
[null,{"$f":"wyniki!O97","v":0},1.2999999999999999E-4,1.2999999999999999E-4,{"$f":"wyniki!A91","v":0},null,13,30,0,{"$f":"LARGE($D$2:$D$41,13)","v":2.9999999999999997E-4},18,2.9999999999999997E-4,0,0,29,null,null,null,null,null,{"$f":"INDEX(#REF!,H14,1)","v":{"$error":"#REF!"}}]
[null,{"$f":"wyniki!O104","v":0},1.3999999999999999E-4,1.3999999999999999E-4,{"$f":"wyniki!A98","v":0},null,14,29,0,{"$f":"LARGE($D$2:$D$41,14)","v":2.9E-4},17,2.9E-4,0,0,29,null,null,null,null,null,{"$f":"INDEX(#REF!,H15,1)","v":{"$error":"#REF!"}}]
[null,{"$f":"wyniki!O111","v":0},1.4999999999999999E-4,1.4999999999999999E-4,{"$f":"wyniki!A105","v":0},null,15,28,0,{"$f":"LARGE($D$2:$D$41,15)","v":2.7999999999999998E-4},16,2.7999999999999998E-4,0,0,29,null,null,null,null,null,{"$f":"INDEX(#REF!,H16,1)","v":{"$error":"#REF!"}}]
[null,{"$f":"wyniki!O118","v":0},1.6000000000000001E-4,1.6000000000000001E-4,{"$f":"wyniki!A112","v":0},null,16,27,0,{"$f":"LARGE($D$2:$D$41,16)","v":2.7E-4},15,2.7E-4,0,0,29,null,null,null,null,null,{"$f":"INDEX(#REF!,H17,1)","v":{"$error":"#REF!"}}]
[null,{"$f":"wyniki!O125","v":0},1.7000000000000001E-4,1.7000000000000001E-4,{"$f":"wyniki!A119","v":0},null,17,26,0,{"$f":"LARGE($D$2:$D$41,17)","v":2.5999999999999998E-4},14,2.5999999999999998E-4,0,0,29,null,null,null,null,null,{"$f":"INDEX(#REF!,H18,1)","v":{"$error":"#REF!"}}]
[null,{"$f":"wyniki!O132","v":0},1.8000000000000001E-4,1.8000000000000001E-4,{"$f":"wyniki!A126","v":0},null,18,25,0,{"$f":"LARGE($D$2:$D$41,18)","v":2.5000000000000001E-4},13,2.5000000000000001E-4,0,0,29,null,null,null,null,null,{"$f":"INDEX(#REF!,H19,1)","v":{"$error":"#REF!"}}]
[null,{"$f":"wyniki!O139","v":0},1.9000000000000001E-4,1.9000000000000001E-4,{"$f":"wyniki!A133","v":0},null,19,24,0,{"$f":"LARGE($D$2:$D$41,19)","v":2.4000000000000001E-4},12,2.4000000000000001E-4,0,0,29,null,null,null,null,null,{"$f":"INDEX(#REF!,H20,1)","v":{"$error":"#REF!"}}]
[null,{"$f":"wyniki!O146","v":0},2.0000000000000001E-4,2.0000000000000001E-4,{"$f":"wyniki!A140","v":0},null,20,23,0,{"$f":"LARGE($D$2:$D$41,20)","v":2.3000000000000001E-4},11,2.3000000000000001E-4,0,0,29,null,null,null,null,null,{"$f":"INDEX(#REF!,H21,1)","v":{"$error":"#REF!"}}]
[null,{"$f":"wyniki!O153","v":0},2.1000000000000001E-4,2.1000000000000001E-4,{"$f":"wyniki!A147","v":0},null,21,22,0,{"$f":"LARGE($D$2:$D$41,21)","v":2.2000000000000001E-4},10,2.2000000000000001E-4,0,0,29,null,null,null,null,null,{"$f":"INDEX(#REF!,H22,1)","v":{"$error":"#REF!"}}]
[null,{"$f":"wyniki!O160","v":0},2.2000000000000001E-4,2.2000000000000001E-4,{"$f":"wyniki!A154","v":0},null,22,21,0,{"$f":"LARGE($D$2:$D$41,22)","v":2.1000000000000001E-4},9,2.1000000000000001E-4,0,0,29,null,null,null,null,null,{"$f":"INDEX(#REF!,H23,1)","v":{"$error":"#REF!"}}]
[null,{"$f":"wyniki!O167","v":0},2.3000000000000001E-4,2.3000000000000001E-4,{"$f":"wyniki!A161","v":0},null,23,20,0,{"$f":"LARGE($D$2:$D$41,23)","v":2.0000000000000001E-4},8,2.0000000000000001E-4,0,0,29,null,null,null,null,null,{"$f":"INDEX(#REF!,H24,1)","v":{"$error":"#REF!"}}]
[null,{"$f":"wyniki!O174","v":0},2.4000000000000001E-4,2.4000000000000001E-4,{"$f":"wyniki!A168","v":0},null,24,19,0,{"$f":"LARGE($D$2:$D$41,24)","v":1.9000000000000001E-4},7,1.9000000000000001E-4,0,0,29,null,null,null,null,null,{"$f":"INDEX(#REF!,H25,1)","v":{"$error":"#REF!"}}]
[null,{"$f":"wyniki!O181","v":0},2.5000000000000001E-4,2.5000000000000001E-4,{"$f":"wyniki!A175","v":0},null,25,18,0,{"$f":"LARGE($D$2:$D$41,25)","v":1.8000000000000001E-4},6,1.8000000000000001E-4,0,0,29,null,null,null,null,null,{"$f":"INDEX(#REF!,H26,1)","v":{"$error":"#REF!"}}]
[null,{"$f":"wyniki!O188","v":0},2.5999999999999998E-4,2.5999999999999998E-4,{"$f":"wyniki!A182","v":0},null,26,17,0,{"$f":"LARGE($D$2:$D$41,26)","v":1.7000000000000001E-4},5,1.7000000000000001E-4,0,0,29,null,null,null,null,null,{"$f":"INDEX(#REF!,H27,1)","v":{"$error":"#REF!"}}]
[null,{"$f":"wyniki!O195","v":0},2.7E-4,2.7E-4,{"$f":"wyniki!A189","v":0},null,27,16,0,{"$f":"LARGE($D$2:$D$41,27)","v":1.6000000000000001E-4},4,1.6000000000000001E-4,0,0,29,null,null,null,null,null,{"$f":"INDEX(#REF!,H28,1)","v":{"$error":"#REF!"}}]
[null,{"$f":"wyniki!O202","v":0},2.7999999999999998E-4,2.7999999999999998E-4,{"$f":"wyniki!A196","v":0},null,28,15,0,{"$f":"LARGE($D$2:$D$41,28)","v":1.4999999999999999E-4},3,1.4999999999999999E-4,0,0,29,null,null,null,null,null,{"$f":"INDEX(#REF!,H29,1)","v":{"$error":"#REF!"}}]
[null,{"$f":"wyniki!O209","v":0},2.9E-4,2.9E-4,{"$f":"wyniki!A203","v":0},null,29,14,0,{"$f":"LARGE($D$2:$D$41,29)","v":1.3999999999999999E-4},2,1.3999999999999999E-4,0,0,29,null,null,null,null,null,{"$f":"INDEX(#REF!,H30,1)","v":{"$error":"#REF!"}}]
[null,{"$f":"wyniki!O216","v":0},2.9999999999999997E-4,2.9999999999999997E-4,{"$f":"wyniki!A210","v":0},null,30,13,0,{"$f":"LARGE($D$2:$D$41,30)","v":1.2999999999999999E-4},1,1.2999999999999999E-4,0,0,29,null,null,null,null,null,{"$f":"INDEX(#REF!,H31,1)","v":{"$error":"#REF!"}}]
[null,{"$f":"wyniki!O223","v":0},3.1E-4,3.1E-4,{"$f":"wyniki!A217","v":0},null,31,12,0,{"$f":"LARGE($D$2:$D$41,31)","v":1.2E-4},0,1.2E-4,0,0,29,null,null,null,null,null,{"$f":"INDEX(#REF!,H32,1)","v":{"$error":"#REF!"}}]
[null,{"$f":"wyniki!O230","v":0},3.2000000000000003E-4,3.2000000000000003E-4,{"$f":"wyniki!A224","v":0},null,32,11,0,{"$f":"LARGE($D$2:$D$41,32)","v":1.1E-4},0,1.1E-4,0,0,29,null,null,null,null,null,{"$f":"INDEX(#REF!,H33,1)","v":{"$error":"#REF!"}}]
[null,{"$f":"wyniki!O237","v":0},3.3E-4,3.3E-4,{"$f":"wyniki!A231","v":0},null,33,10,0,{"$f":"LARGE($D$2:$D$41,33)","v":1E-4},0,1E-4,0,0,29,null,null,null,null,null,{"$f":"INDEX(#REF!,H34,1)","v":{"$error":"#REF!"}}]
[null,{"$f":"wyniki!O244","v":0},3.4000000000000002E-4,3.4000000000000002E-4,{"$f":"wyniki!A238","v":0},null,34,8,0,{"$f":"LARGE($D$2:$D$41,34)","v":8.0000000000000007E-5},0,8.0000000000000007E-5,0,0,29,null,null,null,null,null,{"$f":"INDEX(#REF!,H35,1)","v":{"$error":"#REF!"}}]
[null,{"$f":"wyniki!O251","v":0},3.5E-4,3.5E-4,{"$f":"wyniki!A245","v":0},null,35,7,0,{"$f":"LARGE($D$2:$D$41,35)","v":6.9999999999999994E-5},0,6.9999999999999994E-5,0,0,29,null,null,null,null,null,{"$f":"INDEX(#REF!,H36,1)","v":{"$error":"#REF!"}}]
[null,{"$f":"wyniki!O258","v":0},3.6000000000000002E-4,3.6000000000000002E-4,{"$f":"wyniki!A252","v":0},null,36,6,0,{"$f":"LARGE($D$2:$D$41,36)","v":6.0000000000000002E-5},0,6.0000000000000002E-5,0,0,29,null,null,null,null,null,{"$f":"INDEX(#REF!,H37,1)","v":{"$error":"#REF!"}}]
[null,{"$f":"wyniki!O265","v":0},3.6999999999999999E-4,3.6999999999999999E-4,{"$f":"wyniki!A259","v":0},null,37,5,0,{"$f":"LARGE($D$2:$D$41,37)","v":5.0000000000000002E-5},0,5.0000000000000002E-5,0,0,29,null,null,null,null,null,{"$f":"INDEX(#REF!,H38,1)","v":{"$error":"#REF!"}}]
[null,{"$f":"wyniki!O272","v":0},3.8000000000000002E-4,3.8000000000000002E-4,{"$f":"wyniki!A266","v":0},null,38,4,0,{"$f":"LARGE($D$2:$D$41,38)","v":4.0000000000000003E-5},0,4.0000000000000003E-5,0,0,29,null,null,null,null,null,{"$f":"INDEX(#REF!,H39,1)","v":{"$error":"#REF!"}}]
[null,{"$f":"wyniki!O279","v":0},3.8999999999999999E-4,3.8999999999999999E-4,{"$f":"wyniki!A273","v":0},null,39,3,0,{"$f":"LARGE($D$2:$D$41,39)","v":3.0000000000000001E-5},0,3.0000000000000001E-5,0,0,29,null,null,null,null,null,{"$f":"INDEX(#REF!,H40,1)","v":{"$error":"#REF!"}}]
[null,{"$f":"wyniki!O286","v":0},4.0000000000000002E-4,4.0000000000000002E-4,{"$f":"wyniki!A280","v":0},null,40,2,0,{"$f":"LARGE($D$2:$D$41,40)","v":2.0000000000000002E-5},0,2.0000000000000002E-5,"SP1 Siemiatycze","SP1 Siemiatycze",15,null,null,null,null,null,{"$f":"INDEX(#REF!,H41,1)","v":{"$error":"#REF!"}}]

{"sheet":"kolejka","index":10,"n_rows":40,"n_cols":1,"rows_kept":40,"cut":false,"hidden":true,"merged":[]}
[{"$f":"'Suma szkół'!I2","v":"SP 234 Kursk"}]
[{"$f":"'Suma szkół'!I3","v":0}]
[{"$f":"'Suma szkół'!I4","v":0}]
[{"$f":"'Suma szkół'!I5","v":0}]
[{"$f":"'Suma szkół'!I6","v":0}]
[{"$f":"'Suma szkół'!I7","v":0}]
[{"$f":"'Suma szkół'!I8","v":0}]
[{"$f":"'Suma szkół'!I9","v":0}]
[{"$f":"'Suma szkół'!I10","v":0}]
[{"$f":"'Suma szkół'!I11","v":0}]
[{"$f":"'Suma szkół'!I12","v":0}]
[{"$f":"'Suma szkół'!I13","v":0}]
[{"$f":"'Suma szkół'!I14","v":0}]
[{"$f":"'Suma szkół'!I15","v":0}]
[{"$f":"'Suma szkół'!I16","v":0}]
[{"$f":"'Suma szkół'!I17","v":0}]
[{"$f":"'Suma szkół'!I18","v":0}]
[{"$f":"'Suma szkół'!I19","v":0}]
[{"$f":"'Suma szkół'!I20","v":0}]
[{"$f":"'Suma szkół'!I21","v":0}]
[{"$f":"'Suma szkół'!I22","v":0}]
[{"$f":"'Suma szkół'!I23","v":0}]
[{"$f":"'Suma szkół'!I24","v":0}]
[{"$f":"'Suma szkół'!I25","v":0}]
[{"$f":"'Suma szkół'!I26","v":0}]
[{"$f":"'Suma szkół'!I27","v":0}]
[{"$f":"'Suma szkół'!I28","v":0}]
[{"$f":"'Suma szkół'!I29","v":0}]
[{"$f":"'Suma szkół'!I30","v":0}]
[{"$f":"'Suma szkół'!I31","v":0}]
[{"$f":"'Suma szkół'!I32","v":0}]
[{"$f":"'Suma szkół'!I33","v":0}]
[{"$f":"'Suma szkół'!I34","v":0}]
[{"$f":"'Suma szkół'!I35","v":0}]
[{"$f":"'Suma szkół'!I36","v":0}]
[{"$f":"'Suma szkół'!I37","v":0}]
[{"$f":"'Suma szkół'!I38","v":0}]
[{"$f":"'Suma szkół'!I39","v":0}]
[{"$f":"'Suma szkół'!I40","v":0}]
[{"$f":"'Suma szkół'!I41","v":0}]

{"sheet":"wydruk","index":11,"n_rows":316,"n_cols":14,"rows_kept":316,"cut":false,"hidden":false,"merged":[[0,0,0,13]]}
[{"$f":"szkoły!B1","v":"TRÓJBÓJ LEKKOATLETYCZNY DZIEWCZĘTA"}]
["SP 234 Kursk","NAZWISKO/IMIĘ","60m","pkt","ppal","pkt","wzwyż","pkt","w dal","pkt","600m","pkt","I DZIEŃ","RAZEM"]
[null,"zawodnik 1",11.2,19,23.5,31,null,0,234,2,null,0,52,52]
[null,"zawodnik 2",null,0,null,0,null,0,null,0,null,0,0,0]
["52 pkt.","zawodnik 3",null,0,null,0,null,0,null,0,null,0,0,0]
[null,"zawodnik 4",null,0,null,0,null,0,null,0,null,0,0,0]
[null,"zawodnik 5",null,0,null,0,null,0,null,0,null,0,0,0]
[null,0,null,0,null,0,null,0,null,0,null,0,0,0]
[null,null,0,0,0,0,0,0,0,0,0,0,0,0]
[null,null,0,0,0,0,0,0,0,0,0,0,0,0]
[null,null,0,0,0,0]
[]
[]
["SP 234 Kursk","NAZWISKO/IMIĘ","60m","pkt","ppal","pkt","wzwyż","pkt","w dal","pkt","600m","pkt","I DZIEŃ","RAZEM"]
[null,"zawodnik 1",11.2,19,23.5,31,null,0,234,2,null,0,52,52]
[]
[]
[]
[]
[]
[]
[]
[]
[]
[]
[]
[]
[]
[]
[]
[]
[]
[]
[]
[]
[]
[]
[]
[]
[]
[]
[]
[]
[]
[]
[]
[]
[]
[]
[]
[]
[]
[]
[]
[]
[]
[]
[]
[]
[]
[]
[]
[]
[]
[]
[]
[]
[]
[]
[]
[]
[]
[]
[]
[]
[]
[]
[]
[]
[]
[]
[]
[]
[]
[]
[]
[]
[]
[]
[]
[]
[]
[]
[]
[]
[]
[]
[]
[]
[]
[]
[]
[]
[]
[]
[]
[]
[]
[]
[]
[]
[]
[]
[]
[]
[]
[]
[]
[]
[]
[]
[]
[]
[]
[]
[]
[]
[]
[]
[]
[]
[]
[]
[]
[]
[]
[]
[]
[]
[]
[]
[]
[]
[]
[]
[]
[]
[]
[]
[]
[]
[]
[]
[]
[]
[]
[]
[]
[]
[]
[]
[]
[]
[]
[]
[]
[]
[]
[]
[]
[]
[]
[]
[]
[]
[]
[]
[]
[]
[]
[]
[]
[]
[]
[]
[]
[]
[]
[]
[]
[]
[]
[]
[]
[]
[]
[]
[]
[]
[]
[]
[]
[]
[]
[]
[]
[]
[]
[]
[]
[]
[]
[]
[]
[]
[]
[]
[]
[]
[]
[]
[]
[]
[]
[]
[]
[]
[]
[]
[]
[]
[]
[]
[]
[]
[]
[]
[]
[]
[]
[]
[]
[]
[]
[]
[]
[]
[]
[]
[]
[]
[]
[]
[]
[]
[]
[]
[]
[]
[]
[]
[]
[]
[]
[]
[]
[]
[]
[]
[]
[]
[]
[]
[]
[]
[]
[]
[]
[]
[]
[]
[]
[]
[]
[]
[]
[null,"Piekarska Maria",10.53,35,22,28,null,0,323,28,227.22,24,91,115]
[null,"Kołodko Patrycja",10.09,46,21,26,null,0,311,24,229.17,21,96,117]
["SP11 Białystok","NAZWISKO/IMIĘ","60m","pkt","ppal","pkt","wzwyż","pkt","w dal","pkt","600m","pkt","I DZIEŃ","RAZEM"]
[null,"Munkhbat Selenge",10.25,42,17,18,null,0,338,33,239.85,7,93,100]
[null,"Lupińska Monika",9.92,50,18,20,null,0,294,18,227.19,24,88,112]
["535 pkt.","Luczewska Wiktoria",9.24,69,24,32,null,0,373,45,207.56,60,146,206]
[null,"Słuka Jana",9.83,52,22,28,null,0,350,37,254.8,0,117,117]
[null,"Grześkowiak Noemi",10.62,33,18,20,null,0,320,27,256.06,0,80,80]
[null,"Jarząbek Klaudia",10.02,48,18,20,null,0,348,36,224.16,30,104,134]
["SSP nr 1","NAZWISKO/IMIĘ","60m","pkt","ppal","pkt","wzwyż","pkt","w dal","pkt","600m","pkt","I DZIEŃ","RAZEM"]
[null,"Szkobodzińska Patrycja",9.36,64,19,22,null,0,380,47,252.49,0,133,133]
["458  I DZIEŃ","Szwed Sylwia",9.66,57,16,16,null,0,331,31,229.54,21,104,125]
["479  II DZIEŃ","Jakubowska Julia",11.09,22,17,18,null,0,292,18,237.75,10,58,68]
[null,"Biś Gabrysia",9.4600000000000009,62,16,16,null,0,377,46,224.5,29,124,153]
[null,"Niescieruk Zuzanna",11.07,22,12,8,null,0,263,9,254.19,0,39,39]
[null,"Paluchiewicz Karolina",9.77,54,23,30,null,0,333,31,241.5,5,115,120]
["SP5 Białystok ","NAZWISKO/IMIĘ","60m","pkt","ppal","pkt","wzwyż","pkt","w dal","pkt","600m","pkt","I DZIEŃ","RAZEM"]
[null,"Nowacka Oliwia",9.75,54,22,28,null,0,341,34,219.08,39,116,155]
[null,"Wojdakowska Magda",9.7100000000000009,56,14,12,null,0,349,37,256.83,0,105,105]
["461 pkt.","Konon Zuzanna",9.77,54,20,24,null,0,383,48,249.62,0,126,126]
[null,"Dziemiańczyk Zofia",null,0,null,0,null,0,null,0,null,0,0,0]
[null,"Rolińska Gabriela",11,23,19,22,null,0,308,23,239.79,7,68,75]
[null,"Stasiulewicz Julia",9.41,63,16,16,null,0,387,49,313.16000000000003,0,128,128]
[null,null,"SP21 Białystok ","SP26 Białystok ","SP49 Białystok ","SP52 Białystok ","SSP nr 1","SP34 Białystok ","SP37 Białystok ","SP44 Białystok ","SP45 Białystok","SSP3",0,0]
[null,null,0,0,0,0,0,0,0,0,0,0,0,0]
[null,null,0,0,0,0]
[]
[]
["SP3 Białystok","NAZWISKO/IMIĘ","60m","pkt","ppal","pkt","wzwyż","pkt","w dal","pkt","600m","pkt","I DZIEŃ","RAZEM"]
[null,"Dymnicka Natalia",10.19,44,20,24,null,0,354,38,224.08,30,106,136]

{"sheet":"woj_ranking","index":12,"n_rows":38,"n_cols":8,"rows_kept":38,"cut":false,"hidden":true,"merged":[[2,3,2,7]]}
[]
[]
[null,null,null,"Klasyfikacja końcowa czwórboju la - dziewczęta"]
[]
[null,null,null,"Miejsce","Punkty",null,"Szkoła","Opiekun"]
[null,null,null,1,{"$f":"'Suma szkół'!J2","v":52.000010000000003},{"$f":"'Suma szkół'!H2","v":1},{"$f":"'Suma szkół'!I2","v":"SP 234 Kursk"}]
[null,null,null,2,{"$f":"'Suma szkół'!J3","v":8.0000900000000001},{"$f":"'Suma szkół'!H3","v":9},{"$f":"'Suma szkół'!I3","v":0}]
[null,null,null,3,{"$f":"'Suma szkół'!J4","v":4.0000000000000002E-4},{"$f":"'Suma szkół'!H4","v":40},{"$f":"'Suma szkół'!I4","v":0}]
[null,null,null,4,{"$f":"'Suma szkół'!J5","v":3.8999999999999999E-4},{"$f":"'Suma szkół'!H5","v":39},{"$f":"'Suma szkół'!I5","v":0}]
[null,null,null,5,{"$f":"'Suma szkół'!J6","v":3.8000000000000002E-4},{"$f":"'Suma szkół'!H6","v":38},{"$f":"'Suma szkół'!I6","v":0}]
[null,null,null,6,{"$f":"'Suma szkół'!J7","v":3.6999999999999999E-4},{"$f":"'Suma szkół'!H7","v":37},{"$f":"'Suma szkół'!I7","v":0}]
[null,null,null,7,{"$f":"'Suma szkół'!J8","v":3.6000000000000002E-4},{"$f":"'Suma szkół'!H8","v":36},{"$f":"'Suma szkół'!I8","v":0}]
[null,null,null,8,{"$f":"'Suma szkół'!J9","v":3.5E-4},{"$f":"'Suma szkół'!H9","v":35},{"$f":"'Suma szkół'!I9","v":0},{"$f":"'Suma szkół'!U9","v":{"$error":"#REF!"}}]
[null,null,null,9,{"$f":"'Suma szkół'!J10","v":3.4000000000000002E-4},{"$f":"'Suma szkół'!H10","v":34},{"$f":"'Suma szkół'!I10","v":0},{"$f":"'Suma szkół'!U10","v":{"$error":"#REF!"}}]
[null,null,null,10,{"$f":"'Suma szkół'!J11","v":3.3E-4},{"$f":"'Suma szkół'!H11","v":33},{"$f":"'Suma szkół'!I11","v":0},{"$f":"'Suma szkół'!U11","v":{"$error":"#REF!"}}]
[null,null,null,11,{"$f":"'Suma szkół'!J12","v":3.2000000000000003E-4},{"$f":"'Suma szkół'!H12","v":32},{"$f":"'Suma szkół'!I12","v":0},{"$f":"'Suma szkół'!U12","v":{"$error":"#REF!"}}]
[null,null,null,12,{"$f":"'Suma szkół'!J13","v":3.1E-4},{"$f":"'Suma szkół'!H13","v":31},{"$f":"'Suma szkół'!I13","v":0},{"$f":"'Suma szkół'!U13","v":{"$error":"#REF!"}}]
[null,null,null,13,{"$f":"'Suma szkół'!J14","v":2.9999999999999997E-4},{"$f":"'Suma szkół'!H14","v":30},{"$f":"'Suma szkół'!I14","v":0},{"$f":"'Suma szkół'!U14","v":{"$error":"#REF!"}}]
[null,null,null,14,{"$f":"'Suma szkół'!J15","v":2.9E-4},{"$f":"'Suma szkół'!H15","v":29},{"$f":"'Suma szkół'!I15","v":0},{"$f":"'Suma szkół'!U15","v":{"$error":"#REF!"}}]
[null,null,null,15,{"$f":"'Suma szkół'!J16","v":2.7999999999999998E-4},{"$f":"'Suma szkół'!H16","v":28},{"$f":"'Suma szkół'!I16","v":0},{"$f":"'Suma szkół'!U16","v":{"$error":"#REF!"}}]
[null,null,null,16,{"$f":"'Suma szkół'!J17","v":2.7E-4},{"$f":"'Suma szkół'!H17","v":27},{"$f":"'Suma szkół'!I17","v":0},{"$f":"'Suma szkół'!U17","v":{"$error":"#REF!"}}]
[null,null,null,17,{"$f":"'Suma szkół'!J18","v":2.5999999999999998E-4},{"$f":"'Suma szkół'!H18","v":26},{"$f":"'Suma szkół'!I18","v":0},{"$f":"'Suma szkół'!U18","v":{"$error":"#REF!"}}]
[null,null,null,18,{"$f":"'Suma szkół'!J19","v":2.5000000000000001E-4},{"$f":"'Suma szkół'!H19","v":25},{"$f":"'Suma szkół'!I19","v":0},{"$f":"'Suma szkół'!U19","v":{"$error":"#REF!"}}]
[null,null,null,19,{"$f":"'Suma szkół'!J20","v":2.4000000000000001E-4},{"$f":"'Suma szkół'!H20","v":24},{"$f":"'Suma szkół'!I20","v":0},{"$f":"'Suma szkół'!U20","v":{"$error":"#REF!"}}]
[null,null,null,20,{"$f":"'Suma szkół'!J21","v":2.3000000000000001E-4},{"$f":"'Suma szkół'!H21","v":23},{"$f":"'Suma szkół'!I21","v":0},{"$f":"'Suma szkół'!U21","v":{"$error":"#REF!"}}]
[null,null,null,21,{"$f":"'Suma szkół'!J22","v":2.2000000000000001E-4},{"$f":"'Suma szkół'!H22","v":22},{"$f":"'Suma szkół'!I22","v":0},{"$f":"'Suma szkół'!U22","v":{"$error":"#REF!"}}]
[null,null,null,22,{"$f":"'Suma szkół'!J23","v":2.1000000000000001E-4},{"$f":"'Suma szkół'!H23","v":21},{"$f":"'Suma szkół'!I23","v":0},{"$f":"'Suma szkół'!U23","v":{"$error":"#REF!"}}]
[null,null,null,23,{"$f":"'Suma szkół'!J24","v":2.0000000000000001E-4},{"$f":"'Suma szkół'!H24","v":20},{"$f":"'Suma szkół'!I24","v":0},{"$f":"'Suma szkół'!U24","v":{"$error":"#REF!"}}]
[null,null,null,24,{"$f":"'Suma szkół'!J25","v":1.9000000000000001E-4},{"$f":"'Suma szkół'!H25","v":19},{"$f":"'Suma szkół'!I25","v":0},{"$f":"'Suma szkół'!U25","v":{"$error":"#REF!"}}]
[null,null,null,25,{"$f":"'Suma szkół'!J26","v":1.8000000000000001E-4},{"$f":"'Suma szkół'!H26","v":18},{"$f":"'Suma szkół'!I26","v":0},{"$f":"'Suma szkół'!U26","v":{"$error":"#REF!"}}]
[null,null,null,26,{"$f":"'Suma szkół'!J27","v":1.7000000000000001E-4},{"$f":"'Suma szkół'!H27","v":17},{"$f":"'Suma szkół'!I27","v":0},{"$f":"'Suma szkół'!U27","v":{"$error":"#REF!"}}]
[null,null,null,27,{"$f":"'Suma szkół'!J28","v":1.6000000000000001E-4},{"$f":"'Suma szkół'!H28","v":16},{"$f":"'Suma szkół'!I28","v":0},{"$f":"'Suma szkół'!U28","v":{"$error":"#REF!"}}]
[null,null,null,28,{"$f":"'Suma szkół'!J29","v":1.4999999999999999E-4},{"$f":"'Suma szkół'!H29","v":15},{"$f":"'Suma szkół'!I29","v":0},{"$f":"'Suma szkół'!U29","v":{"$error":"#REF!"}}]
[null,null,null,29,{"$f":"'Suma szkół'!J30","v":1.3999999999999999E-4},{"$f":"'Suma szkół'!H30","v":14},{"$f":"'Suma szkół'!I30","v":0},{"$f":"'Suma szkół'!U30","v":{"$error":"#REF!"}}]
[null,null,null,30,{"$f":"'Suma szkół'!J31","v":1.2999999999999999E-4},{"$f":"'Suma szkół'!H31","v":13},{"$f":"'Suma szkół'!I31","v":0},{"$f":"'Suma szkół'!U31","v":{"$error":"#REF!"}}]
[null,null,null,31,{"$f":"'Suma szkół'!J32","v":1.2E-4},{"$f":"'Suma szkół'!H32","v":12},{"$f":"'Suma szkół'!I32","v":0},{"$f":"'Suma szkół'!U32","v":{"$error":"#REF!"}}]
[null,null,null,32,{"$f":"'Suma szkół'!J33","v":1.1E-4},{"$f":"'Suma szkół'!H33","v":11},{"$f":"'Suma szkół'!I33","v":0},{"$f":"'Suma szkół'!U33","v":{"$error":"#REF!"}}]
[null,null,null,33,{"$f":"'Suma szkół'!J34","v":1E-4},{"$f":"'Suma szkół'!H34","v":10},{"$f":"'Suma szkół'!I34","v":0},{"$f":"'Suma szkół'!U34","v":{"$error":"#REF!"}}]

{"sheet":"baza","index":13,"n_rows":203,"n_cols":42,"rows_kept":203,"cut":false,"hidden":true,"merged":[]}
[null,"w dal","p.pal","600m","60m","PKT","60m PR",null,"wzwyż","PKT"]
[null,0,0,0,0,0,null,0,0,0,null,null,null,"wdal",null,"Średni"]
[null,210,8,{"$f":"P3*Q3","v":-245.35},{"$f":"L4*-1","v":-12.75},1,-7.1,77,179,200,null,"krótki",null,210,null,245.35,-1,null,"77,0",null,"Pkt","60 m","60 R","100 m","100R","300m","300R","600m","lOOpl (76,2 cm/8,20)","lO0płR (76,2 cm/8,50)","lOOpl (76,2 cm)","lO0płR (76,2 cm/8,50)","4x100 ","4xlOOR","skok wzwyż","skok w dal","kula        (4 kg)","kula            (3 kg)","dysk (1 kg)","oszczep (600 g)","piłka palant.","Pkt"]
[null,225,9,-244.35,{"$f":"L5*-1","v":-12.62},2,null,76.5,178,199,null,"12,75",null,225,null,244.35,-1,null,"76,5",null,200,"7.38",null,"11.97",null,"40.35","40.1","1:32.11","14.25","14.0","14.25","14.0","47.14","46.9","1.79","5.93","14.03","14.37","43.18","47.96",77,200]
[null,235,9.5,-243.35,-12.5,3,null,null,177,198,null,"12,62",null,235,null,243.35,-1,null,null,null,199,"7.39",null,"11.99",null,"40.43","40.2","1:32.29","14.30",null,"14.30",null,"47.22","47.0","1.78","5.91","13.96","14.30","42.98","47.74",76.5,199]
[null,240,10,-242.65,-12.4,4,null,76,null,197,null,"12,50",null,240,null,242.65,-1,null,"76,0",null,198,"7.40",null,"12.01",null,"40.50","40.3","1:32.48","14.34","14.1","14.34","14.1","47.31","47.1","1.77","5.90","13.89","14.23","42.76","47.52",null,198]
[null,245,10.5,-241.85,-12.3,5,null,null,176,196,null,"12,40",null,245,null,241.85,-1,null,null,null,197,"7.42",null,"12.04","11.8","40.57",null,"1:32.67","14.38",null,"14.38",null,"47.39","47.2",null,"5.88","13.82","14.17","42.56","47.32",76,197]
[null,250,11,-241.05,-12.2,6,-7.2,75.5,null,195,null,"12,30",null,250,null,241.05,-1,null,"75,5",null,196,"7.43",null,"12.06",null,"40.64","40.4","1:32.86","14.42","14.2","14.42","14.2","47.48","47.3","1.76","5.87","13.76","14.10","42.36","47.10",null,196]
[null,255,11.5,-240.25,-12.12,7,null,null,175,194,null,"12,20",null,255,null,240.25,-1,null,null,null,195,"7.44","7.2","12.08",null,"40.71","40.5","1:33.05","14.46",null,"14.46",null,"47.57",null,null,"5.85","13.69","14.03","42.16","46.88",75.5,195]
[null,259,12,-239.45,-12.04,8,null,75,null,193,null,"12,12",null,259,null,239.45,-1,null,"75,0",null,194,"7.46",null,"12.10",null,"40.78",null,"1:33.24","14.50",null,"14.50",null,"47.65","47.4","1.75","5.84","13.62","13.96","41.96","46.66",null,194]
[null,263,12.5,-238.65,-11.96,9,null,74.5,174,192,null,"12,04",null,263,null,238.65,-1,null,"74,5",null,193,"7.47",null,"12.12",null,"40.85","40.6","1:33.43","14.54","14.3","14.54","14.3","47.74","47.5",null,"5.83","13.55","13.89","41.76","46.44",75,193]
[null,267,13,-237.85,-11.88,10,null,null,null,191,null,"11,96",null,267,null,237.85,-1,null,null,null,192,"7.48",null,"12.14","11.9","40.92","40.7","1:33.62","14.59",null,"14.59",null,"47.83","47.6","1.74","5.81","13.48","13.82","41.56","46.22",74.5,192]
[null,271,13.5,-237.05,-11.8,11,null,74,null,190,null,"11,88",null,271,null,237.05,-1,null,"74,0",null,191,"7.50",null,"12.17",null,"40.99","40.8","1:33.81","14.63","14.4","14.63","14.4","47.91","47.7",null,"5.80","13.41","13.76","41.34","46.02",null,191]
[null,274,14,-236.25,-11.72,12,null,null,173,189,null,"11,80",null,274,null,236.25,-1,null,null,null,190,"7.51",null,"12.19",null,"41.06",null,"1:34.00","14.67",null,"14.67",null,"48.00","47.8",null,"5.78","13.35","13.69","41.14","45.80",74,190]
[null,277,14.5,-235.45,-11.64,13,null,73.5,null,188,null,"11,72",null,277,null,235.45,-1,null,"73,5",null,189,"7.52",null,"12.21",null,"41.13","40.9","1:34.19","14.71",null,"14.71",null,"48.09","47.9","1.73","5.77","13.28","13.62","40.94","45.58",null,189]
[null,280,15,-234.65,-11.56,14,-7.3,null,172,187,null,"11,64",null,280,null,234.65,-1,null,null,null,188,"7.54",null,"12.23","12.0","41.20","41.0","1:34.39","14.75","14.5","14.75","14.5","48.18","48.0",null,"5.76","13.21","13.55","40.74","45.36",73.5,188]
[null,283,15.5,-233.85,-11.49,15,null,73,null,186,null,"11,56",null,283,null,233.85,-1,null,"73,0",null,187,"7.55","7.3","12.26",null,"41.27",null,"1:34.58","14.80",null,"14.80",null,"48.26",null,"1.72","5.74","13.14","13.48","40.54","45.14",null,187]
[null,286,16,-233.15,-11.43,16,null,72.5,171,185,null,"11,49",null,286,null,233.15,-1,null,"72,5",null,186,"7.56",null,"12.28",null,"41.34","41.1","1:34.77","14.84","14.6","14.84","14.6","48.35","48.1",null,"5.73","13.07","13.41","40.34","44.92",73,186]
[null,289,16.5,-232.45,-11.37,17,null,null,null,184,null,"11,43",null,289,null,232.45,-1,null,null,null,185,"7.58",null,"12.30",null,"41.41","41.2","1:34.97","14.88",null,"14.88",null,"48.44","48.2","1.71","5.71","13.01","13.35","40.12","44.72",72.5,185]
[null,292,17,-231.75,-11.31,18,null,72,170,183,null,"11,37",null,292,null,231.75,-1,null,"72,0",null,184,"7.59",null,"12.32",null,"41.48",null,"1:35.17","14.92","14.7","14.92","14.7","48.53","48.3",null,"5.70","12.94","13.28","39.92","44.50",null,184]
[null,295,17.5,-231.05,-11.25,19,null,null,null,182,null,"11,31",null,295,null,231.05,-1,null,null,null,183,"7.60",null,"12.34 ","12.1","41.55","41.3","1:35.36","14.96",null,"14.96",null,"48.62","48.4","1.70","5.68","12.87","13.21","39.72","44.28",72,183]
[null,298,18,-230.35,-11.19,20,null,71.5,169,181,null,"11,25",null,298,null,230.35,-1,null,"71,5",null,182,"7.62",null,"12.37",null,"41.63","41.4","1:35.56","15.01",null,"15.01",null,"48.71","48.5",null,"5.67","12.80","13.14","39.52","44.06",null,182]
[null,301,18.5,-229.65,-11.14,21,-7.4,71,null,180,null,"11,19",null,301,null,229.65,-1,null,"71,0",null,181,"7.63",null,"12.39",null,"41.70","41.5","1:35.76","15.05","14.8","15.05","14.8","48.80","48.6","1.69","5.65","12.73","13.07","39.32","43.84",71.5,181]
[null,304,19,-228.95,-11.09,22,null,null,168,179,null,"11,14",null,304,null,228.95,-1,null,null,null,180,"7.64","7.4","12.41",null,"41.77",null,"1:35.95","15.09",null,"15.09",null,"48.89","48.7",null,"5.64","12.66","13.01","39.12","43.62",71,180]
[null,307,19.5,-228.3,-11.04,23,null,70.5,null,178,null,"11,09",null,307,null,228.3,-1,null,"70,5",null,179,"7.66",null,"12.44 ","12.2","41.84","41.6","1:36.15","15.14","14.9","15.14","14.9","48.98","48.8","1.68","5.63","12.60","12.94","38.90","43.42",null,179]
[null,310,20,-227.7,-10.99,24,null,null,167,177,null,"11,04",null,310,null,227.7,-1,null,null,null,178,"7.67",null,"12.46",null,"41.92","41.7","1:36.35","15.18",null,"15.18",null,"49.07","48.9",null,"5.61","12.53","12.87","38.70","43.20",70.5,178]
[null,313,20.5,-227.1,-10.95,25,null,70,null,176,null,"10,99",null,313,null,227.1,-1,null,"70,0",null,177,"7.68",null,"12.48",null,"41.99","41.8","1:36.55","15.22","15.0","15.22","15.0","49.16",null,"1.67","5.60","12.46","12.80","38.50","42.98",null,177]
[null,316,21,-226.5,-10.91,26,null,69.5,null,175,null,"10,95",null,316,null,226.5,-1,null,"69,5",null,176,"7.70",null,"12.50",null,"42.06",null,"1:36.75","15.27",null,"15.27",null,"49.25","49.0",null,"5.58","12.39","12.73","38.30","42.76",70,176]
[null,319,21.5,-225.95,-10.87,27,null,null,166,174,null,"10,91",null,319,null,225.95,-1,null,null,null,175,"7.71",null,"12.53",null,"42.13","41.9","1:36.95","15.31",null,"15.31",null,"49.34","49.1",null,"5.57","12.32","12.66","38.10","42.54",69.5,175]
[null,322,22,-225.4,-10.83,28,null,69,null,173,null,"10,87",null,322,null,225.4,-1,null,"69,0",null,174,"7.73",null,"12.55","12.3","42.21","42.0","1:37.16","15.35","15.1","15.35","15.1","49.43","49.2","1.66","5.55","12.25","12.60","37.90","42.32",null,174]
[null,325,22.5,-224.85,-10.79,29,null,null,165,172,null,"10,83",null,325,null,224.85,-1,null,null,null,173,"7.74","7.5","12.57",null,"42.28","42.1","1:37.36","15.40",null,"15.40",null,"49.52","49.3",null,"5.54","12.19","12.53","37.68","42.10",69,173]
[null,328,23,-224.3,-10.75,30,null,68.5,null,171,null,"10,79",null,328,null,224.3,-1,null,"68,5",null,172,"7.76",null,"12.60",null,"42.36",null,"1:37.56","15.44","15.2","15.44","15.2","49.61","49.4","1.65","5.52","12.12","12.46","37.48","41.90",null,172]
[null,331,23.5,-223.75,-10.71,31,-7.5,68,164,170,null,"10,75",null,331,null,223.75,-1,null,"68,0",null,171,"7.77",null,"12.62",null,"42.43","42.2","1:37.77","15.48",null,"15.48",null,"49.70","49.5",null,"5.51","12.05","12.39","37.28","41.68",68.5,171]
[null,334,24,-223.2,-10.67,32,null,null,null,169,null,"10,71",null,334,null,223.2,-1,null,null,null,170,"7.79",null,"12.64","12.4","42.50","42.3","1:37.97","15.53","15.3","15.53","15.3","49.80","49.6","1.64","5.49","11.98","12.32","37.08","41.46",68,170]
[null,337,24.5,-222.65,-10.63,33,null,67.5,163,168,null,"10,67",null,337,null,222.65,-1,null,"67,5",null,169,"7.80",null,"12.67",null,"42.58","42.4","1:38.18","15.57",null,"15.59",null,"49.89","49.7",null,"5.48","11.87","12.21","36.81","41.14",null,169]
[null,340,25,-222.1,-10.59,34,null,null,null,167,null,"10,63",null,340,null,222.1,-1,null,null,null,168,"7.82",null,"12.70",null,"42.66",null,"1:38.46","15.62","15.4","15.65","15.4","49.98","49.8","1.63","5.47","11.77","12.10","36.54","40.82",67.5,168]
[null,343,25.5,-221.55,-10.55,35,null,67,162,166,null,"10,59",null,343,null,221.55,-1,null,"67,0",null,167,"7.84","7.6","12.73","12.5","42.74","42.5","1:38.74","15.67",null,"15.72","15.5","50.07","49.9",null,"5.46","11.66","11.99","36.27","40.50",null,167]
[null,346,26,-221,-10.51,36,null,null,null,165,null,"10,55",null,346,null,221,-1,null,null,null,166,"7.86",null,"12.76",null,"42.82","42.6","1:38.98","15.72","15.5","15.78",null,"50.17","50.0","1.62","5.45","11.55","11.88","36.00","40.18",67,166]
[null,349,26.5,-220.45,-10.47,37,null,66.5,161,164,null,10.51,null,349,null,220.45,-1,null,"66,5",null,165,"7.88",null,"12.79",null,"42.90","42.7","1:39.26","15.78",null,"15.85","15.6","50.26",null,null,"5.44","11.45","11.77","35.73","39.86",null,165]
[null,352,null,-219.9,-10.43,38,null,66,null,163,null,10.47,null,352,null,219.9,-1,null,"66,0",null,164,"7.90",null,"12.82",null,"42.98","42.8","1:39.54","15.84","15.6","15.91","15.7","50.35","50.1","1.61","5.43","11.34","11.66","35.46","39.54",66.5,164]
[null,355,27,-219.35,-10.39,39,null,null,160,162,null,10.43,null,355,null,219.35,-1,null,null,null,163,"7.92",null,"12.85","12.6","43.06",null,"1:39.82","15.90","15.7","15.97",null,"50.45","50.2",null,"5.42","11.23","11.55","35.19","39.22",66,163]
[null,358,27.5,-218.8,-10.35,40,null,65.5,null,161,null,10.39,null,358,null,218.8,-1,null,"65,5",null,162,"7.94",null,"12.88",null,"43.14","42.9","1:40.10","15.96",null,"16.03","15.8","50.54","50.3","1.60","5.41","11.13","11.44","34.92","38.90",null,162]
[null,361,28,-218.25,-10.31,41,-7.6,null,null,160,null,10.35,null,361,null,218.25,-1,null,null,null,161,"7.95","7.7","12.90",null,"43.23","43.0","1:40.38","16.02","15.8","16.09",null,"50.64","50.4",null,"5.39","11.02","11.33","34.65","38.58",65.5,161]
[null,364,null,-217.7,-10.27,42,null,65,159,159,null,10.31,null,364,null,217.7,-1,null,"65,0",null,160,"7.96",null,"12.92",null,"43.32","43.1","1:40.66","16.08",null,"16.15","15.9","50.73","50.5",null,"5.38","10.91","11.22","34.38","38.26",null,160]
[null,367,28.5,-217.15,-10.23,43,null,64.5,null,158,null,10.27,null,367,null,217.15,-1,null,"64,5",null,159,"7.98",null,"12.94","12.7","43.41","43.2","1:40.94","16.14","15.9","16.21","16.0","50.83","50.6","1.59","5.36","10.81","11.11","34.11","37.94",65,159]
[null,370,29,-216.6,-10.19,44,null,null,158,157,null,10.23,null,370,null,216.6,-1,null,null,null,158,"7.99",null,"12.97",null,"43.50","43.3","1:41.22","16.19",null,"16.27",null,"50.92","50.7",null,"5.34","10.70","11.00","33.84","37.62",64.5,158]
[null,373,29.5,-216.05,-10.15,45,null,64,null,156,null,10.19,null,373,null,216.05,-1,null,"64,0",null,157,"8.00",null,"13.00",null,"43.59","43.4","1:41.50","16.25","16.0","16.33","16.1","51.02","50.8","1.58","5.32","10.60","10.89","33.57","37.30",null,157]
[null,376,null,-215.5,-10.11,46,null,null,157,155,null,10.15,null,376,null,215.5,-1,null,null,null,156,"8.02",null,"13.03","12.8","43.68","43.5","1:41.78","16.31","16.1","16.39",null,"51.11","50.9",null,"5.30","10.49","10.78","33.30","36.98",64,156]
[null,379,30,-214.95,-10.07,47,null,63.5,null,154,null,10.11,null,379,null,214.95,-1,null,"63,5",null,155,"8.03",null,"13.06",null,"43.77","43.6","1:42.06","16.37",null,"16.45","16.2","51.21","51.0","1.57","5.27","10.39","10.67","33.03","36.66",null,155]
[null,382,30.5,-214.4,-10.029999999999999,48,null,63,156,153,null,10.07,null,382,null,214.4,-1,null,"63,0",null,154,"8.04","7.8","13.08",null,"43.86","43.7","1:42.34","16.43","16.2","16.51","16.3","51.31","51.1",null,"5.24","10.28","10.56","32.76","36.34",63.5,154]
[null,385,31,-213.85,-9.9899999999999896,49,null,null,null,152,null,10.029999999999999,null,385,null,213.85,-1,null,null,null,153,"8.06",null,"13.10",null,"43.96","43.8","1:42.62","16.48",null,"16.58",null,"51.40",null,"1.56","5.21","10.20","10.48","32.40","36.02",63,153]
[null,388,null,-213.3,-9.9499999999999904,50,null,null,null,151,null,9.9899999999999896,null,388,null,213.3,-1,null,null,null,152,"8.07",null,"13.12",null,"44.06","43.9","1:42.80","16.52",null,"16.63","16.4","51.45","51.2",null,"5.19","10.17","10.44","32.15","35.84",null,152]
[null,391,31.5,-212.75,-9.9099999999999895,51,-7.7,62.5,155,150,null,9.9499999999999904,null,391,null,212.75,-1,null,"62,5",null,151,"8.09",null,"13.14","12.9","44.16","44.0","1:42.95","16.55","16.3","16.67",null,"51.51","51.3",null,"5.18","10.14","10.40","31.95","35.68",null,152]
[null,394,32,-212.2,-9.8699999999999903,52,null,null,null,149,null,9.9099999999999895,null,394,null,212.2,-1,null,null,null,150,"8.11",null,"13.16",null,"44.26","44.1","1:43.10","16.57",null,"16.71",null,"51.57",null,"1.55","5.17","10.10","10.36","31.75","35.52",62.5,150]
[null,397,32.5,-211.65,-9.8299999999999894,53,null,null,154,148,null,9.8699999999999903,null,397,null,211.65,-1,null,null,null,149,"8.12",null,"13.18",null,"44.36","44.2","1:43.25","16.59",null,"16.75","16.5","51.63","51.4",null,"5.16","10.05","10.32","31.55","35.36",null,149]
[null,399,33,-211.1,-9.7899999999999903,54,null,62,null,147,null,9.8299999999999894,null,399,null,211.1,-1,null,"62,0",null,148,"8.13",null,"13.20",null,"44.44",null,"1:43.40","16.61",null,"16.78",null,"51.69",null,null,"5.15","10.00","10.28","31.35","35.22",null,148]
[null,401,null,-210.55,-9.7499999999999893,55,null,null,153,146,null,9.7899999999999903,null,401,null,210.55,-1,null,null,null,147,"8.15","7.9","13.22",null,"44.52","44.3","1:43.55","16.64","16.4","16.81",null,"51.75","51.5","1.54","5.14","9.95","10.24","31.15","35.08",62,147]
[null,403,33.5,-210,-9.7100000000000009,56,null,null,null,145,null,9.7499999999999893,null,403,null,210,-1,null,null,null,146,"8.16",null,"13.24","13.0","44.58",null,"1:43.70","16.66",null,"16.84","16.6","51.81","51.6",null,"5.13","9.90","10.20","30.95","34.94",null,146]
[null,405,34,-209.45,-9.67,57,null,61.5,152,144,null,9.7100000000000009,null,405,null,209.45,-1,null,"61,5",null,145,"8.17",null,"13.26",null,"44.64","44.4","1:43.80","16.69",null,"16.87",null,"51.87",null,null,"5.12","9.85","10.16","30.75","34.80",null,145]
[null,407,34.5,-208.9,-9.6300000000000008,58,null,null,null,143,null,9.67,null,407,null,208.9,-1,null,null,null,144,"8.19",null,"13.28",null,"44.70",null,"1:43.90","16.71",null,"16.90",null,"51.93","51.7","1.53",null,"9.80","10.12","30.55","34.68",61.5,144]
[null,409,35,-208.35,-9.59,59,null,null,null,142,null,9.6300000000000008,null,409,null,208.35,-1,null,null,null,143,"8.20",null,"13.30",null,"44.75","44.5","1:44.00","16.73",null,"16.92",null,"51.99",null,null,"5.11","9.75","10.08","30.35","34.56",null,143]
[null,411,null,-207.8,-9.5500000000000007,60,null,61,151,141,null,9.59,null,411,null,207.8,-1,null,"61,0",null,142,"8.21",null,"13.32",null,"44.80",null,"1:44.10","16.75","16.5","16.94","16.7","52.04","51.8",null,"5.10","9.70","10.04","30.15","34.44",null,142]
[null,413,35.5,-207.25,-9.51,61,-7.8,null,null,140,null,9.5500000000000007,null,413,null,207.25,-1,null,null,null,141,"8.22",null,"13.34","13.1","44.85","44.6","1:44.20","16.77",null,"16.96",null,"52.09",null,"1.52","5.09","9.65","10.00","29.95","34.32",61,141]
[null,415,36,-206.7,-9.4700000000000006,62,null,60.5,null,139,null,9.51,null,415,null,206.7,-1,null,"60,5",null,140,"8.23",null,"13.36",null,"44.90",null,"1:44.30","16.79",null,"16.98",null,"52.14","51.9",null,null,"9.60","9.96","29.75","34.20",null,140]
[null,417,36.5,-206.15,-9.43,63,null,null,150,138,null,9.4700000000000006,null,417,null,206.15,-1,null,null,null,139,"8.25","8.0","13.38",null,"44.95","44.7","1:44.40","16.81",null,"17.00",null,"52.19",null,null,"5.08","9.55","9.92","29.55","34.08",60.5,139]
[null,419,null,-205.6,-9.39,64,null,60,null,137,null,9.43,null,419,null,205.6,-1,null,"60,0",null,138,"8.26",null,"13.40",null,"45.00",null,"1:44.50","16.83",null,"17.02",null,"52.24","52.0","1.51","5.07","9.50","9.88","29.35","33.94",null,138]
[null,421,37,{"$f":"P67*Q67","v":-205.05},-9.35,65,null,null,null,136,null,9.39,null,421,null,205.05,-1,null,null,null,137,"8.27",null,"13.42",null,"45.05","44.8","1:44.60","16.85","16.6","17.04","16.8","52.29",null,null,"5.06","9.45","9.84","29.15","33.80",60,137]
[null,423,37.5,-204.5,{"$f":"L69*-1","v":-9.32},66,null,59.5,149,135,null,9.35,null,423,null,204.5,-1,null,"59,5",null,136,"8.29",null,"13.44","13.2","45.10",null,"1:44.70","16.87",null,"17.06",null,"52.34","52.1",null,null,"9.40","9.80","28.95","33.66",null,136]
[null,425,38,-203.95,-9.3000000000000007,67,null,null,null,134,null,9.32,null,425,null,203.95,-1,null,null,null,135,"8.30",null,"13.46",null,"45.15","44.9","1:44.80","16.89",null,"17.08",null,"52.39",null,"1.50","5.05","9.35","9.76","28.76","33.52",59.5,135]
[null,427,null,-203.4,-9.2799999999999994,68,-7.9,59,null,133,null,9.3000000000000007,null,427,null,203.4,-1,null,"59,0",null,134,"8.32",null,"13.48",null,"45.20",null,"1:44.90","16.91",null,"17.10",null,"52.44","52.2",null,"5.04","9.30","9.72","28.58","33.38",null,134]
[null,429,38.5,-202.85,-9.26,69,null,null,148,132,null,9.2799999999999994,null,729,null,202.85,-1,null,null,null,133,"8.33",null,"13.50",null,"45.25","45.0","1:45.00","16.93",null,"17.12",null,"52.49",null,null,"5.03","9.25","9.69","28.40","33.24",59,133]
[null,431,39,-202.35,-9.23,70,null,58.5,null,131,null,9.26,null,431,null,202.35,-1,null,"58,5",null,132,"8.34",null,"13.52",null,"45.30",null,"1:45.10","16.95","16.7","17.14","16.9","52.54","52.3",null,null,"9.20","9.66","28.22","33.10",null,132]
[null,433,39.5,-201.85,-9.1999999999999993,71,null,null,null,130,null,9.23,null,433,null,201.85,-1,null,null,null,131,"8.35","8.1","13.55","13.3","45.34","45.1","1:45.20","16.97",null,"17.16",null,"52.59",null,"1.49","5.02","9.15","9.62","28.04","32.96",58.5,131]
[null,435,null,-201.35,-9.16,72,null,58,147,129,null,9.1999999999999993,null,435,null,201.35,-1,null,"58,0",null,130,"8.36",null,"13.57",null,"45.38",null,"1:45.30","16.99",null,"17.18",null,"52.64","52.4",null,"5.01","9.10","9.59","27.86","32.82",null,130]
[null,437,40,-200.85,-9.1300000000000008,73,null,null,null,128,null,9.16,null,437,null,200.85,-1,null,null,null,129,"8.38",null,"13.59",null,"45.42",null,"1:45.40","17.01",null,"17.20",null,"52.69",null,null,"5.00","9.04","9.55","27.68","32.68",58,140]
[null,439,40.5,-200.35,-9.1,74,null,57.5,null,127,null,9.1300000000000008,null,439,null,200.35,-1,null,"57,5",null,128,"8.39",null,"13.61",null,"45.45","45.2","1:45.50","17.03",null,"17.22",null,"52.74","52.5",null,null,"8.97","9.52","27.50","32.54",null,139]
[null,442,41,-159.85,-9.07,75,null,null,146,126,null,9.1,null,442,null,159.85,-1,null,null,null,127,"8.40",null,"13.63",null,"45.49",null,"1:45.60","17.05","16.8","17.23",null,"52.79",null,"1.48","4.99","8.91","9.48","27.33","32.40",57.5,138]
[null,445,null,-159.35,-9.0500000000000007,76,null,57,null,125,null,9.07,null,445,null,159.35,-1,null,"57,0",null,126,"8.41",null,"13.65","13.4","45.53","45.3","1:45.70","17.07",null,"17.25","17.0","52.84","52.6",null,"4.98","8.86","9.44","27.16","32.26",null,137]
[null,447,41.5,-158.85,-9.02,77,-8,null,null,124,null,9.0500000000000007,null,447,null,158.85,-1,null,null,null,125,"8.42",null,"13.66",null,"45.57",null,"1:45.80","17.09",null,"17.26",null,"52.89",null,null,"4.97","8.81","9.40","26.99","32.12",57,136]
[null,449,42,-158.35,-9,78,null,56.5,145,123,null,9.02,null,449,null,158.35,-1,null,"56,5",null,124,"8.43",null,"13.68",null,"45.61",null,"1:45.90","17.11",null,"17.27",null,"52.94","52.7",null,null,"8.77","9.36","26.82","31.98",null,135]
[null,451,42.5,-157.85,-8.9700000000000006,79,null,null,null,122,null,9,null,451,null,157.85,-1,null,null,null,123,"8.44",null,"13.70",null,"45.65","45.4","1:46.00","17.13",null,"17.28",null,"52.99",null,"1.47","4.96","8.73","9.33","26.65","31.84",56.5,123]
[null,453,null,-157.30000000000001,-8.9499999999999993,80,null,56,null,121,null,8.9700000000000006,null,453,null,157.30000000000001,-1,null,"56,0",null,122,"8.45","8.2","13.72",null,"45.70",null,"1:46.10","17.15","16.9","17.29",null,"53.04","52.8",null,"4.95","8.69","9.29","26.48","31.70",null,122]
[null,455,43,-156.75,-8.93,81,null,null,144,120,null,8.9499999999999993,null,455,null,156.75,-1,null,null,null,121,"8.46",null,"13.73",null,"45.75","45.5","1:46.20","17.17",null,"17.30",null,"53.09",null,null,"4.94","8.65","9.25","26.31","31.56",56,121]
[null,456,43.5,-156.15,-8.91,82,null,55.5,null,119,null,8.93,null,456,null,156.15,-1,null,"55,5",null,120,"8.47",null,"13.75","13.5","45.80",null,"1:46.30","17.19",null,"17.31",null,"53.14","52.9",null,null,"8.61","9.21","26.14","31.42",null,120]
[null,458,44,-155.55000000000001,-8.89,83,null,null,null,118,null,8.91,null,458,null,155.55000000000001,-1,null,null,null,119,"8.48",null,"13.77",null,"45.85","45.6","1:46.40","17.21",null,"17.32",null,"53.19",null,"1.46","4.93","8.58","9.18","25.97","31.28",55.5,119]
[null,459,null,-154.94999999999999,-8.8699999999999992,84,null,55,143,117,null,8.89,null,459,null,154.94999999999999,-1,null,"55,0",null,118,"8.49",null,"13.79",null,"45.90",null,"1:46.50","17.23",null,"17.33",null,"53.24","53.0",null,"4.92","8.55","9.14","25.80","31.14",null,119]
[null,461,44.5,-154.35,-8.84,85,null,null,null,116,null,8.8699999999999992,null,461,null,154.35,-1,null,null,null,117,"8.50",null,"13.80",null,"45.95","45.7","1:46.60","17.25","17.0","17.34",null,"53.29",null,null,"4.91","8.52","9.11","25.65","31.00",55,117]
[null,462,45,-153.75,-8.81,86,null,54.5,null,115,null,8.84,null,462,null,153.75,-1,null,"54,5",null,116,"8.51",null,"13.82",null,"46.00",null,"1:46.70","17.27",null,"17.35","17.1","53.34","53.1",null,null,"8.49","9.07","25.50","30.86",null,116]
[null,463,45.5,-153.19999999999999,-8.7799999999999994,87,-8.1,null,142,114,null,8.81,null,463,null,153.19999999999999,-1,null,null,null,115,"8.52",null,"13.84","13.6","46.05","45.8","1:46.80","17.29",null,"17.36",null,"53.39",null,"1.45","4.90","8.46","9.04","25.35","30.72",54.5,115]
[null,464,null,-152.69999999999999,-8.75,88,null,54,null,113,null,8.7799999999999994,null,464,null,152.69999999999999,-1,null,"54,0",null,114,"8.53",null,"13.86",null,"46.10","45.9","1:46.90","17.31",null,"17.37",null,"53.44","53.2",null,"4.89","8.43","9.00","25.20","30.58",null,114]
[null,466,46,-152.19999999999999,-8.7200000000000006,89,null,null,null,112,null,8.75,null,466,null,152.19999999999999,-1,null,null,null,113,"8.54","8.3","13.87",null,"46.17",null,"1:47.00","17.33",null,"17.38",null,"53.49",null,null,"4.88","8.40","8.97","25.05","30.44",54,113]
[null,467,46.5,-151.75,-8.69,90,null,53.5,141,111,null,8.7200000000000006,null,467,null,151.75,-1,null,"53,5",null,112,"8.56",null,"13.89",null,"46.24","46.0","1:47.10","17.34",null,"17.39",null,"53.54","53.3",null,null,"8.37","8.94","24.90","30.30",null,112]
[null,468,47,-151.30000000000001,-8.6600000000000108,91,null,null,null,110,null,8.69,null,468,null,151.30000000000001,-1,null,null,null,111,"8.57",null,"13.91",null,"46.31","46.1","1:47.20","17.35","17.1","17.40",null,"53.60","53.4",null,"4.87","8.34","8.90","24.75","30.16",53.5,111]
[null,469,null,-150.9,-8.6400000000000095,92,null,53,null,109,null,8.6600000000000108,null,469,null,150.9,-1,-11.6,"53,0",null,110,"8.58",null,"13.93",null,"46.38",null,"1:47.30","17.37",null,"17.41",null,"53.66",null,"1.44","4.86","8.31","8.87","24.60","30.02",null,110]
[null,470,47.5,-150.5,-8.6199999999999992,93,null,52.5,140,108,null,8.6400000000000095,null,470,null,150.5,-1,-11.45,"52,5",null,109,"8.60",null,"13.95","13.7","46.45","46.2","1:47.40","17.39",null,"17.42",null,"53.72","53.5",null,"4.85","8.28","8.83","24.45","29.88",53,109]
[null,471,48,-150.15,-8.6,94,null,null,null,107,null,8.6199999999999992,null,471,null,150.15,-1,-11.3,null,null,108,"8.61",null,"13.97",null,"46.52","46.3","1:47.50","17.41",null,"17.43",null,"53.78",null,null,null,"8.25","8.80","24.30","29.74",52.5,108]
[null,472,48.5,-149.80000000000001,-8.58,95,null,52,null,106,null,8.6,null,472,null,149.80000000000001,-1,-11.2,"52,0",null,107,"8.62",null,"13.99",null,"46.59","46.4","1:47.60","17.42",null,"17.44",null,"53.84","53.6",null,"4.84","8.22","8.76","24.15","29.60",null,107]
[null,473,null,-149.5,-8.56,96,null,null,139,105,null,8.58,null,473,null,149.5,-1,-11.15,null,null,106,"8.64",null,"14.01",null,"46.66",null,"1:47.70","17.44",null,"17.45","17.2","53.90","53.7","1.43","4.83","8.19","8.73","24.00","29.45",52,106]
[null,474,49,-149.19999999999999,-8.5399999999999991,97,-8.1999999999999993,51.5,null,104,null,8.56,null,474,null,149.19999999999999,-1,-11.1,"51,5",null,105,"8.65","8.4","14.03",null,"46.73","46.5","1:47.80","17.45","17.2","17.46",null,"53.98",null,null,"4.82","8.16","8.69","23.85","29.30",null,105]
[null,475,49.5,-148.9,-8.52,98,null,51,null,103,null,8.5399999999999991,null,475,null,148.9,-1,-11.05,"51,0",null,104,"8.67",null,"14.05","13.8","46.80","46.6","1:47.90","17.47",null,"17.47",null,"54.06","53.8",null,"4.81","8.13","8.66","23.70","29.15",51.5,104]
[null,476,null,-148.6,-8.5,99,null,null,138,102,null,8.52,null,476,null,148.6,-1,-11,null,null,103,"8.68",null,"14.07",null,"46.90","46.7","1:47.99","17.48",null,"17.48",null,"54.14","53.9","1.42","4.80","8.10","8.62","23.56","29.00",51,103]
[null,477,50,-148.4,-8.49,100,null,50.5,null,101,null,8.5,null,477,null,148.4,-1,-10.95,"50,5",null,102,"8.70",null,"14.09",null,"47.01","46.8","1:48.08","17.50",null,"17.50",null,"54.24","54.0",null,"4.79","8.07","8.59","23.42","28.85",null,102]
[null,478,50.5,-148.19999999999999,-8.48,101,null,50,null,100,null,8.49,null,478,null,148.19999999999999,-1,-10.9,"50,0",null,101,"8.71",null,"14.12",null,"47.15","46.9","1:48.20","17.52",null,"17.52",null,"54.34","54.1",null,"4.78","8.04","8.55","23.28","28.70",50.5,101]
[null,479,null,-148.08000000000001,-8.4700000000000006,102,null,null,137,99,null,8.48,null,479,null,148.08000000000001,-1,-10.85,null,null,100,"8.72",null,"14.15","13.9","47.30","47.1","1:48.40","17.54","17.3","17.54","17.3","54.44","54.2","1.41","4.77","8.01","8.52","23.14","28.55",50,100]
[null,480,51,-147.99,-8.4499999999999993,103,null,49.5,null,98,null,8.4700000000000006,null,480,null,147.99,-1,-10.8,"49,5",null,99,"8.74","8.5","14.18",null,"47.50","47.3","1:48.60","17.56",null,"17.57",null,"54.56","54.4",null,"4.76","7.98","8.49","23.00","28.40",null,99]
[null,481,51.5,-147.9,-8.4299999999999908,104,-8.3000000000000007,49,null,97,null,8.4499999999999993,null,481,null,147.9,-1,-10.75,"49,0",null,98,"8.76",null,"14.21",null,"47.65","47.4","1:48.90","17.59",null,"17.61",null,"54.68","54.5",null,"4.75","7.95","8.46","22.88","28.28",49.5,98]
[null,482,null,-147.80000000000001,-8.4199999999999893,105,null,null,136,96,null,8.4299999999999908,null,482,null,147.80000000000001,-1,-10.7,null,null,97,"8.78",null,"14.24","14.0","47.85","47.6","1:49.20","17.62",null,"17.65","17.4","54.80","54.6","1.40","4.74","7.92","8.43","22.76","28.16",49,97]
[null,483,52,-147.69999999999999,-8.4099999999999895,106,null,48.5,null,95,null,8.4199999999999893,null,483,null,147.69999999999999,-1,-10.65,"48,5",null,96,"8.80",null,"14.27",null,"48.05","47.8","1:49.50","17.65","17.4","17.69",null,"54.92","54.7",null,"4.73","7.89","8.40","22.66","28.04",null,96]
[null,484,null,-147.6,-8.4,107,null,48,null,94,null,8.4099999999999895,null,484,null,147.6,-1,-10.6,"48,0",null,95,"8.82",null,"14.30",null,"48.25","48.0","1:49.80","17.68",null,"17.73","17.5","55.04","54.8",null,"4.72","7.87","8.37","22.56","27.92",48.5,95]
[null,null,52.5,-147.5,-8.39,108,null,47.5,135,93,null,8.4,null,null,null,147.5,-1,-10.55,"47,5",null,94,"8.83","8.6","14.34","14.1","48.45","48.2","1:50.15","17.71",null,"17.77",null,"55.18","55.0","1.39","4.71","7.85","8.34","22.46","27.80",48,94]
[null,485,53,-147.4,-8.3800000000000008,109,-8.4,null,null,92,null,8.39,null,485,null,147.4,-1,-10.5,null,null,93,"8.86",null,"14.39",null,"48.65","48.4","1:50.50","17.75","17.5","17.81",null,"55.32","55.1",null,"4.70","7.83","8.31","22.38","27.68",47.5,93]
[null,486,null,-147.30000000000001,-8.3699999999999992,110,null,47,null,91,null,8.3800000000000008,null,486,null,147.30000000000001,-1,-10.45,"47,0",null,92,"8.89",null,"14.44","14.2","48.85","48.6","1:50.90","17.79",null,"17.85","17.6","55.46","55.3",null,"4.69","7.81","8.28","22.30","27.56",null,92]
[null,487,53.5,-147.19999999999999,-8.36,111,null,46.5,134,90,null,8.3699999999999992,null,487,null,147.19999999999999,-1,-10.4,"46,5",null,91,"8.92",null,"14.48",null,"49.05","48.8","1:51.30","17.83","17.6","17.89",null,"55.60","55.4","1.38","4.68","7.79","8.25","22.22","27.44",47,91]
[null,null,null,-147.1,-8.35,112,null,46,null,89,null,8.36,null,null,null,147.1,-1,-10.35,"46,0",null,90,"8.94","8.7","14.53","14.3","49.25","49.0","1:51.75","17.87",null,"17.93","17.7","55.75","55.5",null,"4.67","7.77","8.22","22.14","27.32",46.5,90]
[null,488,54,-147,-8.34,113,-8.5,null,null,88,null,8.35,null,488,null,147,-1,-10.3,null,null,89,"8.97",null,"14.57",null,"49.45","49.2","1:52.20","17.91","17.7","17.97",null,"55.90","55.7",null,"4.66","7.75","8.19","22.05","27.19",46,89]
[null,489,null,-146.9,-8.33,114,null,45.5,133,87,null,8.34,null,489,null,146.9,-1,-10.25,"45,5",null,88,"9.00",null,"14.62","14.4","49.65","49.4","1:52.70","17.97",null,"18.01",null,"56.06","55.9","1.37","4.64","7.73","8.16","21.95","27.05",null,88]
[null,490,54.5,-146.80000000000001,-8.32,115,null,45,null,86,null,8.33,null,490,null,146.80000000000001,-1,-10.199999999999999,"45,0",null,87,"9.03",null,"14.66",null,"49.85","49.6","1:53.20","18.03","17.8","18.06","17.8","56.22","56.0",null,"4.63","7.71","8.13","21.85","26.91",45.5,87]
[null,null,null,-146.69999999999999,-8.31,116,-8.6,44.5,null,85,null,8.32,null,null,null,146.69999999999999,-1,-10.15,"44,5",null,86,"9.05","8.8","14.71",null,"50.05","49.8","1:53.75","18.09",null,"18.11","17.9","56.38","56.2","1.36","4.62","7.68","8.10","21.75","26.77",45,86]
[null,491,55,-146.6,-8.3000000000000007,117,null,null,132,84,null,8.31,null,491,null,146.6,-1,-10.1,null,null,85,"9.07",null,"14.75","14.5","50.25","50.0","1:54.35","18.15","17.9","18.16",null,"56.54","56.3",null,"4.61","7.65","8.07","21.65","26.63",44.5,85]
[null,492,null,-146.5,-8.2899999999999991,118,null,44,null,83,null,8.3000000000000007,null,492,null,146.5,-1,-10.07,"44,0",null,84,"9.10",null,"14.79",null,"50.45","50.2","1:54.95","18.21","18.0","18.21","18.0","56.70","56.5","1.35","4.59","7.62","8.04","21.55","26.49",null,84]
[null,493,55.5,-146.4,-8.2799999999999994,119,null,43.5,null,82,null,8.2899999999999991,null,493,null,146.4,-1,-10.039999999999999,"43,5",null,83,"9.12",null,"14.84","14.6","50.65","50.4","1:55.55","18.27",null,"18.28",null,"56.86","56.7",null,"4.58","7.59","8.01","21.45","26.35",44,83]
[null,null,null,-146.30000000000001,-8.27,120,null,43,131,81,null,8.2799999999999994,null,null,null,146.30000000000001,-1,-10,"43,0",null,82,"9.15","8.9","14.88",null,"50.85","50.6","1:56.15","18.35","18.1","18.35","18.1","57.02","56.8",null,"4.56","7.56","7.98","21.35","26.21",43.5,82]
[null,494,56,-146.19999999999999,-8.26,121,-8.6999999999999993,null,null,80,null,8.27,null,494,null,146.19999999999999,-1,-9.9600000000000009,null,null,81,"9.17",null,"14.93","14.7","51.05","50.8","1:56.75","18.43","18.2","18.42","18.2","57.18","57.0","1.34","4.55","7.53","7.95","21.25","26.07",43,81]
[null,495,null,-146.1,-8.25,122,null,42.5,null,79,null,8.26,null,495,null,146.1,-1,-9.92,"42,5",null,80,"9.20",null,"14.97",null,"51.25","51.0","1:57.30","18.51","18.3","18.49","18.3","57.34","57.1",null,"4.53","7.50","7.92","21.15","25.93",null,80]
[null,496,56.5,-146,-8.24,123,null,42,130,78,null,8.25,null,496,null,146,-1,-9.8800000000000008,"42,0",null,79,"9.22",null,"15.02","14.8","51.45","51.2","1:57.85","18.59","18.4","18.56",null,"57.50","57.3","1.33","4.51","7.47","7.89","21.05","25.79",42.5,79]
[null,null,null,-145.9,-8.23,124,null,41.5,null,77,null,8.24,null,null,null,145.9,-1,-9.84,"41,5",null,78,"9.25","9.0","15.06",null,"51.65","51.4","1:58.35","18.67",null,"18.63","18.4","57.66","57.5",null,"4.49","7.44","7.86","20.95","25.65",42,78]
[null,497,57,-145.80000000000001,-8.2200000000000006,125,-8.8000000000000007,null,null,76,null,8.23,null,497,null,145.80000000000001,-1,-9.8000000000000007,null,null,77,"9.27",null,"15.10",null,"51.85","51.6","1:58.85","18.75","18.5","18.72","18.5","57.84","57.6","1.32","4.47","7.41","7.83","20.84","25.51",41.5,77]
[null,498,null,-145.69999999999999,-8.2100000000000009,126,null,41,129,75,null,8.2200000000000006,null,498,null,145.69999999999999,-1,-9.76,"41,0",null,76,"9.30",null,"15.15","14.9","52.05","51.8","1:59.35","18.83","18.6","18.81","18.6","58.02","57.8",null,"4.45","7.38","7.80","20.73","25.37",null,76]
[null,499,57.5,-145.6,-8.1999999999999993,127,null,40.5,null,74,null,8.2100000000000009,null,499,null,145.6,-1,-9.7200000000000006,"40,5",null,75,"9.32",null,"15.19",null,"52.25","52.0","1:59.85","18.92","18.7","18.90","18.7","58.20","58.0","1.31","4.42","7.35","7.77","20.62","25.23",41,75]
[null,null,null,-145.5,-8.19,128,-8.9,40,null,73,null,8.1999999999999993,null,null,null,145.5,-1,-9.68,"40,0",null,74,"9.35","9.1","15.23","15.0","52.45","52.2","2:00.35","19.01","18.8","19.00","18.8","58.38","58.2",null,"4.39","7.32","7.74","20.51","25.09",40.5,74]
[null,500,58,{"$f":"P131*Q131","v":-145.4},-8.18,129,null,null,128,72,null,8.19,null,500,null,145.4,-1,-9.64,null,null,73,"9.38",null,"15.28",null,"52.65","52.4","2:00.85","19.10","18.9","19.10","18.9","58.56","58.4","1.30","4.37","7.29","7.71","20.40","24.95",40,73]
[null,501,null,-145.30000000000001,{"$f":"L133*-1","v":-8.1600000000000108},130,null,39.5,null,71,null,8.18,null,501,null,145.30000000000001,-1,-9.6199999999999992,"39,5",null,72,"9.41",null,"15.32","15.1","52.85","52.6","2:01.35","19.20","19.0","19.20","19.0","58.74","58.5",null,"4.35","7.26","7.68","20.29","24.81",null,72]
[null,502,58.5,-145.19999999999999,-8.15,131,-9,39,null,70,null,8.1600000000000108,null,502,null,145.19999999999999,-1,-9.58,"39,0",null,71,"9.45","9.2","15.36",null,"53.05","52.8","2:01.85","19.30","19.1","19.30","19.1","58.92","58.7","1.29","4.33","7.23","7.65","20.18","24.67",39.5,71]
[null,null,null,-145.1,-8.14,132,null,38.5,127,69,null,8.15,null,null,null,145.1,-1,-9.5399999999999991,"38,5",null,70,"9.48",null,"15.40",null,"53.25","53.0","2:02.35","19.40","19.2","19.40","19.2","59.10","58.9",null,"4.31","7.20","7.62","20.07","24.53",39,70]
[null,503,59,-145,-8.1300000000000008,133,null,null,null,68,null,8.14,null,503,null,145,-1,-9.5,null,null,69,"9.51",null,"15.45","15.2","53.45","53.2","2:02.85","19.50","19.3","19.50","19.3","59.28","59.1","1.28","4.29","7.17","7.59","19.96","24.39",38.5,69]
[null,504,null,-144.9,-8.1199999999999992,134,null,38,null,67,null,8.1300000000000008,null,504,null,144.9,-1,-9.4600000000000009,"38,0",null,68,"9.53",null,"15.49",null,"53.65","53.4","2:03.40","19.60","19.4","19.60","19.4","59.46","59.3",null,"4.27","7.14","7.56","19.85","24.25",null,68]
[null,505,59.5,-144.80000000000001,-8.1,135,null,37.5,126,66,null,8.1199999999999992,null,505,null,144.80000000000001,-1,-9.43,"37,5",null,67,"9.55","9.3","15.53","15.3","53.85","53.6","2:03.95","19.70","19.5","19.70","19.5","59.64","59.4","1.27","4.25","7.11","7.53","19.74","24.11",38,67]
[null,null,null,-144.69999999999999,-8.09,136,-9.1,37,null,65,null,8.1,null,null,null,144.69999999999999,-1,-9.4,"37,0",null,66,"9.57",null,"15.57",null,"54.05","53.8","2:04.50","19.80","19.6","19.80","19.6","59.82","59.6",null,"4.23","7.08","7.50","19.63","23.97",37.5,66]
[null,506,60,-144.6,-8.07,137,null,null,null,64,null,8.09,null,506,null,144.6,-1,-9.3800000000000008,null,null,65,"9.60",null,"15.61",null,"54.25","54.0","2:05.05","19.90","19.7","19.90","19.7","60.00","59.8","1.26","4.21","7.05","7.47","19.52","23.83",37,65]
[null,507,null,-144.5,-8.06,138,-9.1999999999999993,36.5,125,63,null,8.07,null,507,null,144.5,-1,-9.35,"36,5",null,64,"9.63","9.4","15.65","15.4","54.45","54.2","2:05.60","20.00","19.8","20.00","19.8","60.20","60.0",null,"4.19","7.02","7.44","19.41","23.69",null,64]
[null,508,60.5,-144.4,-8.0500000000000007,139,null,36,null,62,null,8.06,null,508,null,144.4,-1,-9.32,"36,0",null,63,"9.66",null,"15.69",null,"54.65","54.4","2:06.15","20.10","19.9","20.10","19.9","60.40","60.2","1.25","4.17","6.99","7.41","19.30","23.55",36.5,63]
[null,null,null,-144.30000000000001,-8.0299999999999994,140,null,35.5,124,61,null,8.0500000000000007,null,null,null,144.30000000000001,-1,-9.2899999999999991,"35,5",null,62,"9.69",null,"15.73","15.5","54.85","54.6","2:06.70","20.20","20.0","20.20","20.1","60.60","60.4",null,"4.15","6.96","7.38","19.19","23.39",36,62]
[null,509,61,-144.19999999999999,-8.02,141,-9.3000000000000007,null,null,60,null,8.0299999999999994,null,509,null,144.19999999999999,-1,-9.26,null,null,61,"9.72",null,"15.77",null,"55.05","54.8","2:07.25","20.30","20.1","20.30","20.1","60.80","60.6","1.24","4.13","6.93","7.35","19.08","23.23",35.5,61]
[null,510,null,-144.1,-8.01,142,null,35,123,59,null,8.02,null,510,null,144.1,-1,-9.24,"35,0",null,60,"9.74","9.5","15.81",null,"55.25","55.0","2:07.80","20.40","20.2","20.40","20.2","61.00","60.8",null,"4.11","6.90","7.32","18.97","23.07",null,60]
[null,511,null,-144,-8,143,-9.4,34.5,null,58,null,8.01,null,511,null,144,-1,-9.2100000000000009,"34,5",null,59,"9.77",null,"15.85","15.6","55.45","55.2","2:08.35","20.50","20.3","20.50","20.3","61.20","61.0","1.23","4.09","6.87","7.29","18.86","22.91",35,59]
[null,null,61.5,-143.9,-7.99,144,null,34,122,57,null,8,null,null,null,143.9,-1,-9.18,"34,0",null,58,"9.80",null,"15.90",null,"55.65","55.4","2:08.90","20.60","20.4","20.60","20.4","61.40","61.2",null,"4.07","6.84","7.26","18.75","22.75",34.5,58]
[null,512,null,-143.80000000000001,-7.98,145,null,33.5,null,56,null,7.99,null,512,null,143.80000000000001,-1,-9.15,"33,5",null,57,"9.83","9.6","15.95","15.7","55.85","55.6","2:09.45","20.70","20.5","20.70","20.5","61.60","61.4","1.22","4.05","6.81","7.23","18.63","22.59",34,57]
[null,513,null,-143.69999999999999,-7.97,146,-9.5,null,121,55,null,7.98,null,513,null,143.69999999999999,-1,-9.1199999999999992,null,null,56,"9.86",null,"16.00",null,"56.10","55.9","2:10.00","20.80","20.6","20.80","20.6","61.80","61.6",null,"4.03","6.78","7.20","18.51","22.43",33.5,56]
[null,514,62,-143.55000000000001,-7.96,147,null,33,null,54,null,7.97,null,514,null,143.55000000000001,-1,-9.1,"33,0",null,55,"9.89",null,"16.05","15.8","56.35","56.1","2:10.55","20.90","20.7","20.90","20.7","62.00","61.8","1.21","4.01","6.75","7.16","18.39","22.27",null,55]
[null,515,null,-143.4,-7.95,148,-9.6,32.5,120,53,null,7.96,null,515,null,143.4,-1,-9.07,"32,5",null,54,"9.92",null,"16.10",null,"56.60","56.4","2:11.10","21.00","20.8","21.00","20.8","62.20","62.0",null,"3.99","6.72","7.13","18.27","22.10",33,54]
[null,516,null,-143.25,-7.94,149,null,32,null,52,null,7.95,null,516,null,143.25,-1,-9.0399999999999991,"32,0",null,53,"9.95","9.7","16.15","15.9","56.85","56.6","2:11.65","21.10","20.9","21.10","20.9","62.40","62.2","1.20","3.97","6.69","7.09","18.15","21.94",32.5,53]
[null,517,62.5,-143.1,-7.93,150,null,31.5,119,51,null,7.94,null,517,null,143.1,-1,-9.01,"31,5",null,52,"9.98",null,"16.20",null,"57.10","56.9","2:12.20","21.20","21.0","21.20","21.0","62.60","62.4",null,"3.94","6.66","7.06","18.03","21.78",32,52]
[null,518,null,-142.94999999999999,-7.92,151,-9.6999999999999993,null,null,50,null,7.93,null,518,null,142.94999999999999,-1,-8.98,null,null,51,"10.01",null,"16.25","16.0","57.35","57.1","2:12.75","21.30","21.1","21.30","21.1","62.80","62.6","1.19","3.91","6.63","7.02","17.91","21.62",31.5,51]
[null,519,null,-142.80000000000001,-7.91,152,null,31,118,49,null,7.92,null,519,null,142.80000000000001,-1,-8.9600000000000009,"31,0",null,50,"10.04","9.8","16.30",null,"57.60","57.4","2:13.30","21.40","21.2","21.40","21.2","63.00","62.8",null,"3.88","6.60","6.99","17.79","21.46",null,50]
[null,521,63,-142.62,-7.9,153,-9.8000000000000007,30.5,null,48,null,7.91,null,521,null,142.62,-1,-8.93,"30,5",null,49,"10.07",null,"16.35","16.1","57.85","57.6","2:13.85","21.50","21.3","21.50","21.3","63.20","63.0","1.18","3.85","6.56","6.95","17.67","21.30",31,49]
[null,524,63.5,-142.34,-7.89,154,null,30,117,47,null,7.9,null,524,null,142.34,-1,-8.9,"30,0",null,48,"10.10",null,"16.40",null,"58.10","57.9","2:14.40","21.60","21.4","21.60","21.4","63.40","63.2",null,"3.82","6.52","6.91","17.55","21.14",30.5,48]
[null,527,null,-142.06,-7.88,155,null,null,null,46,null,7.89,null,527,null,142.06,-1,-8.8699999999999992,null,null,47,"10.13","9.9","16.45","16.2","58.35","58.1","2:14.95","21.70","21.5","21.70","21.5","63.60","63.4","1.17","3.79","6.48","6.87","17.43","20.98",30,47]
[null,530,64,-141.78,-7.87,156,-9.9,29.5,116,45,null,7.88,null,530,null,141.78,-1,-8.84,"29,5",null,46,"10.16",null,"16.50",null,"58.60","58.4","2:15.50","21.80","21.6","21.80","21.6","63.80","63.6",null,"3.76","6.44","6.83","17.31","20.82",null,46]
[null,532,null,-141.5,-7.86,157,null,29,null,44,null,7.87,null,532,null,141.5,-1,-8.81,"29,0",null,45,"10.20",null,"16.55","16.3","58.85","58.6","2:16.05","21.90","21.7","21.90","21.7","64.00","63.8","1.16","3.73","6.40","6.79","17.19","20.66",29.5,45]
[null,534,64.5,-141.22,-7.85,158,-10,28.5,115,43,null,7.86,null,534,null,141.22,-1,-8.7799999999999994,"28,5",null,44,"10.23","10.0","16.60",null,"59.10","58.9","2:16.60","22.00","21.8","22.00","21.8","64.20","64.0",null,"3.70","6.36","6.75","17.07","20.50",29,44]
[null,536,65,-140.94,-7.84,159,null,null,null,42,null,7.85,null,536,null,140.94,-1,-8.75,null,null,43,"10.27",null,"16.66","16.4","59.35","59.1","2:17.15","22.10","21.9","22.10","21.9","64.40","64.2","1.15","3.67","6.32","6.71","16.95","20.34",28.5,43]
[null,538,null,-140.66,-7.83,160,null,28,114,41,null,7.84,null,538,null,140.66,-1,-8.7200000000000006,"28,0",null,42,"10.31",null,"16.72",null,"59.60","59.4","2:17.70","22.20","22.0","22.20","22.0","64.60","64.4",null,"3.64","6.28","6.67","16.83","20.16",null,42]
[null,539,65.5,-140.38,-7.82,161,-10.1,27.5,null,40,null,7.83,null,539,null,140.38,-1,-8.69,"27,5",null,41,"10.34","10.1","16.78","16.6","59.85","59.6","2:18.25","22.30","22.1","22.30","22.1","64.80","64.6","1.14","3.61","6.24","6.63","16.71","19.98",28,41]
[null,541,null,-140.1,-7.81,162,null,27,113,39,null,7.82,null,541,null,140.1,-1,-8.67,"27,0",null,40,"10.38",null,"16.84",null,"60.10","59.9","2:18.80","22.40","22.2","22.40","22.2","65.00","64.8",null,"3.58","6.20","6.59","16.59","19.80",27.5,40]
[null,542,66,-139.82,-7.8,163,-10.199999999999999,null,null,38,null,7.81,null,542,null,139.82,-1,-8.64,null,null,39,"10.42",null,"16.90","16.7","60.35","60.1","2:19.35","22.50","22.3","22.52","22.3","65.20","65.0","1.13","3.55","6.16","6.55","16.47","19.62",27,39]
[null,543,66.5,-139.54,-7.79,164,null,26.5,112,37,null,7.8,null,543,null,139.54,-1,-8.61,"26,5",null,38,"10.45","10.2","16.96",null,"60.60","60.4","2:19.90","22.62","22.4","22.64","22.4","65.40","65.2",null,"3.52","6.12","6.51","16.35","19.44",null,38]
[null,544,null,-139.26,-7.78,165,null,26,null,36,null,7.79,null,544,null,139.26,-1,-8.58,"26,0",null,37,"10.48",null,"17.02","16.8","60.85","60.6","2:20.45","22.74","22.5","22.76","22.6","65.60","65.4","1.12","3.49","6.08","6.47","16.20","19.26",26.5,37]
[null,545,67,-138.97999999999999,-7.77,166,-10.3,25.5,111,35,null,7.78,null,545,null,138.97999999999999,-1,-8.56,"25,5",null,36,"10.52",null,"17.08",null,"61.10","60.9","2:21.00","22.86","22.7","22.88","22.7","65.80","65.6",null,"3.46","6.04","6.43","16.05","19.08",26,36]
[null,546,null,-138.74,-7.76,167,null,25,null,34,null,7.77,null,546,null,138.74,-1,-8.5299999999999994,"25,0",null,35,"10.55","10.3","17.14","16.9","61.35","61.1","2:21.55","22.98","22.8","23.00","22.8","66.00","65.8","1.11","3.43","6.00","6.39","15.90","18.90",25.5,35]
[null,547,67.5,-138.46,-7.75,168,-10.4,24.5,110,33,null,7.76,null,547,null,138.46,-1,-8.5,"24,5",null,34,"10.59",null,"17.20","17.0","61.60","61.4","2:22.10","23.10","22.9","23.12","22.9","66.20","66.0",null,"3.40","5.96","6.35","15.75","18.70",25,34]
[null,548,null,-138.18,-7.72,169,null,24,null,32,null,7.75,null,548,null,138.18,-1,-8.49,"24,0",null,33,"10.63","10.4","17.26",null,"61.85","61.6","2:22.65","23.22","23.0","23.24","23.0","66.40","66.2","1.10","3.37","5.92","6.30","15.60","18.50",24.5,33]
[null,549,68,-137.97,-7.72,170,null,23.5,109,31,null,7.72,null,549,null,137.97,-1,-8.4700000000000006,"23,5",null,32,"10.67",null,"17.32","17.1","62.10","61.9","2:23.20","23.34","23.1","23.36","23.2","66.63","66.4",null,"3.34","5.88","6.25","15.45","18.30",24,32]
[null,551,68.5,-137.77000000000001,-7.72,171,-10.5,23,null,30,null,7.72,null,551,null,137.77000000000001,-1,-8.4600000000000009,"23,0",null,31,"10.71",null,"17.38",null,"62.40","62.2","2:23.75","23.46","23.3","23.48","23.3","66.86","66.7","1.09","3.31","5.84","6.20","15.30","18.10",23.5,31]
[null,552,null,-137.56,-7.71,172,null,22.5,108,29,null,7.72,null,552,null,137.56,-1,-8.43,"22,5",null,30,"10.75","10.5","17.44","17.2","62.70","62.5","2:24.30","23.58","23.4","23.60","23.4","67.13","66.9",null,"3.28","5.80","6.15","15.15","17.90",23,30]
[null,554,69,-137.36000000000001,-7.7,173,-10.6,22,107,28,null,7.71,null,554,null,137.36000000000001,-1,-8.4,"22,0",null,29,"10.79",null,"17.51","17.3","63.00","62.8","2:24.85","23.70","23.5","23.72","23.5","67.40","67.2","1.08","3.25","5.76","6.10","15.00","17.70",22.5,29]
[null,555,null,-137.16,-7.69,174,null,21.5,null,27,null,7.7,null,555,null,137.16,-1,-8.3699999999999992,"21,5",null,28,"10.83","10.6","17.58",null,"63.30","63.1","2:25.40","23.82","23.6","23.84","23.6","67.67","67.5","1.07","3.22","5.72","6.05","14.80","17.50",22,28]
[null,557,69.5,-136.94999999999999,-7.68,175,null,21,106,26,null,7.69,null,557,null,136.94999999999999,-1,-8.34,"21,0",null,27,"10.87",null,"17.65","17.4","63.60","63.4","2:25.95","23.94","23.7","23.96","23.8","67.94","67.7",null,"3.19","5.68","6.00","14.60","17.30",21.5,27]
[null,558,70,-136.75,-7.67,176,{"$f":"-10.7","v":-10.7},20.5,105,25,null,7.68,null,558,null,136.75,-1,-8.31,"20,5",null,26,"10.91",null,"17.72","17.5","63.90","63.7","2:26.50","24.06","23.9","24.08","23.9","68.21","68.0","1.06","3.16","5.64","5.95","14.40","17.10",21,26]
[null,560,null,-136.55000000000001,-7.66,177,null,20,null,24,null,7.67,null,560,null,136.55000000000001,-1,-8.2799999999999994,"20,0",null,25,"10.95","10.7","17.79","17.6","64.20","64.0","2:27.10","24.18","24.0","24.20","24.0","68.48","68.3","1.05","3.13","5.60","5.90","14.20","16.90",20.5,25]
[null,561,70.5,-136.35,-7.65,178,-10.8,19.5,104,23,null,7.66,null,561,null,136.35,-1,-8.25,"19,5",null,24,"10.99",null,"17.86",null,"64.50","64.3","2:27.70","24.30","24.1","24.32","24.1","68.75","68.5",null,"3.10","5.55","5.85","14.00","16.70",20,24]
[null,563,null,-136.15,-7.64,179,null,19,103,22,null,7.65,null,563,null,136.15,-1,-8.2200000000000006,"19,0",null,23,"11.04","10.8","17.93","17.7","64.85","64.6","2:28.30","24.42","24.2","24.44","24.2","69.02","68.8","1.04","3.07","5.50","5.80","13.80","16.50",19.5,23]
[null,564,71,-135.94999999999999,-7.63,180,-10.9,18.5,null,21,null,7.64,null,564,null,135.94999999999999,-1,-8.19,"18,5",null,22,"11.09",null,"18.00","17.8","65.20","65.0","2:28.95","24.54","24.3","24.56","24.3","69.29","69.1","1.03","3.04","5.45","5.75","13.60","16.25",19,22]
[null,565,71.5,-135.76,-7.62,181,null,18,102,20,null,7.63,null,565,null,135.76,-1,-8.16,"18,0",null,21,"11.14","10.9","18.07",null,"65.55","65.3","2:29.65","24.66","24.5","24.68","24.5","69.56","69.4",null,"3.01","5.40","5.70","13.40","16.00",18.5,21]
[null,567,null,-135.56,-7.61,182,-11,17.5,101,19,null,7.62,null,567,null,135.56,-1,-8.1300000000000008,"17,5",null,20,"11.19",null,"18.15","17.9","65.90","65.7","2:30.35","24.78","24.6","24.80","24.6","69.83","69.6","1.02","2.98","5.35","5.65","13.20","15.75",18,20]
[null,568,72,-135.36000000000001,-7.6,183,-11.1,17,100,18,null,7.61,null,568,null,135.36000000000001,-1,-8.1,"17,0",null,19,"11.25","11.0","18.23","18.0","66.25","66.0","2:31.05","24.90","24.7","24.92","24.7","70.10","69.9","1.01","2.95","5.30","5.60","13.00","15.50",17.5,19]
[null,570,null,-135.16999999999999,-7.59,184,null,16.5,null,17,null,"7,60",null,570,null,135.16999999999999,-1,-8.08,"16,5",null,18,"11.31","11.1","18.31","18.1","66.60","66.4","2:31.75","25.02","24.8","25.04","24.8","70.37","70.2","1.00","2.92","5.25","5.55","12.80","15.25",17,18]
[null,571,72.5,-134.97,-7.58,185,-11.2,16,99,16,null,"7,59",null,571,null,134.97,-1,-8.06,"16,0",null,17,"11.37",null,"18.39","18.2","66.95","66.7","2:32.45","25.14","24.9","25.16","25.0","70.64","70.4",null,"2.89","5.20","5.50","12.60","15.00",16.5,17]
[null,573,73,-134.77000000000001,-7.56,186,null,15.5,98,15,null,"7,58",null,573,null,134.77000000000001,-1,-8.0399999999999991,"15,5",null,16,"11.43","11.2","18.48","18.3","67.30","67.1","2:33.15","25.26","25.1","25.28","25.1","70.93","70.7","0.99","2.86","5.15","5.45","12.40","14.75",16,16]
[null,574,null,-134.58000000000001,-7.55,187,-11.3,15,97,14,null,"7,56",null,574,null,134.58000000000001,-1,-8.02,"15,0",null,15,"11.49","11.3","18.57","18.4","67.70","67.5","2:33.85","25.38","25.2","25.40","25.2","71.23","71.0","0.98","2.83","5.10","5.40","12.20","14.50",15.5,15]
[null,576,73.5,-134.38999999999999,-7.54,188,-11.4,14.5,96,13,null,"7,55",null,576,null,134.38999999999999,-1,-8,"14,5",null,14,"11.56",null,"18.66",null,"68.10","67.9","2:34.65","25.50","25.3","25.52","25.3","71.58","71.4","0.97","2.80","5.05","5.35","12.00","14.25",15,14]
[null,577,null,-134.19,-7.52,189,-11.5,14,95,12,null,"7,54",null,577,null,134.19,-1,-7.98,"14,0",null,13,"11.64","11.4","18.75","18.5","68.50","68.3","2:35.45","25.62","25.4","25.64","25.4","71.93","71.7","0.96","2.77","5.00","5.30","11.80","13.85",14.5,13]
[null,578,74,-134,-7.51,190,-11.6,13.5,94,11,null,"7,52",null,578,null,134,-1,-7.96,"13,5",null,12,"11.72","11.5","18.85","18.6","68.90","68.7","2:36.25","25.75","25.5","25.76","25.6","72.30","72.1","0.95","2.74","4.95","5.25","11.60","13.55",14,12]
[null,580,null,-133.81,-7.5,191,-11.7,13,93,10,null,"7,51",null,580,null,133.81,-1,-7.94,"13,0",null,11,"11.80","11.6","18.95","18.7","69.30","69.1","2:37.05","25.90","25.7","25.90","25.7","72.70","72.5","0.94","2.71","4.90","5.18","11.40","13.25",13.5,11]
[null,581,74.5,-133.62,-7.48,192,null,12.5,92,9,null,"7,50",null,581,null,133.62,-1,-7.92,"12,5",null,10,"11.88","11.7","19.05","18.8","69.80","69.6","2:37.85","26.05","25.8","26.05","25.8","73.15","72.9","0.93","2.67","4.85","5.11","11.20","12.90",13,10]
[null,583,75,{"$f":"P195*Q195","v":-133.43},-7.47,193,-11.8,12,91,8,null,"7,48",null,583,null,133.43,-1,-7.9,"12,0",null,9,"11.96",null,"19.15","18.9","70.30","70.1","2:38.65","26.20","26.0","26.20","26.0","73.60","73.4","0.92","2.63","4.80","5.04","10.95","12.55",12.5,9]
[null,584,null,-133.24,{"$f":"L197*-1","v":-7.46},194,-11.9,11.5,90,7,null,"7,47",null,584,null,133.24,-1,-7.88,"11,5",null,8,"12.04","11.8","19.25","19.0","70.85","70.6","2:39.45","26.40","26.2","26.40","26.2","74.05","73.8","0.91","2.59","4.73","4.96","10.70","12.20",12,8]
[null,585,75.5,-133.05000000000001,-7.44,195,-12,11,88,6,null,"7,46",null,585,null,133.05000000000001,-1,-7.86,"11,0",null,7,"12.12","11.9","19.35","19.1","71.45","71.2","2:40.25","26.60","26.4","26.60","26.4","74.50","74.3","0.90","2.55","4.66","4.88","10.40","11.85",11.5,7]
[null,587,null,-132.86000000000001,-7.43,196,-12.1,10.5,87,5,null,"7,44",null,587,null,132.86000000000001,-1,-7.84,"10,5",null,6,"12.20","12.0","19.45","19.2","72.10","71.9","2:41.05","26.85","26.6","26.80","26.6","74.95","74.7","0.88","2.50","4.59","4.80","10.10","11.45",11,6]
[null,588,76,-132.66999999999999,-7.42,197,-12.2,10,85,4,null,"7,43",null,588,null,132.66999999999999,-1,-7.82,"10,0",null,5,"12.30","12.1","19.55","19.3","72.75","72.5","2:41.85","27.10","26.9","27.05","26.8","75.40","75.2","0.87","2.45","4.50","4.70","9.80","11.05",10.5,5]
[null,590,null,-132.47999999999999,-7.4,198,-12.3,9.5,84,3,null,"7,42",null,590,null,132.47999999999999,-1,-7.8,9.5,null,4,"12.40","12.2","19.70","19.5","73.45","73.2","2:42.65","27.40","27.2","27.30","27.1","75.90","75.7","0.85","2.40","4.40","4.60","9.45","10.60",10,4]
[null,591,76.5,-132.29,-7.39,199,-12.4,9,82,2,null,"7,40",null,591,null,132.29,-1,null,9,null,3,"12.50","12.3","19.85","19.6","74.15","73.9","2:43.35","27.70","27.5","27.60","27.4","76.40","76.2","0.84","2.35","4.30","4.50","9.10","10.10",9.5,3]
[null,593,77,-132.11000000000001,-7.38,200,-12.5,8,80,1,null,"7,39",null,593,null,132.11000000000001,-1,null,8,null,2,"12.62","12.4","20.05","19.8","74.90","74.7","2:44.35","28.00","27.8","27.90","27.7","77.00","76.8","0.82","2.25","4.15","4.35","8.70","9.60",9,2]
[null,0,0,0,0,0,null,0,0,0,null,7.38,null,null,null,null,null,null,null,null,1,"12.75","12.5","20.25","20.0","75.85","75.6","2:45.35","28.35","28.1","28.28","28.1","77.89","77.7","0.80","2.10","4.00","4.20","8.20","9.00",8,1]

{"sheet":"Protokoły","index":14,"n_rows":146,"n_cols":15,"rows_kept":146,"cut":false,"hidden":false,"merged":[[145,0,145,3],[145,5,145,6],[145,7,145,8],[145,9,145,10],[145,11,145,12],[114,5,114,10],[114,11,115,11],[114,12,115,12],[114,13,115,13],[144,0,144,3],[144,5,144,6],[144,7,144,8],[144,11,144,12],[113,0,113,1],[113,2,113,4],[113,5,113,7],[113,8,113,10],[113,11,113,12],[114,0,115,0],[114,1,115,1],[114,2,115,2],[114,3,115,3],[114,4,115,4],[111,0,111,1],[111,2,111,4],[111,5,111,6],[111,7,111,10],[111,12,111,13],[112,0,112,1],[112,2,112,4],[112,5,112,7],[112,8,112,10],[112,11,112,12],[0,0,0,1],[0,2,0,4],[1,0,1,1],[2,0,2,1],[1,2,1,4],[1,5,1,7],[2,2,2,4],[2,5,2,7],[2,8,2,10],[0,5,0,6],[0,7,0,10],[3,0,4,0],[3,1,4,1],[3,2,4,2],[3,3,4,3],[3,4,4,4],[3,5,3,10],[33,0,33,3],[34,0,34,3],[33,5,33,6],[34,5,34,6],[33,7,33,8],[34,7,34,8],[0,12,0,13],[3,11,4,11],[3,12,4,12],[3,13,4,13],[1,8,1,10],[1,11,1,12],[37,12,37,13],[39,5,39,7],[39,8,39,10],[35,9,35,10],[33,11,33,12],[34,11,34,12],[34,9,34,10],[2,11,2,12],[39,0,39,1],[39,2,39,4],[74,12,74,13],[38,0,38,1],[38,2,38,4],[38,5,38,7],[38,8,38,10],[38,11,38,12],[37,0,37,1],[37,2,37,4],[74,0,74,1],[74,2,74,4],[74,5,74,6],[74,7,74,10],[37,5,37,6],[37,7,37,10],[39,11,39,12],[40,0,41,0],[40,1,41,1],[40,2,41,2],[40,3,41,3],[40,4,41,4],[40,5,40,10],[40,11,41,11],[40,13,41,13],[71,0,71,3],[71,5,71,6],[71,7,71,8],[71,9,71,10],[71,11,71,12],[77,13,78,13],[107,0,107,3],[107,5,107,6],[107,7,107,8],[107,11,107,12],[77,0,78,0],[77,1,78,1],[77,2,78,2],[77,3,78,3],[77,4,78,4],[76,0,76,1],[76,2,76,4],[76,5,76,7],[76,8,76,10],[76,11,76,12],[70,0,70,3],[70,5,70,6],[70,7,70,8],[108,0,108,3],[108,5,108,6],[108,7,108,8],[108,9,108,10],[108,11,108,12],[77,11,78,11],[77,12,78,12],[77,5,77,10],[40,12,41,12],[70,11,70,12],[75,0,75,1],[75,2,75,4],[75,5,75,7],[75,8,75,10],[75,11,75,12]]}
["P.Z.L.A",null,"POTOKÓŁ SĘDZIOWSKI",null,null,"Nazwa                                                                           konkurencji:",null,null,null,null,null,"Szczebel                                     eliminacji:",{"$f":"IF('Dane do protokołów'!$B$2=\"\",\"\",'Dane do protokołów'!$B$2)","v":""}]
["Organizator",null,"Nazwa zawodów",null,null,"Nazwa stadionu",null,null,"Miejscowość",null,null,"Data zawodów",null,"Godz. Rozp."]
[{"$f":"IF('Dane do protokołów'!$B$4=\"\",\"\",'Dane do protokołów'!$B$4)","v":""},null,{"$f":"szkoły!$B$1","v":"TRÓJBÓJ LEKKOATLETYCZNY DZIEWCZĘTA"},null,null,{"$f":"IF('Dane do protokołów'!$B$3=\"\",\"\",'Dane do protokołów'!$B$3)","v":""},null,null,{"$f":"IF('Dane do protokołów'!$B$5=\"\",\"\",'Dane do protokołów'!$B$5)","v":""},null,null,{"$f":"IF('Dane do protokołów'!$B$6=\"\",\"\",'Dane do protokołów'!$B$6)","v":"2018-05-08"},null,{"$f":"IF('Dane do protokołów'!$B$7=\"\",\"\",'Dane do protokołów'!$B$7)","v":"10:00:00"}]
["Kolejność","Numer startowy","Imię i nazwisko","Rocznik","Przynależność","Wyniki",null,null,null,null,null,"Wynik oficjalny","Kolejność","Punkty"]
[null,null,null,null,null,1,2,3,4,5,6]
[{"$f":"IF(C6=\"\",\"\",O6)","v":2},{"$f":"IF(szkoły!A3=\"\",\"\",szkoły!A3)","v":15},{"$f":"IF(szkoły!B3=\"\",\"\",szkoły!B3)","v":"zawodnik 1"},{"$f":"IF(szkoły!C3=\"\",\"\",szkoły!C3)","v":2007},{"$f":"IF(C6=\"\",\"\",szkoły!B2)","v":"SP 234 Kursk"},null,null,null,null,null,null,null,null,null,2]
[{"$f":"IF(C7=\"\",\"\",O7)","v":3},{"$f":"IF(szkoły!A4=\"\",\"\",szkoły!A4)","v":23},{"$f":"IF(szkoły!B4=\"\",\"\",szkoły!B4)","v":"zawodnik 2"},{"$f":"IF(szkoły!C4=\"\",\"\",szkoły!C4)","v":2007},null,null,null,null,null,null,null,null,null,null,3]
[4,{"$f":"IF(szkoły!A5=\"\",\"\",szkoły!A5)","v":44},{"$f":"IF(szkoły!B5=\"\",\"\",szkoły!B5)","v":"zawodnik 3"},{"$f":"IF(szkoły!C5=\"\",\"\",szkoły!C5)","v":2008},null,null,null,null,null,null,null,null,null,null,4]
[5,{"$f":"IF(szkoły!A6=\"\",\"\",szkoły!A6)","v":36},{"$f":"IF(szkoły!B6=\"\",\"\",szkoły!B6)","v":"zawodnik 4"},{"$f":"IF(szkoły!C6=\"\",\"\",szkoły!C6)","v":2007},null,null,null,null,null,null,null,null,null,null,5]
[6,{"$f":"IF(szkoły!A7=\"\",\"\",szkoły!A7)","v":76},{"$f":"IF(szkoły!B7=\"\",\"\",szkoły!B7)","v":"zawodnik 5"},{"$f":"IF(szkoły!C7=\"\",\"\",szkoły!C7)","v":2007},null,null,null,null,null,null,null,null,null,null,6]
["",{"$f":"IF(szkoły!A8=\"\",\"\",szkoły!A8)","v":""},{"$f":"IF(szkoły!B8=\"\",\"\",szkoły!B8)","v":""},{"$f":"IF(szkoły!C8=\"\",\"\",szkoły!C8)","v":""},null,null,null,null,null,null,null,null,null,null,7]
["",{"$f":"IF(szkoły!A9=\"\",\"\",szkoły!A9)","v":""},{"$f":"IF(szkoły!B9=\"\",\"\",szkoły!B9)","v":""},{"$f":"IF(szkoły!C9=\"\",\"\",szkoły!C9)","v":""},null,null,null,null,null,null,null,null,null,null,8]
["",{"$f":"IF(szkoły!D3=\"\",\"\",szkoły!D3)","v":""},{"$f":"IF(szkoły!E3=\"\",\"\",szkoły!E3)","v":""},{"$f":"IF(szkoły!F3=\"\",\"\",szkoły!F3)","v":""},{"$f":"IF(szkoły!E2=\"\",\"\",szkoły!E2)","v":""},null,null,null,null,null,null,null,null,null,2]
["",{"$f":"IF(szkoły!D4=\"\",\"\",szkoły!D4)","v":""},{"$f":"IF(szkoły!E4=\"\",\"\",szkoły!E4)","v":""},{"$f":"IF(szkoły!F4=\"\",\"\",szkoły!F4)","v":""},null,null,null,null,null,null,null,null,null,null,3]
["",{"$f":"IF(szkoły!D5=\"\",\"\",szkoły!D5)","v":""},{"$f":"IF(szkoły!E5=\"\",\"\",szkoły!E5)","v":""},{"$f":"IF(szkoły!F5=\"\",\"\",szkoły!F5)","v":""},null,null,null,null,null,null,null,null,null,null,4]
["",{"$f":"IF(szkoły!D6=\"\",\"\",szkoły!D6)","v":""},{"$f":"IF(szkoły!E6=\"\",\"\",szkoły!E6)","v":""},{"$f":"IF(szkoły!F6=\"\",\"\",szkoły!F6)","v":""},null,null,null,null,null,null,null,null,null,null,5]
["",{"$f":"IF(szkoły!D7=\"\",\"\",szkoły!D7)","v":""},{"$f":"IF(szkoły!E7=\"\",\"\",szkoły!E7)","v":""},{"$f":"IF(szkoły!F7=\"\",\"\",szkoły!F7)","v":""},null,null,null,null,null,null,null,null,null,null,6]
["",{"$f":"IF(szkoły!D8=\"\",\"\",szkoły!D8)","v":""},{"$f":"IF(szkoły!E8=\"\",\"\",szkoły!E8)","v":""},{"$f":"IF(szkoły!F8=\"\",\"\",szkoły!F8)","v":""},null,null,null,null,null,null,null,null,null,null,7]
["",{"$f":"IF(szkoły!D9=\"\",\"\",szkoły!D9)","v":""},{"$f":"IF(szkoły!E9=\"\",\"\",szkoły!E9)","v":""},{"$f":"IF(szkoły!F9=\"\",\"\",szkoły!F9)","v":""},null,null,null,null,null,null,null,null,null,null,8]
["",{"$f":"IF(szkoły!G3=\"\",\"\",szkoły!G3)","v":""},{"$f":"IF(szkoły!H3=\"\",\"\",szkoły!H3)","v":""},{"$f":"IF(szkoły!I3=\"\",\"\",szkoły!I3)","v":""},{"$f":"IF(C20=\"\",\"\",szkoły!H2)","v":""},null,null,null,null,null,null,null,null,null,2]
["",{"$f":"IF(szkoły!G4=\"\",\"\",szkoły!G4)","v":""},{"$f":"IF(szkoły!H4=\"\",\"\",szkoły!H4)","v":""},{"$f":"IF(szkoły!I4=\"\",\"\",szkoły!I4)","v":""},null,null,null,null,null,null,null,null,null,null,3]
["",{"$f":"IF(szkoły!G5=\"\",\"\",szkoły!G5)","v":""},{"$f":"IF(szkoły!H5=\"\",\"\",szkoły!H5)","v":""},{"$f":"IF(szkoły!I5=\"\",\"\",szkoły!I5)","v":""},null,null,null,null,null,null,null,null,null,null,4]
["",{"$f":"IF(szkoły!G6=\"\",\"\",szkoły!G6)","v":""},{"$f":"IF(szkoły!H6=\"\",\"\",szkoły!H6)","v":""},{"$f":"IF(szkoły!I6=\"\",\"\",szkoły!I6)","v":""},null,null,null,null,null,null,null,null,null,null,5]
["",{"$f":"IF(szkoły!G7=\"\",\"\",szkoły!G7)","v":""},{"$f":"IF(szkoły!H7=\"\",\"\",szkoły!H7)","v":""},{"$f":"IF(szkoły!I7=\"\",\"\",szkoły!I7)","v":""},null,null,null,null,null,null,null,null,null,null,6]
["",{"$f":"IF(szkoły!G8=\"\",\"\",szkoły!G8)","v":""},{"$f":"IF(szkoły!H8=\"\",\"\",szkoły!H8)","v":""},{"$f":"IF(szkoły!I8=\"\",\"\",szkoły!I8)","v":""},null,null,null,null,null,null,null,null,null,null,7]
["",{"$f":"IF(szkoły!G9=\"\",\"\",szkoły!G9)","v":""},{"$f":"IF(szkoły!H9=\"\",\"\",szkoły!H9)","v":""},{"$f":"IF(szkoły!I9=\"\",\"\",szkoły!I9)","v":""},null,null,null,null,null,null,null,null,null,null,8]
["",{"$f":"IF(szkoły!J3=\"\",\"\",szkoły!J3)","v":""},{"$f":"IF(szkoły!K3=\"\",\"\",szkoły!K3)","v":""},{"$f":"IF(szkoły!L3=\"\",\"\",szkoły!L3)","v":""},{"$f":"IF(C27=\"\",\"\",szkoły!K2)","v":""},null,null,null,null,null,null,null,null,null,2]
["",{"$f":"IF(szkoły!J4=\"\",\"\",szkoły!J4)","v":""},{"$f":"IF(szkoły!K4=\"\",\"\",szkoły!K4)","v":""},{"$f":"IF(szkoły!L4=\"\",\"\",szkoły!L4)","v":""},null,null,null,null,null,null,null,null,null,null,3]
["",{"$f":"IF(szkoły!J5=\"\",\"\",szkoły!J5)","v":""},{"$f":"IF(szkoły!K5=\"\",\"\",szkoły!K5)","v":""},{"$f":"IF(szkoły!L5=\"\",\"\",szkoły!L5)","v":""},null,null,null,null,null,null,null,null,null,null,4]
["",{"$f":"IF(szkoły!J6=\"\",\"\",szkoły!J6)","v":""},{"$f":"IF(szkoły!K6=\"\",\"\",szkoły!K6)","v":""},{"$f":"IF(szkoły!L6=\"\",\"\",szkoły!L6)","v":""},null,null,null,null,null,null,null,null,null,null,5]
["",{"$f":"IF(szkoły!J7=\"\",\"\",szkoły!J7)","v":""},{"$f":"IF(szkoły!K7=\"\",\"\",szkoły!K7)","v":""},{"$f":"IF(szkoły!L7=\"\",\"\",szkoły!L7)","v":""},null,null,null,null,null,null,null,null,null,null,6]
["",{"$f":"IF(szkoły!J8=\"\",\"\",szkoły!J8)","v":""},{"$f":"IF(szkoły!K8=\"\",\"\",szkoły!K8)","v":""},{"$f":"IF(szkoły!L8=\"\",\"\",szkoły!L8)","v":""},null,null,null,null,null,null,null,null,null,null,7]
["",{"$f":"IF(szkoły!J9=\"\",\"\",szkoły!J9)","v":""},{"$f":"IF(szkoły!K9=\"\",\"\",szkoły!K9)","v":""},{"$f":"IF(szkoły!L9=\"\",\"\",szkoły!L9)","v":""},null,null,null,null,null,null,null,null,null,null,8]
["Uwagi:",null,null,null,"Rekord Polski","Wyniki",null,null,null,null,null,"Godz. ropocz.",null,{"$f":"N3","v":"10:00:00"}]
[null,null,null,null,null,"Sędzia główny",null,null,null,null,null,"Godz. zakończ."]
[]
[]
["P.Z.L.A",null,"POTOKÓŁ SĘDZIOWSKI",null,null,"Nazwa                                                                           konkurencji:",null,null,null,null,null,"Szczebel                                     eliminacji:",{"$f":"IF('Dane do protokołów'!$B$2=\"\",\"\",'Dane do protokołów'!$B$2)","v":""}]
["Organizator",null,"Nazwa zawodów",null,null,"Nazwa stadionu",null,null,"Miejscowość",null,null,"Data zawodów",null,"Godz. Rozp."]
[{"$f":"IF('Dane do protokołów'!$B$4=\"\",\"\",'Dane do protokołów'!$B$4)","v":""},null,{"$f":"szkoły!$B$1","v":"TRÓJBÓJ LEKKOATLETYCZNY DZIEWCZĘTA"},null,null,{"$f":"IF('Dane do protokołów'!$B$3=\"\",\"\",'Dane do protokołów'!$B$3)","v":""},null,null,{"$f":"IF('Dane do protokołów'!$B$5=\"\",\"\",'Dane do protokołów'!$B$5)","v":""},null,null,{"$f":"IF('Dane do protokołów'!$B$6=\"\",\"\",'Dane do protokołów'!$B$6)","v":"2018-05-08"},null,{"$f":"IF('Dane do protokołów'!$B$7=\"\",\"\",'Dane do protokołów'!$B$7)","v":"10:00:00"}]
["Kolejność","Numer startowy","Imię i nazwisko","Rocznik","Przynależność","Wyniki",null,null,null,null,null,"Wynik oficjalny","Kolejność","Punkty"]
[null,null,null,null,null,1,2,3,4,5,6]
[{"$f":"IF(C43=\"\",\"\",O43)","v":""},{"$f":"IF(szkoły!A11=\"\",\"\",szkoły!A11)","v":""},{"$f":"IF(szkoły!B11=\"\",\"\",szkoły!B11)","v":""},{"$f":"IF(szkoły!C11=\"\",\"\",szkoły!C11)","v":""},{"$f":"IF(C43=\"\",\"\",szkoły!B10)","v":""},null,null,null,null,null,null,null,null,null,2]
[{"$f":"IF(C44=\"\",\"\",O44)","v":""},{"$f":"IF(szkoły!A12=\"\",\"\",szkoły!A12)","v":""},{"$f":"IF(szkoły!B12=\"\",\"\",szkoły!B12)","v":""},{"$f":"IF(szkoły!C12=\"\",\"\",szkoły!C12)","v":""},null,null,null,null,null,null,null,null,null,null,3]
["",{"$f":"IF(szkoły!A13=\"\",\"\",szkoły!A13)","v":""},{"$f":"IF(szkoły!B13=\"\",\"\",szkoły!B13)","v":""},{"$f":"IF(szkoły!C13=\"\",\"\",szkoły!C13)","v":""},null,null,null,null,null,null,null,null,null,null,4]
["",{"$f":"IF(szkoły!A14=\"\",\"\",szkoły!A14)","v":""},{"$f":"IF(szkoły!B14=\"\",\"\",szkoły!B14)","v":""},{"$f":"IF(szkoły!C14=\"\",\"\",szkoły!C14)","v":""},null,null,null,null,null,null,null,null,null,null,5]
["",{"$f":"IF(szkoły!A15=\"\",\"\",szkoły!A15)","v":""},{"$f":"IF(szkoły!B15=\"\",\"\",szkoły!B15)","v":""},{"$f":"IF(szkoły!C15=\"\",\"\",szkoły!C15)","v":""},null,null,null,null,null,null,null,null,null,null,6]
["",{"$f":"IF(szkoły!A16=\"\",\"\",szkoły!A16)","v":""},{"$f":"IF(szkoły!B16=\"\",\"\",szkoły!B16)","v":""},{"$f":"IF(szkoły!C16=\"\",\"\",szkoły!C16)","v":""},null,null,null,null,null,null,null,null,null,null,7]
["",{"$f":"IF(szkoły!A17=\"\",\"\",szkoły!A17)","v":""},{"$f":"IF(szkoły!B17=\"\",\"\",szkoły!B17)","v":""},{"$f":"IF(szkoły!C17=\"\",\"\",szkoły!C17)","v":""},null,null,null,null,null,null,null,null,null,null,8]
["",{"$f":"IF(szkoły!D11=\"\",\"\",szkoły!D11)","v":""},{"$f":"IF(szkoły!E11=\"\",\"\",szkoły!E11)","v":""},{"$f":"IF(szkoły!F11=\"\",\"\",szkoły!F11)","v":""},{"$f":"IF(C50=\"\",\"\",szkoły!E10)","v":""},null,null,null,null,null,null,null,null,null,2]
["",{"$f":"IF(szkoły!D12=\"\",\"\",szkoły!D12)","v":""},{"$f":"IF(szkoły!E12=\"\",\"\",szkoły!E12)","v":""},{"$f":"IF(szkoły!F12=\"\",\"\",szkoły!F12)","v":""},null,null,null,null,null,null,null,null,null,null,3]
["",{"$f":"IF(szkoły!D13=\"\",\"\",szkoły!D13)","v":""},{"$f":"IF(szkoły!E13=\"\",\"\",szkoły!E13)","v":""},{"$f":"IF(szkoły!F13=\"\",\"\",szkoły!F13)","v":""},null,null,null,null,null,null,null,null,null,null,4]
["",{"$f":"IF(szkoły!D14=\"\",\"\",szkoły!D14)","v":""},{"$f":"IF(szkoły!E14=\"\",\"\",szkoły!E14)","v":""},{"$f":"IF(szkoły!F14=\"\",\"\",szkoły!F14)","v":""},null,null,null,null,null,null,null,null,null,null,5]
["",{"$f":"IF(szkoły!D15=\"\",\"\",szkoły!D15)","v":""},{"$f":"IF(szkoły!E15=\"\",\"\",szkoły!E15)","v":""},{"$f":"IF(szkoły!F15=\"\",\"\",szkoły!F15)","v":""},null,null,null,null,null,null,null,null,null,null,6]
["",{"$f":"IF(szkoły!D16=\"\",\"\",szkoły!D16)","v":""},{"$f":"IF(szkoły!E16=\"\",\"\",szkoły!E16)","v":""},{"$f":"IF(szkoły!F16=\"\",\"\",szkoły!F16)","v":""},null,null,null,null,null,null,null,null,null,null,7]
["",{"$f":"IF(szkoły!D17=\"\",\"\",szkoły!D17)","v":""},{"$f":"IF(szkoły!E17=\"\",\"\",szkoły!E17)","v":""},{"$f":"IF(szkoły!F17=\"\",\"\",szkoły!F17)","v":""},null,null,null,null,null,null,null,null,null,null,8]
["",{"$f":"IF(szkoły!G11=\"\",\"\",szkoły!G11)","v":""},{"$f":"IF(szkoły!H11=\"\",\"\",szkoły!H11)","v":""},{"$f":"IF(szkoły!I11=\"\",\"\",szkoły!I11)","v":""},{"$f":"IF(C57=\"\",\"\",szkoły!H10)","v":""},null,null,null,null,null,null,null,null,null,2]
["",{"$f":"IF(szkoły!G12=\"\",\"\",szkoły!G12)","v":""},{"$f":"IF(szkoły!H12=\"\",\"\",szkoły!H12)","v":""},{"$f":"IF(szkoły!I12=\"\",\"\",szkoły!I12)","v":""},null,null,null,null,null,null,null,null,null,null,3]
["",{"$f":"IF(szkoły!G13=\"\",\"\",szkoły!G13)","v":""},{"$f":"IF(szkoły!H13=\"\",\"\",szkoły!H13)","v":""},{"$f":"IF(szkoły!I13=\"\",\"\",szkoły!I13)","v":""},null,null,null,null,null,null,null,null,null,null,4]
["",{"$f":"IF(szkoły!G14=\"\",\"\",szkoły!G14)","v":""},{"$f":"IF(szkoły!H14=\"\",\"\",szkoły!H14)","v":""},{"$f":"IF(szkoły!I14=\"\",\"\",szkoły!I14)","v":""},null,null,null,null,null,null,null,null,null,null,5]
["",{"$f":"IF(szkoły!G15=\"\",\"\",szkoły!G15)","v":""},{"$f":"IF(szkoły!H15=\"\",\"\",szkoły!H15)","v":""},{"$f":"IF(szkoły!I15=\"\",\"\",szkoły!I15)","v":""},null,null,null,null,null,null,null,null,null,null,6]
["",{"$f":"IF(szkoły!G16=\"\",\"\",szkoły!G16)","v":""},{"$f":"IF(szkoły!H16=\"\",\"\",szkoły!H16)","v":""},{"$f":"IF(szkoły!I16=\"\",\"\",szkoły!I16)","v":""},null,null,null,null,null,null,null,null,null,null,7]
["",{"$f":"IF(szkoły!G17=\"\",\"\",szkoły!G17)","v":""},{"$f":"IF(szkoły!H17=\"\",\"\",szkoły!H17)","v":""},{"$f":"IF(szkoły!I17=\"\",\"\",szkoły!I17)","v":""},null,null,null,null,null,null,null,null,null,null,8]
["",{"$f":"IF(szkoły!J11=\"\",\"\",szkoły!J11)","v":""},{"$f":"IF(szkoły!K11=\"\",\"\",szkoły!K11)","v":""},{"$f":"IF(szkoły!L11=\"\",\"\",szkoły!L11)","v":""},{"$f":"IF(C64=\"\",\"\",szkoły!K10)","v":""},null,null,null,null,null,null,null,null,null,2]
["",{"$f":"IF(szkoły!J12=\"\",\"\",szkoły!J12)","v":""},{"$f":"IF(szkoły!K12=\"\",\"\",szkoły!K12)","v":""},{"$f":"IF(szkoły!L12=\"\",\"\",szkoły!L12)","v":""},null,null,null,null,null,null,null,null,null,null,3]
["",{"$f":"IF(szkoły!J13=\"\",\"\",szkoły!J13)","v":""},{"$f":"IF(szkoły!K13=\"\",\"\",szkoły!K13)","v":""},{"$f":"IF(szkoły!L13=\"\",\"\",szkoły!L13)","v":""},null,null,null,null,null,null,null,null,null,null,4]
["",{"$f":"IF(szkoły!J14=\"\",\"\",szkoły!J14)","v":""},{"$f":"IF(szkoły!K14=\"\",\"\",szkoły!K14)","v":""},{"$f":"IF(szkoły!L14=\"\",\"\",szkoły!L14)","v":""},null,null,null,null,null,null,null,null,null,null,5]
["",{"$f":"IF(szkoły!J15=\"\",\"\",szkoły!J15)","v":""},{"$f":"IF(szkoły!K15=\"\",\"\",szkoły!K15)","v":""},{"$f":"IF(szkoły!L15=\"\",\"\",szkoły!L15)","v":""},null,null,null,null,null,null,null,null,null,null,6]
["",{"$f":"IF(szkoły!J16=\"\",\"\",szkoły!J16)","v":""},{"$f":"IF(szkoły!K16=\"\",\"\",szkoły!K16)","v":""},{"$f":"IF(szkoły!L16=\"\",\"\",szkoły!L16)","v":""},null,null,null,null,null,null,null,null,null,null,7]
["",{"$f":"IF(szkoły!J17=\"\",\"\",szkoły!J17)","v":""},{"$f":"IF(szkoły!K17=\"\",\"\",szkoły!K17)","v":""},{"$f":"IF(szkoły!L17=\"\",\"\",szkoły!L17)","v":""},null,null,null,null,null,null,null,null,null,null,8]
["Uwagi:",null,null,null,"Rekord Polski","Wyniki",null,null,null,null,null,"Godz. ropocz.",null,{"$f":"N40","v":"10:00:00"}]
[null,null,null,null,null,"Sędzia główny",null,null,null,null,null,"Godz. zakończ."]
[]
[]
["P.Z.L.A",null,"POTOKÓŁ SĘDZIOWSKI",null,null,"Nazwa                                                                           konkurencji:",null,null,null,null,null,"Szczebel                                     eliminacji:",{"$f":"IF('Dane do protokołów'!$B$2=\"\",\"\",'Dane do protokołów'!$B$2)","v":""}]
["Organizator",null,"Nazwa zawodów",null,null,"Nazwa stadionu",null,null,"Miejscowość",null,null,"Data zawodów",null,"Godz. Rozp."]
[{"$f":"IF('Dane do protokołów'!$B$4=\"\",\"\",'Dane do protokołów'!$B$4)","v":""},null,{"$f":"szkoły!$B$1","v":"TRÓJBÓJ LEKKOATLETYCZNY DZIEWCZĘTA"},null,null,{"$f":"IF('Dane do protokołów'!$B$3=\"\",\"\",'Dane do protokołów'!$B$3)","v":""},null,null,{"$f":"IF('Dane do protokołów'!$B$5=\"\",\"\",'Dane do protokołów'!$B$5)","v":""},null,null,{"$f":"IF('Dane do protokołów'!$B$6=\"\",\"\",'Dane do protokołów'!$B$6)","v":"2018-05-08"},null,{"$f":"IF('Dane do protokołów'!$B$7=\"\",\"\",'Dane do protokołów'!$B$7)","v":"10:00:00"}]
["Kolejność","Numer startowy","Imię i nazwisko","Rocznik","Przynależność","Wyniki",null,null,null,null,null,"Wynik oficjalny","Kolejność","Punkty"]
[null,null,null,null,null,1,2,3,4,5,6]
[{"$f":"IF(C80=\"\",\"\",O80)","v":""},{"$f":"IF(szkoły!A19=\"\",\"\",szkoły!A19)","v":""},{"$f":"IF(szkoły!B19=\"\",\"\",szkoły!B19)","v":""},{"$f":"IF(szkoły!C19=\"\",\"\",szkoły!C19)","v":""},{"$f":"IF(C80=\"\",\"\",szkoły!B18)","v":""},null,null,null,null,null,null,null,null,null,2]
[{"$f":"IF(C81=\"\",\"\",O81)","v":""},{"$f":"IF(szkoły!A20=\"\",\"\",szkoły!A20)","v":""},{"$f":"IF(szkoły!B20=\"\",\"\",szkoły!B20)","v":""},{"$f":"IF(szkoły!C20=\"\",\"\",szkoły!C20)","v":""},null,null,null,null,null,null,null,null,null,null,3]
["",{"$f":"IF(szkoły!A21=\"\",\"\",szkoły!A21)","v":""},{"$f":"IF(szkoły!B21=\"\",\"\",szkoły!B21)","v":""},{"$f":"IF(szkoły!C21=\"\",\"\",szkoły!C21)","v":""},null,null,null,null,null,null,null,null,null,null,4]
["",{"$f":"IF(szkoły!A22=\"\",\"\",szkoły!A22)","v":""},{"$f":"IF(szkoły!B22=\"\",\"\",szkoły!B22)","v":""},{"$f":"IF(szkoły!C22=\"\",\"\",szkoły!C22)","v":""},null,null,null,null,null,null,null,null,null,null,5]
["",{"$f":"IF(szkoły!A23=\"\",\"\",szkoły!A23)","v":""},{"$f":"IF(szkoły!B23=\"\",\"\",szkoły!B23)","v":""},{"$f":"IF(szkoły!C23=\"\",\"\",szkoły!C23)","v":""},null,null,null,null,null,null,null,null,null,null,6]
["",{"$f":"IF(szkoły!A24=\"\",\"\",szkoły!A24)","v":""},{"$f":"IF(szkoły!B24=\"\",\"\",szkoły!B24)","v":""},{"$f":"IF(szkoły!C24=\"\",\"\",szkoły!C24)","v":""},null,null,null,null,null,null,null,null,null,null,7]
["",{"$f":"IF(szkoły!A25=\"\",\"\",szkoły!A25)","v":""},{"$f":"IF(szkoły!B25=\"\",\"\",szkoły!B25)","v":""},{"$f":"IF(szkoły!C25=\"\",\"\",szkoły!C25)","v":""},null,null,null,null,null,null,null,null,null,null,8]
["",{"$f":"IF(szkoły!D19=\"\",\"\",szkoły!D19)","v":""},{"$f":"IF(szkoły!E19=\"\",\"\",szkoły!E19)","v":""},{"$f":"IF(szkoły!F19=\"\",\"\",szkoły!F19)","v":""},{"$f":"IF(C87=\"\",\"\",szkoły!E18)","v":""},null,null,null,null,null,null,null,null,null,2]
["",{"$f":"IF(szkoły!D20=\"\",\"\",szkoły!D20)","v":""},{"$f":"IF(szkoły!E20=\"\",\"\",szkoły!E20)","v":""},{"$f":"IF(szkoły!F20=\"\",\"\",szkoły!F20)","v":""},null,null,null,null,null,null,null,null,null,null,3]
["",{"$f":"IF(szkoły!D21=\"\",\"\",szkoły!D21)","v":""},{"$f":"IF(szkoły!E21=\"\",\"\",szkoły!E21)","v":""},{"$f":"IF(szkoły!F21=\"\",\"\",szkoły!F21)","v":""},null,null,null,null,null,null,null,null,null,null,4]
["",{"$f":"IF(szkoły!D22=\"\",\"\",szkoły!D22)","v":""},{"$f":"IF(szkoły!E22=\"\",\"\",szkoły!E22)","v":""},{"$f":"IF(szkoły!F22=\"\",\"\",szkoły!F22)","v":""},null,null,null,null,null,null,null,null,null,null,5]
["",{"$f":"IF(szkoły!D23=\"\",\"\",szkoły!D23)","v":""},{"$f":"IF(szkoły!E23=\"\",\"\",szkoły!E23)","v":""},{"$f":"IF(szkoły!F23=\"\",\"\",szkoły!F23)","v":""},null,null,null,null,null,null,null,null,null,null,6]
["",{"$f":"IF(szkoły!D24=\"\",\"\",szkoły!D24)","v":""},{"$f":"IF(szkoły!E24=\"\",\"\",szkoły!E24)","v":""},{"$f":"IF(szkoły!F24=\"\",\"\",szkoły!F24)","v":""},null,null,null,null,null,null,null,null,null,null,7]
["",{"$f":"IF(szkoły!D25=\"\",\"\",szkoły!D25)","v":""},{"$f":"IF(szkoły!E25=\"\",\"\",szkoły!E25)","v":""},{"$f":"IF(szkoły!F25=\"\",\"\",szkoły!F25)","v":""},null,null,null,null,null,null,null,null,null,null,8]
["",{"$f":"IF(szkoły!G19=\"\",\"\",szkoły!G19)","v":""},{"$f":"IF(szkoły!H19=\"\",\"\",szkoły!H19)","v":""},{"$f":"IF(szkoły!I19=\"\",\"\",szkoły!I19)","v":""},{"$f":"IF(C94=\"\",\"\",szkoły!H18)","v":""},null,null,null,null,null,null,null,null,null,2]
["",{"$f":"IF(szkoły!G20=\"\",\"\",szkoły!G20)","v":""},{"$f":"IF(szkoły!H20=\"\",\"\",szkoły!H20)","v":""},{"$f":"IF(szkoły!I20=\"\",\"\",szkoły!I20)","v":""},null,null,null,null,null,null,null,null,null,null,3]
["",{"$f":"IF(szkoły!G21=\"\",\"\",szkoły!G21)","v":""},{"$f":"IF(szkoły!H21=\"\",\"\",szkoły!H21)","v":""},{"$f":"IF(szkoły!I21=\"\",\"\",szkoły!I21)","v":""},null,null,null,null,null,null,null,null,null,null,4]
["",{"$f":"IF(szkoły!G22=\"\",\"\",szkoły!G22)","v":""},{"$f":"IF(szkoły!H22=\"\",\"\",szkoły!H22)","v":""},{"$f":"IF(szkoły!I22=\"\",\"\",szkoły!I22)","v":""},null,null,null,null,null,null,null,null,null,null,5]
["",{"$f":"IF(szkoły!G23=\"\",\"\",szkoły!G23)","v":""},{"$f":"IF(szkoły!H23=\"\",\"\",szkoły!H23)","v":""},{"$f":"IF(szkoły!I23=\"\",\"\",szkoły!I23)","v":""},null,null,null,null,null,null,null,null,null,null,6]
["",{"$f":"IF(szkoły!G24=\"\",\"\",szkoły!G24)","v":""},{"$f":"IF(szkoły!H24=\"\",\"\",szkoły!H24)","v":""},{"$f":"IF(szkoły!I24=\"\",\"\",szkoły!I24)","v":""},null,null,null,null,null,null,null,null,null,null,7]
["",{"$f":"IF(szkoły!G25=\"\",\"\",szkoły!G25)","v":""},{"$f":"IF(szkoły!H25=\"\",\"\",szkoły!H25)","v":""},{"$f":"IF(szkoły!I25=\"\",\"\",szkoły!I25)","v":""},null,null,null,null,null,null,null,null,null,null,8]
["",{"$f":"IF(szkoły!J19=\"\",\"\",szkoły!J19)","v":""},{"$f":"IF(szkoły!K19=\"\",\"\",szkoły!K19)","v":""},{"$f":"IF(szkoły!L19=\"\",\"\",szkoły!L19)","v":""},{"$f":"IF(C101=\"\",\"\",szkoły!K18)","v":""},null,null,null,null,null,null,null,null,null,2]
["",{"$f":"IF(szkoły!J20=\"\",\"\",szkoły!J20)","v":""},{"$f":"IF(szkoły!K20=\"\",\"\",szkoły!K20)","v":""},{"$f":"IF(szkoły!L20=\"\",\"\",szkoły!L20)","v":""},null,null,null,null,null,null,null,null,null,null,3]
["",{"$f":"IF(szkoły!J21=\"\",\"\",szkoły!J21)","v":""},{"$f":"IF(szkoły!K21=\"\",\"\",szkoły!K21)","v":""},{"$f":"IF(szkoły!L21=\"\",\"\",szkoły!L21)","v":""},null,null,null,null,null,null,null,null,null,null,4]
["",{"$f":"IF(szkoły!J22=\"\",\"\",szkoły!J22)","v":""},{"$f":"IF(szkoły!K22=\"\",\"\",szkoły!K22)","v":""},{"$f":"IF(szkoły!L22=\"\",\"\",szkoły!L22)","v":""},null,null,null,null,null,null,null,null,null,null,5]
["",{"$f":"IF(szkoły!J23=\"\",\"\",szkoły!J23)","v":""},{"$f":"IF(szkoły!K23=\"\",\"\",szkoły!K23)","v":""},{"$f":"IF(szkoły!L23=\"\",\"\",szkoły!L23)","v":""},null,null,null,null,null,null,null,null,null,null,6]
["",{"$f":"IF(szkoły!J24=\"\",\"\",szkoły!J24)","v":""},{"$f":"IF(szkoły!K24=\"\",\"\",szkoły!K24)","v":""},{"$f":"IF(szkoły!L24=\"\",\"\",szkoły!L24)","v":""},null,null,null,null,null,null,null,null,null,null,7]
["",{"$f":"IF(szkoły!J25=\"\",\"\",szkoły!J25)","v":""},{"$f":"IF(szkoły!K25=\"\",\"\",szkoły!K25)","v":""},{"$f":"IF(szkoły!L25=\"\",\"\",szkoły!L25)","v":""},null,null,null,null,null,null,null,null,null,null,8]
["Uwagi:",null,null,null,"Rekord Polski","Wyniki",null,null,null,null,null,"Godz. ropocz.",null,{"$f":"N77","v":"10:00:00"}]
[null,null,null,null,null,"Sędzia główny",null,null,null,null,null,"Godz. zakończ."]
[]
[]
["P.Z.L.A",null,"POTOKÓŁ SĘDZIOWSKI",null,null,"Nazwa                                                                           konkurencji:",null,null,null,null,null,"Szczebel                                     eliminacji:",{"$f":"IF('Dane do protokołów'!$B$2=\"\",\"\",'Dane do protokołów'!$B$2)","v":""}]
["Organizator",null,"Nazwa zawodów",null,null,"Nazwa stadionu",null,null,"Miejscowość",null,null,"Data zawodów",null,"Godz. Rozp."]
[{"$f":"IF('Dane do protokołów'!$B$4=\"\",\"\",'Dane do protokołów'!$B$4)","v":""},null,{"$f":"szkoły!$B$1","v":"TRÓJBÓJ LEKKOATLETYCZNY DZIEWCZĘTA"},null,null,{"$f":"IF('Dane do protokołów'!$B$3=\"\",\"\",'Dane do protokołów'!$B$3)","v":""},null,null,{"$f":"IF('Dane do protokołów'!$B$5=\"\",\"\",'Dane do protokołów'!$B$5)","v":""},null,null,{"$f":"IF('Dane do protokołów'!$B$6=\"\",\"\",'Dane do protokołów'!$B$6)","v":43228},null,{"$f":"IF('Dane do protokołów'!$B$7=\"\",\"\",'Dane do protokołów'!$B$7)","v":"10:00:00"}]
["Kolejność","Numer startowy","Imię i nazwisko","Rocznik","Przynależność","Wyniki",null,null,null,null,null,"Wynik oficjalny","Kolejność","Punkty"]
[null,null,null,null,null,1,2,3,4,5,6]
[{"$f":"IF(C117=\"\",\"\",O117)","v":""},{"$f":"IF(szkoły!A27=\"\",\"\",szkoły!A27)","v":""},{"$f":"IF(szkoły!B27=\"\",\"\",szkoły!B27)","v":""},{"$f":"IF(szkoły!C27=\"\",\"\",szkoły!C27)","v":""},{"$f":"IF(C117=\"\",\"\",szkoły!B26)","v":""},null,null,null,null,null,null,null,null,null,2]
[{"$f":"IF(C118=\"\",\"\",O118)","v":""},{"$f":"IF(szkoły!A28=\"\",\"\",szkoły!A28)","v":""},{"$f":"IF(szkoły!B28=\"\",\"\",szkoły!B28)","v":""},{"$f":"IF(szkoły!C28=\"\",\"\",szkoły!C28)","v":""},null,null,null,null,null,null,null,null,null,null,3]
["",{"$f":"IF(szkoły!A29=\"\",\"\",szkoły!A29)","v":""},{"$f":"IF(szkoły!B29=\"\",\"\",szkoły!B29)","v":""},{"$f":"IF(szkoły!C29=\"\",\"\",szkoły!C29)","v":""},null,null,null,null,null,null,null,null,null,null,4]
["",{"$f":"IF(szkoły!A30=\"\",\"\",szkoły!A30)","v":""},{"$f":"IF(szkoły!B30=\"\",\"\",szkoły!B30)","v":""},{"$f":"IF(szkoły!C30=\"\",\"\",szkoły!C30)","v":""},null,null,null,null,null,null,null,null,null,null,5]
["",{"$f":"IF(szkoły!A31=\"\",\"\",szkoły!A31)","v":""},{"$f":"IF(szkoły!B31=\"\",\"\",szkoły!B31)","v":""},{"$f":"IF(szkoły!C31=\"\",\"\",szkoły!C31)","v":""},null,null,null,null,null,null,null,null,null,null,6]
["",{"$f":"IF(szkoły!A32=\"\",\"\",szkoły!A32)","v":""},{"$f":"IF(szkoły!B32=\"\",\"\",szkoły!B32)","v":""},{"$f":"IF(szkoły!C32=\"\",\"\",szkoły!C32)","v":""},null,null,null,null,null,null,null,null,null,null,7]
["",{"$f":"IF(szkoły!A33=\"\",\"\",szkoły!A33)","v":""},{"$f":"IF(szkoły!B33=\"\",\"\",szkoły!B33)","v":""},{"$f":"IF(szkoły!C33=\"\",\"\",szkoły!C33)","v":""},null,null,null,null,null,null,null,null,null,null,8]
["",{"$f":"IF(szkoły!D27=\"\",\"\",szkoły!D27)","v":""},{"$f":"IF(szkoły!E27=\"\",\"\",szkoły!E27)","v":""},{"$f":"IF(szkoły!F27=\"\",\"\",szkoły!F27)","v":""},{"$f":"IF(C124=\"\",\"\",szkoły!E26)","v":""},null,null,null,null,null,null,null,null,null,2]
["",{"$f":"IF(szkoły!D28=\"\",\"\",szkoły!D28)","v":""},{"$f":"IF(szkoły!E28=\"\",\"\",szkoły!E28)","v":""},{"$f":"IF(szkoły!F28=\"\",\"\",szkoły!F28)","v":""},null,null,null,null,null,null,null,null,null,null,3]
["",{"$f":"IF(szkoły!D29=\"\",\"\",szkoły!D29)","v":""},{"$f":"IF(szkoły!E29=\"\",\"\",szkoły!E29)","v":""},{"$f":"IF(szkoły!F29=\"\",\"\",szkoły!F29)","v":""},null,null,null,null,null,null,null,null,null,null,4]
["",{"$f":"IF(szkoły!D30=\"\",\"\",szkoły!D30)","v":""},{"$f":"IF(szkoły!E30=\"\",\"\",szkoły!E30)","v":""},{"$f":"IF(szkoły!F30=\"\",\"\",szkoły!F30)","v":""},null,null,null,null,null,null,null,null,null,null,5]
["",{"$f":"IF(szkoły!D31=\"\",\"\",szkoły!D31)","v":""},{"$f":"IF(szkoły!E31=\"\",\"\",szkoły!E31)","v":""},{"$f":"IF(szkoły!F31=\"\",\"\",szkoły!F31)","v":""},null,null,null,null,null,null,null,null,null,null,6]
["",{"$f":"IF(szkoły!D32=\"\",\"\",szkoły!D32)","v":""},{"$f":"IF(szkoły!E32=\"\",\"\",szkoły!E32)","v":""},{"$f":"IF(szkoły!F32=\"\",\"\",szkoły!F32)","v":""},null,null,null,null,null,null,null,null,null,null,7]
["",{"$f":"IF(szkoły!D33=\"\",\"\",szkoły!D33)","v":""},{"$f":"IF(szkoły!E33=\"\",\"\",szkoły!E33)","v":""},{"$f":"IF(szkoły!F33=\"\",\"\",szkoły!F33)","v":""},null,null,null,null,null,null,null,null,null,null,8]
["",{"$f":"IF(szkoły!G27=\"\",\"\",szkoły!G27)","v":""},{"$f":"IF(szkoły!H27=\"\",\"\",szkoły!H27)","v":""},{"$f":"IF(szkoły!I27=\"\",\"\",szkoły!I27)","v":""},{"$f":"IF(C124=\"\",\"\",szkoły!H26)","v":""},null,null,null,null,null,null,null,null,null,2]
["",{"$f":"IF(szkoły!G28=\"\",\"\",szkoły!G28)","v":""},{"$f":"IF(szkoły!H28=\"\",\"\",szkoły!H28)","v":""},{"$f":"IF(szkoły!I28=\"\",\"\",szkoły!I28)","v":""},null,null,null,null,null,null,null,null,null,null,3]
["",{"$f":"IF(szkoły!G29=\"\",\"\",szkoły!G29)","v":""},{"$f":"IF(szkoły!H29=\"\",\"\",szkoły!H29)","v":""},{"$f":"IF(szkoły!I29=\"\",\"\",szkoły!I29)","v":""},null,null,null,null,null,null,null,null,null,null,4]
["",{"$f":"IF(szkoły!G30=\"\",\"\",szkoły!G30)","v":""},{"$f":"IF(szkoły!H30=\"\",\"\",szkoły!H30)","v":""},{"$f":"IF(szkoły!I30=\"\",\"\",szkoły!I30)","v":""},null,null,null,null,null,null,null,null,null,null,5]
["",{"$f":"IF(szkoły!G31=\"\",\"\",szkoły!G31)","v":""},{"$f":"IF(szkoły!H31=\"\",\"\",szkoły!H31)","v":""},{"$f":"IF(szkoły!I31=\"\",\"\",szkoły!I31)","v":""},null,null,null,null,null,null,null,null,null,null,6]
["",{"$f":"IF(szkoły!G32=\"\",\"\",szkoły!G32)","v":""},{"$f":"IF(szkoły!H32=\"\",\"\",szkoły!H32)","v":""},{"$f":"IF(szkoły!I32=\"\",\"\",szkoły!I32)","v":""},null,null,null,null,null,null,null,null,null,null,7]
["",{"$f":"IF(szkoły!G33=\"\",\"\",szkoły!G33)","v":""},{"$f":"IF(szkoły!H33=\"\",\"\",szkoły!H33)","v":""},{"$f":"IF(szkoły!I33=\"\",\"\",szkoły!I33)","v":""},null,null,null,null,null,null,null,null,null,null,8]
["",{"$f":"IF(szkoły!J27=\"\",\"\",szkoły!J27)","v":""},{"$f":"IF(szkoły!K27=\"\",\"\",szkoły!K27)","v":""},{"$f":"IF(szkoły!L27=\"\",\"\",szkoły!L27)","v":""},{"$f":"IF(C138=\"\",\"\",szkoły!K26)","v":""},null,null,null,null,null,null,null,null,null,2]
["",{"$f":"IF(szkoły!J28=\"\",\"\",szkoły!J28)","v":""},{"$f":"IF(szkoły!K28=\"\",\"\",szkoły!K28)","v":""},{"$f":"IF(szkoły!L28=\"\",\"\",szkoły!L28)","v":""},null,null,null,null,null,null,null,null,null,null,3]
["",{"$f":"IF(szkoły!J29=\"\",\"\",szkoły!J29)","v":""},{"$f":"IF(szkoły!K29=\"\",\"\",szkoły!K29)","v":""},{"$f":"IF(szkoły!L29=\"\",\"\",szkoły!L29)","v":""},null,null,null,null,null,null,null,null,null,null,4]
["",{"$f":"IF(szkoły!J30=\"\",\"\",szkoły!J30)","v":""},{"$f":"IF(szkoły!K30=\"\",\"\",szkoły!K30)","v":""},{"$f":"IF(szkoły!L30=\"\",\"\",szkoły!L30)","v":""},null,null,null,null,null,null,null,null,null,null,5]
["",{"$f":"IF(szkoły!J31=\"\",\"\",szkoły!J31)","v":""},{"$f":"IF(szkoły!K31=\"\",\"\",szkoły!K31)","v":""},{"$f":"IF(szkoły!L31=\"\",\"\",szkoły!L31)","v":""},null,null,null,null,null,null,null,null,null,null,6]
["",{"$f":"IF(szkoły!J32=\"\",\"\",szkoły!J32)","v":""},{"$f":"IF(szkoły!K32=\"\",\"\",szkoły!K32)","v":""},{"$f":"IF(szkoły!L32=\"\",\"\",szkoły!L32)","v":""},null,null,null,null,null,null,null,null,null,null,7]
["",{"$f":"IF(szkoły!J33=\"\",\"\",szkoły!J33)","v":""},{"$f":"IF(szkoły!K33=\"\",\"\",szkoły!K33)","v":""},{"$f":"IF(szkoły!L33=\"\",\"\",szkoły!L33)","v":""},null,null,null,null,null,null,null,null,null,null,8]
["Uwagi:",null,null,null,"Rekord Polski","Wyniki",null,null,null,null,null,"Godz. ropocz.",null,{"$f":"N114","v":"10:00:00"}]
[null,null,null,null,null,"Sędzia główny",null,null,null,null,null,"Godz. zakończ."]

{"sheet":"Dane do protokołów","index":15,"n_rows":7,"n_cols":2,"rows_kept":7,"cut":false,"hidden":false,"merged":[]}
[]
["Sczebel eliminacji"]
["Nazwa Stadionu"]
["Organizator"]
["Miejscowość"]
["Data","2018-05-08"]
["Godz. Rozp.","10:00:00"]

{"sheet":"Arkusz1","index":16,"n_rows":0,"n_cols":0,"rows_kept":0,"cut":false,"hidden":false,"merged":[]}